Workbook
Name _Toc207009507: '1B - Desktop & IoT'!$A$1
Name _Toc207009508: '1C - SANParks Owned Equipment'!$A$1
Name NewSelect: #REF!

Sheet 1A - Abbreviations
A1: Annexure 1A - Abbreviations
A2: Abbreviation | B2: Description
A3: 3G | B3: Third Generation of Wireless mobile telecommunications – used in this document to include all data communication via mobile networks irrespective of the generation, ranging from initial GSM / Edge (2.5G) through to current LTE and higher data capacities
A4: AD | B4: Active Directory
A5: ADSL | B5: Asynchronous Digital Subscriber Line
A6: AENP | B6: Addo Elephant National Park
A7: APN | B7: Access Point Name
A8: BCM | B8: Business Continuity Management
A9: BCP | B9: Business Continuity Plan
A10: BVC | B10: Buffelsfontein Visitors Centre
A11: CCIE | B11: Cisco Certified Internetwork Expert
A12: CCSP | B12: Cisco Certified Security Professional
A13: CentOS | B13: Community Enterprise Operating System
... A132: WCNP | B132: West Coast National Park

Sheet 1B - Desktop & IoT
A1: Annexure 1B – Desktop Information / IoT Devices
A3: Desktop/Laptops Computers | B3: Number
A4: Operating Systems | B4: Count
A5: Windows 10 | B5: 1588
A6: Windows 8 | B6: 287
A7: Windows 7 | B7: 105
A8: Total | B8: =SUM(B5:B7) -> 1980 | D8: =Table7[[#This Row],[Number]] -> 1980 | E8: Note: This figure is used for Patch Management License calculation.
A11: Total number of devices (Switches, IOT (webcams, printers, phones, etc) | B11: Number
A12: Fuction | B12: No. of Hosts
A13: Accessory | B13: 2
A14: Environment Monitoring | B14: 1
A15: Facilities | B15: 1
A16: Firewall | B16: 33
A17: IP Camera | B17: 35
A18: IP Phone | B18: 2
A19: Industrial Control System | B19: 3
A20: Industrial Technology | B20: 795
A21: Mobile | B21: 5
A22: NAT | B22: 7
A23: Network Access Control | B23: 2
A24: NetworkAttached Storage | B24: 2
... A40: Wireless Router | B40: 138
A41: Total Devices: | B41: =SUM(B13:B40) -> 3945
A44: Microsoft Licenses
A45: MS Office | B45: Count
A46: Office 365 E5 | B46: 2500
A48: Office Project | B48: 31
A49: Office Visio | B49: 12

Sheet 1C - SANParks Owned Equipment
A1: Annexure 1C – SAN Parks Owned Servers and Services
A3: Note: SANParks has a Microsoft Enterprise Agreement in place which covers the Windows Server O/S Requirements as well as any Application License requirements such as SQL/Great Plains
A5: Databases, (Roomseeker Related)
A6: Database Product Name | B6: Member Count | C6: Members Visible on Site
A7: MS SQL Server 2014 | B7: 12 | C7: 12
A8: MS SQL Server 2012 | B8: 31 | C8: 31
A9: MS SQL Server 2008 | B9: 53 | C9: 53
A10: MS SQL Server 2016 | B10: 3 | C10: 3
A11: MySQL | B11: 4 | C11: 4
G12: Total VM's
A13: Teraco Server Cabinet VM's | G13: =COUNTA(D15:D87) -> 73 | H13: Note: This figure is used for Patch Management License calculation.
A14: VMName | B14: Function | C14: Development / Production | D14: Location | E14: E
A15: SGVOBIDEV01 | B15: BI | C15: Development | D15: SANParks Hardware / HyperV Cluster
A16: SGVOBIDEV02 | B16: BI | C16: Development | D16: SANParks Hardware / HyperV Cluster
A17: SSVBDA360 | B17: Biztalk | C17: Development | D17: SANParks Hardware / HyperV Cluster
A18: SSVBTA355 | B18: Biztalk | C18: Development | D18: SANParks Hardware / HyperV Cluster
A19: SSVBTA356 | B19: Biztalk | C19: Development | D19: SANParks Hardware / HyperV Cluster
A20: SSVBTS357 | B20: Biztalk | C20: Development | D20: SANParks Hardware / HyperV Cluster
A21: SSVBTS358 | B21: Biztalk | C21: Development | D21: SANParks Hardware / HyperV Cluster
A22: SGVCRMDEV01 | B22: CRM | C22: Development | D22: SANParks Hardware / HyperV Cluster
A23: SGVCRMUAT01 | B23: CRM | C23: Development | D23: SANParks Hardware / HyperV Cluster
A24: SGVECMDEV01 | B24: ECM Dev | C24: Development | D24: SANParks Hardware / HyperV Cluster
A25: SGVECMDEV02 | B25: ECM Dev | C25: Development | D25: SANParks Hardware / HyperV Cluster
A26: SGVECMDEV03 | B26: ECM Dev | C26: Development | D26: SANParks Hardware / HyperV Cluster
... A87: SGVDOMDEV01 | B87: WEB | C87: Production | D87: VMWARE ESXI Host
A90: For the 'Pay as you Use' Development Environment specified, the following table shows the average requirements to be used for costing purposes
A91: Name | B91: OperatingSystem | C91: Environment | D91: CPU_Count | E91: TotalMemory(GB) | F91: A: | G91: B: | H91: C: | I91: D: | J91: E: | K91: Total Drive Space (GB)
A92: RSTEST231 | B92: Windows Server 2022 Standard | C92: DEV | D92: 2 | E92: 4 | F92: 148.91 | G92: 99.87 | K92: =SUM(F92:J92) -> 248.78
A93: SGVCRMDEV01 | B93: Windows Server 2019 Standard | C93: DEV | D93: 4 | E93: 16 | F93: 149.4 | G93: 199.98 | K93: =SUM(F93:J93) -> 349.38
A94: SGVCRMUAT01 | B94: Windows Server 2019 Standard | C94: DEV | D94: 4 | E94: 12 | F94: 179.4 | G94: 199.98 | H94: 399.98 | K94: =SUM(F94:J94) -> 779.36
A95: SGVDEVSQL01 | B95: Windows Server 2016 Standard | C95: DEV | D95: 8 | E95: 32 | F95: 149.45 | G95: 4.97 | K95: =SUM(F95:J95) -> 154.42
A96: SGVDEVSQL03 | B96: Windows Server 2016 Standard | C96: DEV | D96: 8 | E96: 32 | F96: 126.45 | K96: =SUM(F96:J96) -> 126.45
A97: SGVDMSSQLTEST | B97: Windows Server 2016 Standard | C97: DEV | D97: 8 | E97: 64 | F97: 199.45 | G97: 1900.87 | H97: 126.87 | K97: =SUM(F97:J97) -> 2227.19
A98: SGVDMSTEST01 | B98: Windows Server 2016 Standard | C98: DEV | D98: 8 | E98: 16 | F98: 160.45 | H98: 550.87 | K98: =SUM(F98:J98) -> 711.32
A99: SGVECMDEV01 | B99: Windows Server 2016 Standard | C99: DEV | D99: 2 | E99: 8 | F99: 126.45 | G99: 49.87 | K99: =SUM(F99:J99) -> 176.32
A100: SGVECMDEV02 | B100: Windows Server 2016 Standard | C100: DEV | D100: 4 | E100: 16 | F100: 126.45 | G100: 99.87 | K100: =SUM(F100:J100) -> 226.32
A101: SGVECMDEV03 | B101: Windows Server 2016 Standard | C101: DEV | D101: 4 | E101: 8 | F101: 126.45 | G101: 49.87 | K101: =SUM(F101:J101) -> 176.32
A102: SGVECMDEV04 | B102: Windows Server 2016 Standard | C102: DEV | D102: 2 | E102: 8 | F102: 126.45 | G102: 49.87 | K102: =SUM(F102:J102) -> 176.32
A103: SGVECMDEV05 | B103: Windows Server 2016 Standard | C103: DEV | D103: 2 | E103: 8 | F103: 126.45 | G103: 99.87 | K103: =SUM(F103:J103) -> 226.32
A104: SGVECMDEV06 | B104: Windows Server 2016 Standard | C104: DEV | D104: 8 | E104: 32 | F104: 299.45 | G104: 399.87 | K104: =SUM(F104:J104) -> 699.32
...

Sheet 1D - Private Cloud Pricing
A1: Annexure 1D – Private Cloud Machines and Specs
A3: Note: SANParks has a Microsoft Enterprise Agreement in place which covers the Windows Server O/S Requirements as well as any Application License requirements such as SQL/Great Plains
A5: Name | B5: Provisioned Drive Space (SSD) | C5: Drive Space Cost | D5: Memory Size | E5: Memory Price | F5: CPUs | G5: CPU Cost | H5: Guest OS | I5: Storage/Archiving Costs | J5: D/R License Cost | K5: High Availability Cost
A6: Sanparks-VYOS | B6: 26.48 GB | D6: 8 GB | F6: 2 | H6: CentOS 7 (64-bit)
A7: SDXDC02-2y9P | B7: 186.49 GB | D7: 8 GB | F7: 4 | H7: Microsoft Windows Server 2022 (64-bit)
A8: SGVADFS01-zIvm | B8: 143.28 GB | D8: 4 GB | F8: 2 | H8: Microsoft Windows Server 2012 (64-bit)
A9: SGVADFS02-1tvB | B9: 143.28 GB | D9: 4 GB | F9: 2 | H9: Microsoft Windows Server 2012 (64-bit)
A10: SGVCLOUDF01-c8Ds | B10: 162.91 GB | D10: 16 GB | F10: 4 | H10: Microsoft Windows Server 2022 (64-bit)
A11: SGVCRM01-23May25 | B11: 542.89 GB | D11: 16 GB | F11: 4 | H11: Microsoft Windows Server 2012 (64-bit)
A12: SGVCRM01-a1bg | B12: 543.08 GB | D12: 16 GB | F12: 4 | H12: Microsoft Windows Server 2012 (64-bit)
A13: SGVDBR01-cyIG | B13: 86.49 GB | D13: 8 GB | F13: 4 | H13: Microsoft Windows Server 2012 (64-bit)
A14: SGVDMB01-ADEI | B14: 213.51 GB | D14: 8 GB | F14: 4 | H14: Microsoft Windows Server 2012 (64-bit)
A15: SGVDMS01-hDdE | B15: 325.73 GB | D15: 32 GB | F15: 16 | H15: Microsoft Windows Server 2012 (64-bit)
A16: SGVDMS02-8cS2 | B16: 175.72 GB | D16: 32 GB | F16: 16 | H16: Microsoft Windows Server 2012 (64-bit)
A17: SGVDMS04-bOdl | B17: 225.72 GB | D17: 32 GB | F17: 16 | H17: Microsoft Windows Server 2012 (64-bit)
... A96: SVGAZUREGWDEV01 - Azure On-Premises Data Gateways | B96: 268.89 GB | D96: 16 GB | F96: 4 | H96: Microsoft Windows Server 2022 (64-bit)
A97: Total | K97: =SUBTOTAL(103,Table12[High Availability Cost]) -> 0
A100: Total Monthly Cost | C100: =SUM(C6:C96) -> 0 | E100: =SUM(E6:E96) -> 0 | G100: =SUM(G6:G96) -> 0 | I100: =SUM(I6:I96) -> 0 | J100: =SUM(J6:J96) -> 0 | K100: =SUM(K6:K96) -> 0
A102: Total VM's requiring Patch Management Licenses | B102: =COUNTA(Table12[Name]) -> 91

Sheet 1E - Geographic Locations
A1: Annexure 1E – Geographic Locations
M2: Score | N2: =#REF!/R22*5 -> #REF! | R2: 0 | S2: 20
A3: Region | B3: Site Name | C3: Site classification | D3: Number of users | E3: Cabinets | F3: Routers | G3: Switches | H3: WAPs | I3: Town / Place where the resource is situated | J3: Number of Resources at Site | K3: Distance from resource location to the site | L3: Travel time to site | M3: Score | N3: Weighted Score | R3: 0.5 | S3: 20
A4: Cape Town & Surrounds | B4: Technical Offices (Kuilsrivier) | C4: Admin | D4: 9 | E4: 1 | F4: 1 | G4: 1 | H4: 2 | M4: =IF(L4="",0,VLOOKUP(L4,$R$2:$S$18,2,FALSE)) -> 0 | N4: =ROUND(M4*#REF!,1) -> #REF! | R4: 1 | S4: 16
A5: Cape Town & Surrounds | B5: TMNP – Boulders | C5: Tourism | D5: 3 | E5: 1 | F5: 1 | G5: 1 | H5: 1 | M5: =IF(L5="",0,VLOOKUP(L5,$R$2:$S$18,2,FALSE)) -> 0 | N5: =ROUND(M5*#REF!,1) -> #REF! | R5: 1.5 | S5: 16
A6: Cape Town & Surrounds | B6: TMNP – Buffelsfontein (BVC – Homestead) | C6: Tourism | D6: 1 | E6: 2 | F6: 1 | G6: 2 | H6: 1 | M6: =IF(L6="",0,VLOOKUP(L6,$R$2:$S$18,2,FALSE)) -> 0 | N6: =ROUND(M6*#REF!,1) -> #REF! | R6: 2 | S6: 12
A7: Cape Town & Surrounds | B7: TMNP – Klaasjagersberg | C7: Admin | D7: 15 | E7: 2 | F7: 1 | G7: 2 | H7: 1 | M7: =IF(L7="",0,VLOOKUP(L7,$R$2:$S$18,2,FALSE)) -> 0 | N7: =ROUND(M7*#REF!,1) -> #REF! | R7: 2.5 | S7: 12
A8: Cape Town & Surrounds | B8: TMNP – Kloofnek | C8: Admin | D8: 20 | E8: 1 | F8: 1 | G8: 1 | H8: 1 | M8: =IF(L8="",0,VLOOKUP(L8,$R$2:$S$18,2,FALSE)) -> 0 | N8: =ROUND(M8*#REF!,1) -> #REF! | R8: 3 | S8: 12
A9: Cape Town & Surrounds | B9: TMNP – Mount Pleasant | C9: Admin | D9: 12 | E9: 1 | F9: 1 | G9: 1 | H9: 1 | M9: =IF(L9="",0,VLOOKUP(L9,$R$2:$S$18,2,FALSE)) -> 0 | N9: =ROUND(M9*#REF!,1) -> #REF! | R9: 3.5 | S9: 12
A10: Cape Town & Surrounds | B10: TMNP – Newlands | C10: Admin | D10: 2 | E10: 1 | F10: 1 | G10: 1 | H10: 1 | M10: =IF(L10="",0,VLOOKUP(L10,$R$2:$S$18,2,FALSE)) -> 0 | N10: =ROUND(M10*#REF!,1) -> #REF! | R10: 4 | S10: 8
A11: Cape Town & Surrounds | B11: TMNP – Orangekloof | C11: Admin | D11: 5 | E11: 1 | F11: 1 | G11: 1 | H11: 1 | M11: =IF(L11="",0,VLOOKUP(L11,$R$2:$S$18,2,FALSE)) -> 0 | N11: =ROUND(M11*#REF!,1) -> #REF! | R11: 4.5 | S11: 8
A12: Cape Town & Surrounds | B12: TMNP – Silvermine | C12: Admin | D12: 11 | E12: 1 | F12: 1 | G12: 1 | H12: 1 | M12: =IF(L12="",0,VLOOKUP(L12,$R$2:$S$18,2,FALSE)) -> 0 | N12: =ROUND(M12*#REF!,1) -> #REF! | R12: 5 | S12: 8
A13: Cape Town & Surrounds | B13: TMNP – Slangkop Tented Camp | C13: Tourism | D13: 3 | E13: 1 | F13: 1 | G13: 1 | H13: 1 | M13: =IF(L13="",0,VLOOKUP(L13,$R$2:$S$18,2,FALSE)) -> 0 | N13: =ROUND(M13*#REF!,1) -> #REF! | R13: 5.5 | S13: 8
A14: Cape Town & Surrounds | B14: TMNP – Smitswinkel | C14: Tourism | D14: 1 | E14: 1 | F14: 1 | G14: 1 | H14: 1 | M14: =IF(L14="",0,VLOOKUP(L14,$R$2:$S$18,2,FALSE)) -> 0 | N14: =ROUND(M14*#REF!,1) -> #REF! | R14: 6 | S14: 4
A15: Cape Town & Surrounds | B15: TMNP – Tokai Cape Research Centre (CRC) | C15: Admin | D15: 5 | E15: 2 | F15: 1 | G15: 2 | H15: 2 | M15: =IF(L15="",0,VLOOKUP(L15,$R$2:$S$18,2,FALSE)) -> 0 | N15: =ROUND(M15*#REF!,1) -> #REF! | R15: 6.5 | S15: 4
... A17: Cape Town & Surrounds | B17: TMNP – Tokai Ranger | C17: Admin | D17: 18 | E17: 1 | F17: 1 | G17: 1 | H17: 1 | M17: =IF(L17="",0,VLOOKUP(L17,$R$2:$S$18,2,FALSE)) -> 0 | N17: =ROUND(M17*#REF!,1) -> #REF! | R17: 7.5 | S17: 4
A18: Cape Town & Surrounds | B18: TMNP – Washhouses (Platteklip) | C18: Tourism | D18: 1 | E18: 1 | F18: 1 | G18: 1 | H18: 1 | M18: =IF(L18="",0,VLOOKUP(L18,$R$2:$S$18,2,FALSE)) -> 0 | N18: =ROUND(M18*#REF!,1) -> #REF! | R18: 8+ | S18: 0
A19: Cape Town & Surrounds | B19: Travel Trade (Cape Town) | C19: Admin | D19: 1 | E19: 1 | F19: 1 | G19: 1 | H19: 1 | M19: =IF(L19="",0,VLOOKUP(L19,$R$2:$S$18,2,FALSE)) -> 0 | N19: =ROUND(M19*#REF!,1) -> #REF!
A20: Eastern Cape | B20: Addo – Mathyolweni Rest Camp | C20: Tourism | D20: 5 | E20: 1 | F20: 1 | G20: 1 | H20: 1 | M20: =IF(L20="",0,VLOOKUP(L20,$R$2:$S$18,2,FALSE)) -> 0 | N20: =ROUND(M20*#REF!,1) -> #REF!
A21: Eastern Cape | B21: Addo – Woody Cape Section | C21: Tourism | D21: 10 | E21: 1 | F21: 1 | G21: 1 | H21: 2 | M21: =IF(L21="",0,VLOOKUP(L21,$R$2:$S$18,2,FALSE)) -> 0 | N21: =ROUND(M21*#REF!,1) -> #REF!
A22: Eastern Cape | B22: Addo Camp | C22: Tourism | D22: 57 | E22: 4 | F22: 1 | G22: 4 | H22: 2 | M22: =IF(L22="",0,VLOOKUP(L22,$R$2:$S$18,2,FALSE)) -> 0 | N22: =ROUND(M22*#REF!,1) -> #REF!
A23: Eastern Cape | B23: Addo – Kabouga | C23: Tourism | D23: 2 | E23: 1 | F23: 1 | G23: 1 | H23: 1 | M23: =IF(L23="",0,VLOOKUP(L23,$R$2:$S$18,2,FALSE)) -> 0 | N23: =ROUND(M23*#REF!,1) -> #REF!
A24: Eastern Cape | B24: Camdeboo | C24: Admin | D24: 21 | E24: 1 | F24: 1 | G24: 1 | H24: 1 | M24: =IF(L24="",0,VLOOKUP(L24,$R$2:$S$18,2,FALSE)) -> 0 | N24: =ROUND(M24*#REF!,1) -> #REF!
A25: Eastern Cape | B25: Mountain Zebra | C25: Tourism | D25: 23 | E25: 2 | F25: 1 | G25: 2 | H25: 3 | M25: =IF(L25="",0,VLOOKUP(L25,$R$2:$S$18,2,FALSE)) -> 0 | N25: =ROUND(M25*#REF!,1) -> #REF!
A26: Eastern Cape | B26: NMMU and Frontier Regional Office (PE) | C26: 10 | D26: 10 | E26: 2 | F26: 2 | G26: 2 | H26: 2 | M26: =IF(L26="",0,VLOOKUP(L26,$R$2:$S$18,2,FALSE)) -> 0 | N26: =ROUND(M26*#REF!,1) -> #REF!
A27: Free State | B27: Golden Gate – Gladstone | C27: Admin | D27: 34 | E27: 3 | F27: 1 | G27: 6 | H27: 8 | M27: =IF(L27="",0,VLOOKUP(L27,$R$2:$S$18,2,FALSE)) -> 0 | N27: =ROUND(M27*#REF!,1) -> #REF!
A28: Free State | B28: Golden Gate – Glen Reenen Rest Camp | C28: Tourism | D28: 10 | E28: 1 | F28: 0 | G28: 1 | H28: 5 | M28: =IF(L28="",0,VLOOKUP(L28,$R$2:$S$18,2,FALSE)) -> 0 | N28: =ROUND(M28*#REF!,1) -> #REF!
A29: Free State | B29: Golden Gate Hotel | C29: Tourism | D29: 29 | E29: 2 | F29: 1 | G29: 2 | H29: 3 | M29: =IF(L29="",0,VLOOKUP(L29,$R$2:$S$18,2,FALSE)) -> 0 | N29: =ROUND(M29*#REF!,1) -> #REF!
A30: Garden Route | B30: Bloukrans | C30: Admin | D30: 5 | E30: 1 | F30: 1 | G30: 1 | H30: 0 | M30: =IF(L30="",0,VLOOKUP(L30,$R$2:$S$18,2,FALSE)) -> 0 | N30: =ROUND(M30*#REF!,1) -> #REF!
A31: Garden Route | B31: Diepwalle | C31: Tourism | D31: 6 | E31: 1 | F31: 1 | G31: 1 | H31: 1 | M31: =IF(L31="",0,VLOOKUP(L31,$R$2:$S$18,2,FALSE)) -> 0 | N31: =ROUND(M31*#REF!,1) -> #REF!
A32: Garden Route | B32: Farleigh | C32: Tourism | D32: 11 | E32: 2 | F32: 1 | G32: 2 | H32: 2 | M32: =IF(L32="",0,VLOOKUP(L32,$R$2:$S$18,2,FALSE)) -> 0 | N32: =ROUND(M32*#REF!,1) -> #REF!
A33: Garden Route | B33: Garden Route Office (Thesen Island) | C33: Admin | D33: 52 | E33: 2 | F33: 1 | G33: 3 | H33: 4 | M33: =IF(L33="",0,VLOOKUP(L33,$R$2:$S$18,2,FALSE)) -> 0 | N33: =ROUND(M33*#REF!,1) -> #REF!
A34: Garden Route | B34: Goudveld | C34: Tourism | D34: 1 | E34: 1 | F34: 1 | G34: 0 | H34: 1 | M34: =IF(L34="",0,VLOOKUP(L34,$R$2:$S$18,2,FALSE)) -> 0 | N34: =ROUND(M34*#REF!,1) -> #REF!
A35: Garden Route | B35: Harkerville | C35: Admin | D35: 6 | E35: 3 | F35: 2 | G35: 3 | H35: 1 | M35: =IF(L35="",0,VLOOKUP(L35,$R$2:$S$18,2,FALSE)) -> 0 | N35: =ROUND(M35*#REF!,1) -> #REF!
A36: Garden Route | B36: Knysna Scientist (Royal Hotel) | C36: Tourism | D36: 8 | E36: 1 | F36: 1 | G36: 1 | H36: 1 | M36: =IF(L36="",0,VLOOKUP(L36,$R$2:$S$18,2,FALSE)) -> 0 | N36: =ROUND(M36*#REF!,1) -> #REF!
A37: Garden Route | B37: Natures Valley Rest Camp | C37: Tourism | D37: 2 | E37: 0 | F37: 1 | G37: 1 | H37: 1 | M37: =IF(L37="",0,VLOOKUP(L37,$R$2:$S$18,2,FALSE)) -> 0 | N37: =ROUND(M37*#REF!,1) -> #REF!
A38: Garden Route | B38: Rondevlei | C38: Admin | D38: 7 | E38: 2 | F38: 1 | G38: 1 | H38: 1 | M38: =IF(L38="",0,VLOOKUP(L38,$R$2:$S$18,2,FALSE)) -> 0 | N38: =ROUND(M38*#REF!,1) -> #REF!
... A107: Western Cape | B107: Karoo Rest Camp | C107: Admin | D107: 17 | E107: 4 | F107: 1 | G107: 4 | H107: 1 | M107: =IF(L107="",0,VLOOKUP(L107,$R$2:$S$18,2,FALSE)) -> 0 | N107: =ROUND(M107*#REF!,1) -> #REF!
A108: Total | M108: =SUBTOTAL(101,Table1[Score]) -> 0 | N108: =SUBTOTAL(103,Table1[Weighted Score]) -> 104

Sheet 1F - WAN Pricing
A1: Annexure IF - WAN Pricing and Bandwidth Requirements per Site with 10 Year Escalation
A2: 1. Each Site, (where specified below), must have its own internet breakout on WAN1 and WAN2
A3: 2. Connectivity medium, connectivity medium in order of preference: Fibre, MW Licenced spectrum, MW ISM band, LEO, LTE, VSAT (and marked accordingly)
A4: 3. All speeds are Mbps
D7: YR1 | E7: YR2 | F7: YR3 | G7: YR4 | H7: YR5 | I7: YR6 | J7: YR7 | K7: YR8 | L7: YR9 | M7: YR10 | AE7: TOTAL
A8: Site Name | B8: Link | C8: current bandwidth (Mbps) | D8: 2026 | E8: 2027 | F8: 2028 | G8: 2029 | H8: 2030 | I8: 2031 | J8: 2032 | K8: 2033 | L8: 2034 | M8: 2035 | N8: GPS Coordinates | O8: Type of Connectivity (Diginet, DSL, Fibre, ME, VSAT, Cellular Data, etc.) | P8: Closest POP Name | Q8: POP GPS Coordinates | R8: Distance from site (kms) | S8: Installation Cost | T8: Annual recurring cost
T9: Cost per Mb (Monthly) | U9: 2026 | V9: 2027 | W9: 2028 | X9: 2029 | Y9: 2030 | Z9: 2031 | AA9: 2032 | AB9: 2033 | AC9: 2034 | AD9: 2035 | AE9: Total cost over 10 years
A10: Boulders Beach | B10: WAN 1 | C10: 10 | D10: 20 | E10: 30 | F10: 30 | G10: 50 | H10: 50 | I10: 50 | J10: 50 | K10: 50 | L10: 50 | M10: 50 | N10: (-34.195673 18.449433) | U10: =D10*$T10*12 -> 0 | V10: =E10*$T10*12 -> 0 | W10: =F10*$T10*12 -> 0 | X10: =G10*$T10*12 -> 0 | Y10: =H10*$T10*12 -> 0 | Z10: =I10*$T10*12 -> 0 | AA10: =J10*$T10*12 -> 0 | AB10: =K10*$T10*12 -> 0 | ... AD10: =M10*$T10*12 -> 0 | AE10: =SUM(U10:AD10) -> 0
A11: Boulders Beach | B11: WAN 2 | C11: 10 | D11: 20 | E11: 30 | F11: 30 | G11: 50 | H11: 50 | I11: 50 | J11: 50 | K11: 50 | L11: 50 | M11: 50 | N11: (-34.195673 18.449433) | U11: =D11*$T11*12 -> 0 | V11: =E11*$T11*12 -> 0 | W11: =F11*$T11*12 -> 0 | X11: =G11*$T11*12 -> 0 | Y11: =H11*$T11*12 -> 0 | Z11: =I11*$T11*12 -> 0 | AA11: =J11*$T11*12 -> 0 | AB11: =K11*$T11*12 -> 0 | ... AD11: =M11*$T11*12 -> 0 | AE11: =SUM(U11:AD11) -> 0
A12: Boulders Gate 2 | B12: WAN 2 | C12: 10 | D12: 20 | E12: 30 | F12: 30 | G12: 50 | H12: 50 | I12: 50 | J12: 50 | K12: 50 | L12: 50 | M12: 50 | N12: -34.1980603, 18.4523583 | U12: =D12*$T12*12 -> 0 | V12: =E12*$T12*12 -> 0 | W12: =F12*$T12*12 -> 0 | X12: =G12*$T12*12 -> 0 | Y12: =H12*$T12*12 -> 0 | Z12: =I12*$T12*12 -> 0 | AA12: =J12*$T12*12 -> 0 | AB12: =K12*$T12*12 -> 0 | ... AD12: =M12*$T12*12 -> 0 | AE12: =SUM(U12:AD12) -> 0
A13: Boulders Gate 2 | B13: WAN 1 | C13: 10 | D13: 20 | E13: 30 | F13: 30 | G13: 50 | H13: 50 | I13: 50 | J13: 50 | K13: 50 | L13: 50 | M13: 50 | N13: -34.1980603, 18.4523583 | U13: =D13*$T13*12 -> 0 | V13: =E13*$T13*12 -> 0 | W13: =F13*$T13*12 -> 0 | X13: =G13*$T13*12 -> 0 | Y13: =H13*$T13*12 -> 0 | Z13: =I13*$T13*12 -> 0 | AA13: =J13*$T13*12 -> 0 | AB13: =K13*$T13*12 -> 0 | ... AD13: =M13*$T13*12 -> 0 | AE13: =SUM(U13:AD13) -> 0
A14: Buffelsfontein Visitors Centre (BVC) | B14: WAN 1 | C14: 10 | D14: 20 | E14: 30 | F14: 30 | G14: 50 | H14: 50 | I14: 50 | J14: 50 | K14: 50 | L14: 50 | M14: 50 | N14: (-34.312926 18.449199) | U14: =D14*$T14*12 -> 0 | V14: =E14*$T14*12 -> 0 | W14: =F14*$T14*12 -> 0 | X14: =G14*$T14*12 -> 0 | Y14: =H14*$T14*12 -> 0 | Z14: =I14*$T14*12 -> 0 | AA14: =J14*$T14*12 -> 0 | AB14: =K14*$T14*12 -> 0 | ... AD14: =M14*$T14*12 -> 0 | AE14: =SUM(U14:AD14) -> 0
A15: Buffelsfontein Visitors Centre (BVC) | B15: WAN 2 | C15: 10 | D15: 20 | E15: 30 | F15: 30 | G15: 50 | H15: 50 | I15: 50 | J15: 50 | K15: 50 | L15: 50 | M15: 50 | N15: (-34.312926 18.449199) | U15: =D15*$T15*12 -> 0 | V15: =E15*$T15*12 -> 0 | W15: =F15*$T15*12 -> 0 | X15: =G15*$T15*12 -> 0 | Y15: =H15*$T15*12 -> 0 | Z15: =I15*$T15*12 -> 0 | AA15: =J15*$T15*12 -> 0 | AB15: =K15*$T15*12 -> 0 | ... AD15: =M15*$T15*12 -> 0 | AE15: =SUM(U15:AD15) -> 0
A16: Cape Point Gate | B16: WAN 1 | C16: 10 | D16: 20 | E16: 30 | F16: 30 | G16: 50 | H16: 50 | I16: 50 | J16: 50 | K16: 50 | L16: 50 | M16: 50 | N16: (-34.261491 18.457997) | U16: =D16*$T16*12 -> 0 | V16: =E16*$T16*12 -> 0 | W16: =F16*$T16*12 -> 0 | X16: =G16*$T16*12 -> 0 | Y16: =H16*$T16*12 -> 0 | Z16: =I16*$T16*12 -> 0 | AA16: =J16*$T16*12 -> 0 | AB16: =K16*$T16*12 -> 0 | ... AD16: =M16*$T16*12 -> 0 | AE16: =SUM(U16:AD16) -> 0
A17: Cape Point Gate | B17: WAN 2 | C17: 10 | D17: 20 | E17: 30 | F17: 30 | G17: 50 | H17: 50 | I17: 50 | J17: 50 | K17: 50 | L17: 50 | M17: 50 | N17: (-34.261491 18.457997) | U17: =D17*$T17*12 -> 0 | V17: =E17*$T17*12 -> 0 | W17: =F17*$T17*12 -> 0 | X17: =G17*$T17*12 -> 0 | Y17: =H17*$T17*12 -> 0 | Z17: =I17*$T17*12 -> 0 | AA17: =J17*$T17*12 -> 0 | AB17: =K17*$T17*12 -> 0 | ... AD17: =M17*$T17*12 -> 0 | AE17: =SUM(U17:AD17) -> 0
A18: CPT Technical Offices | B18: WAN 1 | C18: 10 | D18: 20 | E18: 30 | F18: 30 | G18: 50 | H18: 50 | I18: 50 | J18: 50 | K18: 50 | L18: 50 | M18: 50 | N18: (-33.908928 18.682871) | U18: =D18*$T18*12 -> 0 | V18: =E18*$T18*12 -> 0 | W18: =F18*$T18*12 -> 0 | X18: =G18*$T18*12 -> 0 | Y18: =H18*$T18*12 -> 0 | Z18: =I18*$T18*12 -> 0 | AA18: =J18*$T18*12 -> 0 | AB18: =K18*$T18*12 -> 0 | ... AD18: =M18*$T18*12 -> 0 | AE18: =SUM(U18:AD18) -> 0
A19: Klaasjagersberg Ranger | B19: WAN 1 | C19: 10 | D19: 20 | E19: 30 | F19: 30 | G19: 50 | H19: 50 | I19: 50 | J19: 50 | K19: 50 | L19: 50 | M19: 50 | N19: (-34.237031 18.415843) | U19: =D19*$T19*12 -> 0 | V19: =E19*$T19*12 -> 0 | W19: =F19*$T19*12 -> 0 | X19: =G19*$T19*12 -> 0 | Y19: =H19*$T19*12 -> 0 | Z19: =I19*$T19*12 -> 0 | AA19: =J19*$T19*12 -> 0 | AB19: =K19*$T19*12 -> 0 | ... AD19: =M19*$T19*12 -> 0 | AE19: =SUM(U19:AD19) -> 0
A20: Kloofnek Ranger | B20: WAN 1 | C20: 10 | D20: 20 | E20: 30 | F20: 30 | G20: 50 | H20: 50 | I20: 50 | J20: 50 | K20: 50 | L20: 50 | M20: 50 | N20: (-33.94109 18.394729) | U20: =D20*$T20*12 -> 0 | V20: =E20*$T20*12 -> 0 | W20: =F20*$T20*12 -> 0 | X20: =G20*$T20*12 -> 0 | Y20: =H20*$T20*12 -> 0 | Z20: =I20*$T20*12 -> 0 | AA20: =J20*$T20*12 -> 0 | AB20: =K20*$T20*12 -> 0 | ... AD20: =M20*$T20*12 -> 0 | AE20: =SUM(U20:AD20) -> 0
A21: Kloofnek Ranger | B21: WAN 2 | C21: 5 | D21: 10 | E21: 20 | F21: 20 | G21: 20 | H21: 20 | I21: 20 | J21: 20 | K21: 30 | L21: 30 | M21: 30 | N21: (-33.94109 18.394729) | U21: =D21*$T21*12 -> 0 | V21: =E21*$T21*12 -> 0 | W21: =F21*$T21*12 -> 0 | X21: =G21*$T21*12 -> 0 | Y21: =H21*$T21*12 -> 0 | Z21: =I21*$T21*12 -> 0 | AA21: =J21*$T21*12 -> 0 | AB21: =K21*$T21*12 -> 0 | ... AD21: =M21*$T21*12 -> 0 | AE21: =SUM(U21:AD21) -> 0
... A38: Glen Reenen Camp | B38: WAN 1 | C38: 20 | D38: 30 | E38: 50 | F38: 50 | G38: 50 | H38: 100 | I38: 100 | J38: 100 | K38: 100 | L38: 100 | M38: 100 | N38: (-28.505697 28.617423 ) | U38: =D38*$T38*12 -> 0 | V38: =E38*$T38*12 -> 0 | W38: =F38*$T38*12 -> 0 | X38: =G38*$T38*12 -> 0 | Y38: =H38*$T38*12 -> 0 | Z38: =I38*$T38*12 -> 0 | AA38: =J38*$T38*12 -> 0 | AB38: =K38*$T38*12 -> 0 | ... AD38: =M38*$T38*12 -> 0 | AE38: =SUM(U38:AD38) -> 0
A39: Glen Reenen Camp | B39: WAN 2 | C39: 8/2 | D39: 30 | E39: 50 | F39: 50 | G39: 50 | H39: 100 | I39: 100 | J39: 100 | K39: 100 | L39: 100 | M39: 100 | N39: (-28.505697 28.617423 ) | U39: =D39*$T39*12 -> 0 | V39: =E39*$T39*12 -> 0 | W39: =F39*$T39*12 -> 0 | X39: =G39*$T39*12 -> 0 | Y39: =H39*$T39*12 -> 0 | Z39: =I39*$T39*12 -> 0 | AA39: =J39*$T39*12 -> 0 | AB39: =K39*$T39*12 -> 0 | ... AD39: =M39*$T39*12 -> 0 | AE39: =SUM(U39:AD39) -> 0
A40: Golden Gate Hotel (Brandwag) | B40: WAN 1 | C40: 40 | D40: 50 | E40: 100 | F40: 100 | G40: 100 | H40: 100 | I40: 100 | J40: 100 | K40: 150 | L40: 150 | M40: 150 | N40: (-28.505376 28.60948 ) | U40: =D40*$T40*12 -> 0 | V40: =E40*$T40*12 -> 0 | W40: =F40*$T40*12 -> 0 | X40: =G40*$T40*12 -> 0 | Y40: =H40*$T40*12 -> 0 | Z40: =I40*$T40*12 -> 0 | AA40: =J40*$T40*12 -> 0 | AB40: =K40*$T40*12 -> 0 | ... AD40: =M40*$T40*12 -> 0 | AE40: =SUM(U40:AD40) -> 0
A41: Golden Gate Hotel (Brandwag) | B41: WAN 2 | C41: 8/2 | D41: 50 | E41: 100 | F41: 100 | G41: 100 | H41: 100 | I41: 100 | J41: 100 | K41: 150 | L41: 150 | M41: 150 | N41: (-28.505376 28.60948 ) | U41: =D41*$T41*12 -> 0 | V41: =E41*$T41*12 -> 0 | W41: =F41*$T41*12 -> 0 | X41: =G41*$T41*12 -> 0 | Y41: =H41*$T41*12 -> 0 | Z41: =I41*$T41*12 -> 0 | AA41: =J41*$T41*12 -> 0 | AB41: =K41*$T41*12 -> 0 | ... AD41: =M41*$T41*12 -> 0 | AE41: =SUM(U41:AD41) -> 0
A42: Qwa Qwa | B42: WAN 1 | C42: 5 | D42: 10 | E42: 20 | F42: 20 | G42: 20 | H42: 20 | I42: 20 | J42: 20 | K42: 30 | L42: 30 | M42: 30 | N42: (-28.488086 28.742245) | U42: =D42*$T42*12 -> 0 | V42: =E42*$T42*12 -> 0 | W42: =F42*$T42*12 -> 0 | X42: =G42*$T42*12 -> 0 | Y42: =H42*$T42*12 -> 0 | Z42: =I42*$T42*12 -> 0 | AA42: =J42*$T42*12 -> 0 | AB42: =K42*$T42*12 -> 0 | ... AD42: =M42*$T42*12 -> 0 | AE42: =SUM(U42:AD42) -> 0
A43: Addo BSP | B43: WAN 1 | C43: 10 | D43: 20 | E43: 30 | F43: 30 | G43: 50 | H43: 50 | I43: 50 | J43: 50 | K43: 50 | L43: 50 | M43: 50 | N43: ( -33.454132 25.724031) | U43: =D43*$T43*12 -> 0 | V43: =E43*$T43*12 -> 0 | W43: =F43*$T43*12 -> 0 | X43: =G43*$T43*12 -> 0 | Y43: =H43*$T43*12 -> 0 | Z43: =I43*$T43*12 -> 0 | AA43: =J43*$T43*12 -> 0 | AB43: =K43*$T43*12 -> 0 | ... AD43: =M43*$T43*12 -> 0 | AE43: =SUM(U43:AD43) -> 0
A44: Addo Camp | B44: WAN 1 | C44: 50 | D44: 60 | E44: 100 | F44: 100 | G44: 100 | H44: 150 | I44: 150 | J44: 150 | K44: 150 | L44: 150 | M44: 150 | N44: (-33.444016 25.745795) | U44: =D44*$T44*12 -> 0 | V44: =E44*$T44*12 -> 0 | W44: =F44*$T44*12 -> 0 | X44: =G44*$T44*12 -> 0 | Y44: =H44*$T44*12 -> 0 | Z44: =I44*$T44*12 -> 0 | AA44: =J44*$T44*12 -> 0 | AB44: =K44*$T44*12 -> 0 | ... AD44: =M44*$T44*12 -> 0 | AE44: =SUM(U44:AD44) -> 0
A45: Addo Camp | B45: WAN 2 | C45: 50 | D45: 60 | E45: 100 | F45: 100 | G45: 100 | H45: 150 | I45: 150 | J45: 150 | K45: 150 | L45: 150 | M45: 150 | N45: (-33.444016 25.745795) | U45: =D45*$T45*12 -> 0 | V45: =E45*$T45*12 -> 0 | W45: =F45*$T45*12 -> 0 | X45: =G45*$T45*12 -> 0 | Y45: =H45*$T45*12 -> 0 | Z45: =I45*$T45*12 -> 0 | AA45: =J45*$T45*12 -> 0 | AB45: =K45*$T45*12 -> 0 | ... AD45: =M45*$T45*12 -> 0 | AE45: =SUM(U45:AD45) -> 0
A46: Addo Gate - Wireless LAN with Addo Camp | B46: WAN 1 | C46: 5 | D46: 10 | E46: 20 | F46: 20 | G46: 20 | H46: 20 | I46: 20 | J46: 20 | K46: 30 | L46: 30 | M46: 30 | N46: (-33.444318 25.738605) | U46: =D46*$T46*12 -> 0 | V46: =E46*$T46*12 -> 0 | W46: =F46*$T46*12 -> 0 | X46: =G46*$T46*12 -> 0 | Y46: =H46*$T46*12 -> 0 | Z46: =I46*$T46*12 -> 0 | AA46: =J46*$T46*12 -> 0 | AB46: =K46*$T46*12 -> 0 | ... AD46: =M46*$T46*12 -> 0 | AE46: =SUM(U46:AD46) -> 0
A47: Addo Gate - Wireless LAN with Addo Camp | B47: WAN 2 | C47: 5 | D47: 10 | E47: 20 | F47: 20 | G47: 20 | H47: 20 | I47: 20 | J47: 20 | K47: 30 | L47: 30 | M47: 30 | N47: (-33.444318 25.738605) | U47: =D47*$T47*12 -> 0 | V47: =E47*$T47*12 -> 0 | W47: =F47*$T47*12 -> 0 | X47: =G47*$T47*12 -> 0 | Y47: =H47*$T47*12 -> 0 | Z47: =I47*$T47*12 -> 0 | AA47: =J47*$T47*12 -> 0 | AB47: =K47*$T47*12 -> 0 | ... AD47: =M47*$T47*12 -> 0 | AE47: =SUM(U47:AD47) -> 0
A48: Addo Marine Rangers | B48: WAN 1 | C48: 5 | D48: 10 | E48: 20 | F48: 20 | G48: 20 | H48: 20 | I48: 20 | J48: 20 | K48: 30 | L48: 30 | M48: 30 | N48: (-33.574394 25.833509) | U48: =D48*$T48*12 -> 0 | V48: =E48*$T48*12 -> 0 | W48: =F48*$T48*12 -> 0 | X48: =G48*$T48*12 -> 0 | Y48: =H48*$T48*12 -> 0 | Z48: =I48*$T48*12 -> 0 | AA48: =J48*$T48*12 -> 0 | AB48: =K48*$T48*12 -> 0 | ... AD48: =M48*$T48*12 -> 0 | AE48: =SUM(U48:AD48) -> 0
A49: Bloukrans Forest Station | B49: WAN 1 | C49: 10 | D49: 20 | E49: 30 | F49: 30 | G49: 50 | H49: 50 | I49: 50 | J49: 50 | K49: 50 | L49: 50 | M49: 50 | N49: (-33.949376 23.625488) | U49: =D49*$T49*12 -> 0 | V49: =E49*$T49*12 -> 0 | W49: =F49*$T49*12 -> 0 | X49: =G49*$T49*12 -> 0 | Y49: =H49*$T49*12 -> 0 | Z49: =I49*$T49*12 -> 0 | AA49: =J49*$T49*12 -> 0 | AB49: =K49*$T49*12 -> 0 | ... AD49: =M49*$T49*12 -> 0 | AE49: =SUM(U49:AD49) -> 0
A50: Camdeboo Offices | B50: WAN 1 | C50: 5 | D50: 10 | E50: 20 | F50: 20 | G50: 20 | H50: 20 | I50: 20 | J50: 20 | K50: 30 | L50: 30 | M50: 30 | N50: (-32.220074 24.53993) | U50: =D50*$T50*12 -> 0 | V50: =E50*$T50*12 -> 0 | W50: =F50*$T50*12 -> 0 | X50: =G50*$T50*12 -> 0 | Y50: =H50*$T50*12 -> 0 | Z50: =I50*$T50*12 -> 0 | AA50: =J50*$T50*12 -> 0 | AB50: =K50*$T50*12 -> 0 | ... AD50: =M50*$T50*12 -> 0 | AE50: =SUM(U50:AD50) -> 0
A51: Colchester Ranger | B51: WAN 1 | C51: 5 | D51: 10 | E51: 20 | F51: 20 | G51: 20 | H51: 20 | I51: 20 | J51: 20 | K51: 30 | L51: 30 | M51: 30 | N51: ( -33.564509 25.779377) | U51: =D51*$T51*12 -> 0 | V51: =E51*$T51*12 -> 0 | W51: =F51*$T51*12 -> 0 | X51: =G51*$T51*12 -> 0 | Y51: =H51*$T51*12 -> 0 | Z51: =I51*$T51*12 -> 0 | AA51: =J51*$T51*12 -> 0 | AB51: =K51*$T51*12 -> 0 | ... AD51: =M51*$T51*12 -> 0 | AE51: =SUM(U51:AD51) -> 0
A52: Darlington Dam Ranger | B52: WAN 1 | C52: 5 | D52: 10 | E52: 20 | F52: 20 | G52: 20 | H52: 20 | I52: 20 | J52: 20 | K52: 30 | L52: 30 | M52: 30 | N52: ( -33.125373 25.210652) | U52: =D52*$T52*12 -> 0 | V52: =E52*$T52*12 -> 0 | W52: =F52*$T52*12 -> 0 | X52: =G52*$T52*12 -> 0 | Y52: =H52*$T52*12 -> 0 | Z52: =I52*$T52*12 -> 0 | AA52: =J52*$T52*12 -> 0 | AB52: =K52*$T52*12 -> 0 | ... AD52: =M52*$T52*12 -> 0 | AE52: =SUM(U52:AD52) -> 0
A53: Diepwalle Forest Station | B53: WAN 1 | C53: 10 | D53: 20 | E53: 30 | F53: 30 | G53: 50 | H53: 50 | I53: 50 | J53: 50 | K53: 50 | L53: 50 | M53: 50 | N53: (-33.948513 23.157265) | U53: =D53*$T53*12 -> 0 | V53: =E53*$T53*12 -> 0 | W53: =F53*$T53*12 -> 0 | X53: =G53*$T53*12 -> 0 | Y53: =H53*$T53*12 -> 0 | Z53: =I53*$T53*12 -> 0 | AA53: =J53*$T53*12 -> 0 | AB53: =K53*$T53*12 -> 0 | ... AD53: =M53*$T53*12 -> 0 | AE53: =SUM(U53:AD53) -> 0
... A78: Zuurberg Ranger | B78: WAN 1 | C78: 10 | D78: 20 | E78: 30 | F78: 30 | G78: 50 | H78: 50 | I78: 50 | J78: 50 | K78: 50 | L78: 50 | M78: 50 | N78: ( -33.347351 25.737842) | U78: =D78*$T78*12 -> 0 | V78: =E78*$T78*12 -> 0 | W78: =F78*$T78*12 -> 0 | X78: =G78*$T78*12 -> 0 | Y78: =H78*$T78*12 -> 0 | Z78: =I78*$T78*12 -> 0 | AA78: =J78*$T78*12 -> 0 | AB78: =K78*$T78*12 -> 0 | ... AD78: =M78*$T78*12 -> 0 | AE78: =SUM(U78:AD78) -> 0
A79: Groeneweide | B79: WAN 1 | C79: 10 | D79: 20 | E79: 30 | F79: 30 | G79: 50 | H79: 50 | I79: 50 | J79: 50 | K79: 50 | L79: 50 | M79: 50 | U79: =D79*$T79*12 -> 0 | V79: =E79*$T79*12 -> 0 | W79: =F79*$T79*12 -> 0 | X79: =G79*$T79*12 -> 0 | Y79: =H79*$T79*12 -> 0 | Z79: =I79*$T79*12 -> 0 | AA79: =J79*$T79*12 -> 0 | AB79: =K79*$T79*12 -> 0 | ... AD79: =M79*$T79*12 -> 0 | AE79: =SUM(U79:AD79) -> 0
A80: Heidelberg Factory | B80: WAN 1 | C80: 5 | D80: 10 | E80: 20 | F80: 20 | G80: 20 | H80: 20 | I80: 20 | J80: 20 | K80: 30 | L80: 30 | M80: 30 | N80: (-25.76588 28.204662) | U80: =D80*$T80*12 -> 0 | V80: =E80*$T80*12 -> 0 | W80: =F80*$T80*12 -> 0 | X80: =G80*$T80*12 -> 0 | Y80: =H80*$T80*12 -> 0 | Z80: =I80*$T80*12 -> 0 | AA80: =J80*$T80*12 -> 0 | AB80: =K80*$T80*12 -> 0 | ... AD80: =M80*$T80*12 -> 0 | AE80: =SUM(U80:AD80) -> 0
A81: Bateleur Camp | B81: WAN 1 | C81: 5 | D81: 10 | E81: 20 | F81: 20 | G81: 20 | H81: 20 | I81: 20 | J81: 20 | K81: 30 | L81: 30 | M81: 30 | N81: (-23.233573 31.201531) | U81: =D81*$T81*12 -> 0 | V81: =E81*$T81*12 -> 0 | W81: =F81*$T81*12 -> 0 | X81: =G81*$T81*12 -> 0 | Y81: =H81*$T81*12 -> 0 | Z81: =I81*$T81*12 -> 0 | AA81: =J81*$T81*12 -> 0 | AB81: =K81*$T81*12 -> 0 | ... AD81: =M81*$T81*12 -> 0 | AE81: =SUM(U81:AD81) -> 0
A82: Berg-en-dal Camp | B82: WAN 1 | C82: 10 | D82: 20 | E82: 30 | F82: 30 | G82: 50 | H82: 50 | I82: 50 | J82: 50 | K82: 50 | L82: 50 | M82: 50 | N82: (-25.430806 31.446492) | U82: =D82*$T82*12 -> 0 | V82: =E82*$T82*12 -> 0 | W82: =F82*$T82*12 -> 0 | X82: =G82*$T82*12 -> 0 | Y82: =H82*$T82*12 -> 0 | Z82: =I82*$T82*12 -> 0 | AA82: =J82*$T82*12 -> 0 | AB82: =K82*$T82*12 -> 0 | ... AD82: =M82*$T82*12 -> 0 | AE82: =SUM(U82:AD82) -> 0
...

Sheet 1G - Capability
A1: Bidders are required to put forward their proposed technical support resources as part of their submissions, aligned to the suggested number of personnel indicated in the tender. It must be noted that this represents an upper limit of resources that may be required and not a fixed allocation. During contract negotiations, SANParks will engage with the successful bidder to review the skills, qualifications, and capabilities of the proposed personnel, and determine the final resource requirements. This process will ensure that the right expertise is in place to meet SANParks’ needs effectively, while avoiding unnecessary duplication of roles or costs.
A3: Please identify all skilled personnel that will be involved in this project
A4: Functional Area | B4: Description | C4: Required Certification | D4: Points | E4: =(E5+E10+E15+E20+E25+E30+E35+E40+E45+E50+E55+E60+E65+E70+E75+E80+E85+E91+E96+E101+E106+E111+E116+E121+E126+E131+E136+E141+E146+E151+E156+E161+E166)/33 -> 0 | F4: Scoring criteria | G4: No of Resources | H4: Names of resources | I4: CV attached
A5: Networks | B5: Senior Network Engineer | C5: Network certifications (CCIE or similar) | D5: 20 | F5: (20 Points) Certified and >5 years’ experience
F6: (16 Points) Certified and 4 years’ experience
F7: (12 Points) Certified and 3 years’ experience
F8: (0 Points) Certified and <3 year’ experience
B10: Network Engineer | C10: Network certifications (CCNP or similar) | D10: 20 | F10: (20 Points) Certified and >5 years’ experience
F11: (16 Points) Certified and 4 years’ experience
F12: (12 Points) Certified and 3 years’ experience
F13: (0 Points) Certified and <3 year’ experience
B15: Network Technician | C15: Network certifications (N+, CCNA or similar) | D15: 20 | F15: (20 Points) Certified and >5 years’ experience
F16: (16 Points) Certified and 4 years’ experience
F17: (12 Points) Certified and 3 years’ experience
F18: (0 Points) Certified and <3 year’ experience
A20: Patch Management | B20: Senior Engineer | C20: Any certification aligned with the tool proposed by the bidder | D20: 10 | F20: (10 Points) Certified and >5 years’ experience
F21: (8 Points) Certified and 4 years’ experience
F22: (6 Points) Certified and 3 years’ experience
F23: (0 Points) Certified and <3 year’ experience
A25: Governance | B25: Assessor / Implementer | C25: CoBIT 2019 and Implementation/CGEIT or similar | D25: 10 | F25: (10 Points) Certified and >5 years’ experience
F26: (8 Points) Certified and 4 years’ experience
F27: (6 Points) Certified and 3 years’ experience
F28: (0 Points) Certified and <3 year’ experience
A30: Enterprise Architecture Scope of Work | B30: Senior Consultant | C30: TOGAF or similar | D30: 10 | F30: (10 Points) Certified and >5 years’ experience
F31: (8 Points) Certified and 4 years’ experience
F32: (6 Points) Certified and 3 years’ experience
F33: (0 Points) Certified and <3 year’ experience
A35: Project Management | B35: Senior PM | C35: PMBOK / | D35: 10 | F35: (10 Points) Certified and >5 years’ experience
C36: PRINCE2™ or similar | F36: (8 Points) Certified and 4 years’ experience
F37: (6 Points) Certified and 3 years’ experience
F38: (0 Points) Certified and <3 year’ experience
A40: Cloud | B40: Senior Engineer | C40: Relevant certification to the cloud solution provided by the bidder | D40: 20 | F40: (20 Points) Certified and >5 years’ experience
F41: (16 Points) Certified and 4 years’ experience
F42: (12 Points) Certified and 3 years’ experience
F43: (0 Points) Certified and <3 year’ experience
B45: Engineer | C45: Relevant certification to the cloud solution provided by the bidder | D45: 20 | F45: (20 Points) Certified and >5 years’ experience
F46: (16 Points) Certified and 4 years’ experience
F47: (12 Points) Certified and 3 years’ experience
F48: (0 Points) Certified and <3 year’ experience
A50: Disaster Recovery | B50: Senior Engineer | C50: Business Continuity Practitioner (S-BCP), DR Certified Specialist (DRCS), CFCP or similar certificates | D50: 10 | F50: (10 Points) Certified and >5 years’ experience
...

Sheet 1H - References
A1: Annexure 1H - References | J1: Yes
A2: No | B2: Client | C2: Contact Name, Phone number | D2: Commence-ment date | E2: Duration (Years) | F2: Contract Value over duration | G2: Summary of services | H2: Letter Attached | J2: No
A3: 1
A4: 2
A5: 3
A6: 4
A7: 5
A8: 6
A9: 7
A10: 8
A11: 9

Sheet 1I - VoIP Costing
A1: Annexure 1I - VoIP Requirements
A2: For costing purposes, please assume the following:
A3: 2500 Users for General Business Requirements
A5: Call Centre User Requirements
A6: Supervisors | B6: 7
A7: Agents | B7: 39
A9: Please provide per minute rates for the following destinations:
A10: SERVICE PROVIDER | B10: Rate / Minute
A11: Vodacom (rate per minute)
A12: MTN (rate per minute)
A13: Cell C (rate per minute)
A14: Rain (rate per minute)
A15: Telkom (rate per minute)
A16: National (rate per minute)
A17: Local (rate per minute)
A18: VOIP Numbers (rate per minute)
A19: Please note the above rates are indicative and do not form part of the Pricing Summary
A22: Please specify the solution to be used for 'General Business Requirements:
A23: Please populate the Columns Cost 1, Cost 2 etc to capture any costs related to the once-off setup costs as well as detailing the recurring costs.
A24: General Business Requirements | B24: Description of Once-Off Costs (Please insert descriptive headings) | C24: Detailed Breakdown of Once Off Costs | D24: Description of Monthly Costs (Please insert descriptive headings) | E24: Detailed breakdown of First Month Recurring Costs
A25: Cost 1:
A26: Cost 2:
A27: Cost 3:
A28: Cost 4:
A29: Cost 5:
A30: Cost 6:
A31: Cost 7:
A32: Cost 8:
A33: Cost 9:
A34: Cost 10:
A35: Total: | C35: =SUM(C25:C34) -> 0 | E35: =SUM(E25:E34) -> 0
A36: Note:
A38: Please specify the proposed solution to be used for 'Call Centre Requirements:
A39: Please populate the Columns Cost 1, Cost 2 etc to capture any costs related to the once-off setup costs as well as detailing the recurring costs.
A40: Call Centre Requirements | B40: Description of Once-Off Costs (Please insert descriptive headings) | C40: Detailed Breakdown of Once Off Costs | D40: Description of Monthly Costs (Please insert descriptive headings) | E40: Detailed breakdown of First Month Recurring Costs
A41: Cost 1:
A42: Cost 2:
A43: Cost 3:
A44: Cost 4:
A45: Cost 5:
...

Sheet 1J - Price Summary
A1: Annexure 1J - Price Summary
B2: South African National Parks
I3: Once off Costs | J3: Year 1 | K3: Year 2 | L3: Year 3 | M3: Year 4 | N3: Year 5 | O3: Year 6 | P3: Year 7 | Q3: Year 8 | R3: Year 9 | S3: Year 10 | T3: TOTAL
B4: Pricing Schedule | D4: Unit
B5: 1 | C5: "Per Service" Core Services
B6: 1.2. | C6: Centralised Single Point of Contact (SPoC) Service Desk Aggregator | D6: Per Service | K6: =J6*(1+K$69) -> 0 | L6: =K6*(1+L$69) -> 0 | M6: =L6*(1+M$69) -> 0 | N6: =M6*(1+N$69) -> 0 | O6: =N6*(1+O$69) -> 0 | P6: =O6*(1+P$69) -> 0 | Q6: =P6*(1+Q$69) -> 0 | R6: =Q6*(1+R$69) -> 0 | S6: =R6*(1+S$69) -> 0 | T6: =SUM(J6:S6)+I6 -> 0
B7: 1.3. | C7: User Support | D7: Per Service | K7: =J7*(1+K$69) -> 0 | L7: =K7*(1+L$69) -> 0 | M7: =L7*(1+M$69) -> 0 | N7: =M7*(1+N$69) -> 0 | O7: =N7*(1+O$69) -> 0 | P7: =O7*(1+P$69) -> 0 | Q7: =P7*(1+Q$69) -> 0 | R7: =Q7*(1+R$69) -> 0 | S7: =R7*(1+S$69) -> 0 | T7: =SUM(J7:S7)+I7 -> 0
B8: 1.5. | C8: Network Management | D8: Per Service | K8: =J8*(1+K$69) -> 0 | L8: =K8*(1+L$69) -> 0 | M8: =L8*(1+M$69) -> 0 | N8: =M8*(1+N$69) -> 0 | O8: =N8*(1+O$69) -> 0 | P8: =O8*(1+P$69) -> 0 | Q8: =P8*(1+Q$69) -> 0 | R8: =Q8*(1+R$69) -> 0 | S8: =R8*(1+S$69) -> 0 | T8: =SUM(J8:S8)+I8 -> 0
B9: 1.6. | C9: Server Management | D9: Per Service | K9: =J9*(1+K$69) -> 0 | L9: =K9*(1+L$69) -> 0 | M9: =L9*(1+M$69) -> 0 | N9: =M9*(1+N$69) -> 0 | O9: =N9*(1+O$69) -> 0 | P9: =O9*(1+P$69) -> 0 | Q9: =P9*(1+Q$69) -> 0 | R9: =Q9*(1+R$69) -> 0 | S9: =R9*(1+S$69) -> 0 | T9: =SUM(J9:S9)+I9 -> 0
B10: 1.7. | C10: Database Administration | D10: Per Service | K10: =J10*(1+K$69) -> 0 | L10: =K10*(1+L$69) -> 0 | M10: =L10*(1+M$69) -> 0 | N10: =M10*(1+N$69) -> 0 | O10: =N10*(1+O$69) -> 0 | P10: =O10*(1+P$69) -> 0 | Q10: =P10*(1+Q$69) -> 0 | R10: =Q10*(1+R$69) -> 0 | S10: =R10*(1+S$69) -> 0 | T10: =SUM(J10:S10)+I10 -> 0
B11: 1.8.a | C11: Disaster Recovery Management | D11: Per Service | K11: =J11*(1+K$69) -> 0 | L11: =K11*(1+L$69) -> 0 | M11: =L11*(1+M$69) -> 0 | N11: =M11*(1+N$69) -> 0 | O11: =N11*(1+O$69) -> 0 | P11: =O11*(1+P$69) -> 0 | Q11: =P11*(1+Q$69) -> 0 | R11: =Q11*(1+R$69) -> 0 | S11: =R11*(1+S$69) -> 0 | T11: =SUM(J11:S11)+I11 -> 0
B12: 1.10. | C12: Patch Management | D12: Per Service | K12: =J12*(1+K$69) -> 0 | L12: =K12*(1+L$69) -> 0 | M12: =L12*(1+M$69) -> 0 | N12: =M12*(1+N$69) -> 0 | O12: =N12*(1+O$69) -> 0 | P12: =O12*(1+P$69) -> 0 | Q12: =P12*(1+Q$69) -> 0 | R12: =Q12*(1+R$69) -> 0 | S12: =R12*(1+S$69) -> 0 | T12: =SUM(J12:S12)+I12 -> 0
B13: 3.1. | C13: Bulk e-mail service | D13: Per Service | K13: =J13*(1+K$69) -> 0 | L13: =K13*(1+L$69) -> 0 | M13: =L13*(1+M$69) -> 0 | N13: =M13*(1+N$69) -> 0 | O13: =N13*(1+O$69) -> 0 | P13: =O13*(1+P$69) -> 0 | Q13: =P13*(1+Q$69) -> 0 | R13: =Q13*(1+R$69) -> 0 | S13: =R13*(1+S$69) -> 0 | T13: =SUM(J13:S13)+I13 -> 0
B14: 3.2 | C14: Bulk SMS service | D14: Per Service | K14: =J14*(1+K$69) -> 0 | L14: =K14*(1+L$69) -> 0 | M14: =L14*(1+M$69) -> 0 | N14: =M14*(1+N$69) -> 0 | O14: =N14*(1+O$69) -> 0 | P14: =O14*(1+P$69) -> 0 | Q14: =P14*(1+Q$69) -> 0 | R14: =Q14*(1+R$69) -> 0 | S14: =R14*(1+S$69) -> 0 | T14: =SUM(J14:S14)+I14 -> 0
B15: 3.3.1.a | C15: Management of Existing SANParks Infrastructure, (Before Migration) | D15: Per Service | K15: =J15*(1+K$69) -> 0 | L15: =K15*(1+L$69) -> 0 | M15: =L15*(1+M$69) -> 0 | N15: =M15*(1+N$69) -> 0 | O15: =N15*(1+O$69) -> 0 | P15: =O15*(1+P$69) -> 0 | Q15: =P15*(1+Q$69) -> 0 | R15: =Q15*(1+R$69) -> 0 | S15: =R15*(1+S$69) -> 0 | T15: =SUM(J15:S15)+I15 -> 0
B16: 3.3.1.b | C16: Migration Costs of Existing Cloud Services | D16: Per Service | K16: =J16*(1+K$69) -> 0 | L16: =K16*(1+L$69) -> 0 | M16: =L16*(1+M$69) -> 0 | N16: =M16*(1+N$69) -> 0 | O16: =N16*(1+O$69) -> 0 | P16: =O16*(1+P$69) -> 0 | Q16: =P16*(1+Q$69) -> 0 | R16: =Q16*(1+R$69) -> 0 | S16: =R16*(1+S$69) -> 0 | T16: =SUM(J16:S16)+I16 -> 0
B17: 3.3.1.c | C17: Cloud Hosting Costs (SANParks Development Cloud) | D17: Per Service | K17: =J17*(1+K$69) -> 0 | L17: =K17*(1+L$69) -> 0 | M17: =L17*(1+M$69) -> 0 | N17: =M17*(1+N$69) -> 0 | O17: =N17*(1+O$69) -> 0 | P17: =O17*(1+P$69) -> 0 | Q17: =P17*(1+Q$69) -> 0 | R17: =Q17*(1+R$69) -> 0 | S17: =R17*(1+S$69) -> 0 | T17: =SUM(J17:S17)+I17 -> 0
B18: 3.3.1.d | C18: Hosted Envirnment for Development Purposes as per Annexure 1C - SANParks Owned Equipment (Cost based on Full Usage) | D18: Per Service | K18: =J18*(1+K$69) -> 0 | L18: =K18*(1+L$69) -> 0 | M18: =L18*(1+M$69) -> 0 | N18: =M18*(1+N$69) -> 0 | O18: =N18*(1+O$69) -> 0 | P18: =O18*(1+P$69) -> 0 | Q18: =P18*(1+Q$69) -> 0 | R18: =Q18*(1+R$69) -> 0 | S18: =R18*(1+S$69) -> 0 | T18: =SUM(J18:S18)+I18 -> 0
B19: 3.3.2 | C19: SANParks E-Business Website Management, Support and Maintenance | D19: Per Service | K19: =J19*(1+K$69) -> 0 | L19: =K19*(1+L$69) -> 0 | M19: =L19*(1+M$69) -> 0 | N19: =M19*(1+N$69) -> 0 | O19: =N19*(1+O$69) -> 0 | P19: =O19*(1+P$69) -> 0 | Q19: =P19*(1+Q$69) -> 0 | R19: =Q19*(1+R$69) -> 0 | S19: =R19*(1+S$69) -> 0 | T19: =SUM(J19:S19)+I19 -> 0
B20: 4.4.1 | C20: SOC Services | D20: Per Service | K20: =J20*(1+K$69) -> 0 | L20: =K20*(1+L$69) -> 0 | M20: =L20*(1+M$69) -> 0 | N20: =M20*(1+N$69) -> 0 | O20: =N20*(1+O$69) -> 0 | P20: =O20*(1+P$69) -> 0 | Q20: =P20*(1+Q$69) -> 0 | R20: =Q20*(1+R$69) -> 0 | S20: =R20*(1+S$69) -> 0 | T20: =SUM(J20:S20)+I20 -> 0
B21: 4.4.2 | C21: Vulnerability assessment services | D21: Per Service | K21: =J21*(1+K$69) -> 0 | L21: =K21*(1+L$69) -> 0 | M21: =L21*(1+M$69) -> 0 | N21: =M21*(1+N$69) -> 0 | O21: =N21*(1+O$69) -> 0 | P21: =O21*(1+P$69) -> 0 | Q21: =P21*(1+Q$69) -> 0 | R21: =Q21*(1+R$69) -> 0 | S21: =R21*(1+S$69) -> 0 | T21: =SUM(J21:S21)+I21 -> 0
B22: 4.4.3 | C22: Perimeter Protection Services | D22: Per Service | K22: =J22*(1+K$69) -> 0 | L22: =K22*(1+L$69) -> 0 | M22: =L22*(1+M$69) -> 0 | N22: =M22*(1+N$69) -> 0 | O22: =N22*(1+O$69) -> 0 | P22: =O22*(1+P$69) -> 0 | Q22: =P22*(1+Q$69) -> 0 | R22: =Q22*(1+R$69) -> 0 | S22: =R22*(1+S$69) -> 0 | T22: =SUM(J22:S22)+I22 -> 0
B23: 5.1.a | C23: ICT Maturity and Innovation Services | D23: Per Service | K23: =J23*(1+K$69) -> 0 | L23: =K23*(1+L$69) -> 0 | M23: =L23*(1+M$69) -> 0 | N23: =M23*(1+N$69) -> 0 | O23: =N23*(1+O$69) -> 0 | P23: =O23*(1+P$69) -> 0 | Q23: =P23*(1+Q$69) -> 0 | R23: =Q23*(1+R$69) -> 0 | S23: =R23*(1+S$69) -> 0 | T23: =SUM(J23:S23)+I23 -> 0
B24: 5.1.b | C24: Compliance Audits | D24: Per Service | K24: =J24*(1+K$69) -> 0 | L24: =K24*(1+L$69) -> 0 | M24: =L24*(1+M$69) -> 0 | N24: =M24*(1+N$69) -> 0 | O24: =N24*(1+O$69) -> 0 | P24: =O24*(1+P$69) -> 0 | Q24: =P24*(1+Q$69) -> 0 | R24: =Q24*(1+R$69) -> 0 | S24: =R24*(1+S$69) -> 0 | T24: =SUM(J24:S24)+I24 -> 0
I25: =SUM(I6:I24) -> 0 | J25: =SUM(J6:J24) -> 0 | K25: =SUM(K6:K24) -> 0 | L25: =SUM(L6:L24) -> 0 | M25: =SUM(M6:M24) -> 0 | N25: =SUM(N6:N24) -> 0 | O25: =SUM(O6:O24) -> 0 | P25: =SUM(P6:P24) -> 0 | ... T25: =SUM(T6:T24) -> 0
B27: 2.1 | C27: "Per Unit" Core Services | E27: Quantity per Month | F27: Rate per Unit | G27: Quantity per Annum | H27: Cost per Annum
B28: 1.4. | C28: Desktop Configuration - IMACD (Max 100 hours / Month) | D28: per Hour | E28: 100 | G28: =E28*12 -> 1200 | H28: =E28*F28*12 -> 0 | J28: =H28 -> 0 | K28: =J28*(1+K$69) -> 0 | L28: =K28*(1+L$69) -> 0 | M28: =L28*(1+M$69) -> 0 | N28: =M28*(1+N$69) -> 0 | O28: =N28*(1+O$69) -> 0 | P28: =O28*(1+P$69) -> 0 | Q28: =P28*(1+Q$69) -> 0 | R28: =Q28*(1+R$69) -> 0 | S28: =R28*(1+S$69) -> 0 | T28: =SUM(J28:S28)+I28 -> 0
B29: 1.9.a | C29: Mimecast License (Recurring / Month) | D29: Per User | E29: 2500 | G29: =E29 -> 2500 | H29: =E29*F29*12 -> 0 | J29: =H29 -> 0 | K29: =J29*(1+K$69) -> 0 | L29: =K29*(1+L$69) -> 0 | M29: =L29*(1+M$69) -> 0 | N29: =M29*(1+N$69) -> 0 | O29: =N29*(1+O$69) -> 0 | P29: =O29*(1+P$69) -> 0 | Q29: =P29*(1+Q$69) -> 0 | R29: =Q29*(1+R$69) -> 0 | S29: =R29*(1+S$69) -> 0 | T29: =SUM(J29:S29)+I29 -> 0
B30: 1.9.b | C30: Mimecast Management (Max 20 Hours / Month) | D30: Per Hour | E30: 20 | G30: =E30*12 -> 240 | H30: =E30*F30*12 -> 0 | J30: =H30 -> 0 | K30: =J30*(1+K$69) -> 0 | L30: =K30*(1+L$69) -> 0 | M30: =L30*(1+M$69) -> 0 | N30: =M30*(1+N$69) -> 0 | O30: =N30*(1+O$69) -> 0 | P30: =O30*(1+P$69) -> 0 | Q30: =P30*(1+Q$69) -> 0 | R30: =Q30*(1+R$69) -> 0 | S30: =R30*(1+S$69) -> 0 | T30: =SUM(J30:S30)+I30 -> 0
B31: 1.10.a | C31: Patch Management License for Desktop/Laptops (Recurring / Month) | D31: Per Device | E31: ='1B - Desktop & IoT'!D8 -> 1980 | G31: =E31 -> 1980 | H31: =E31*F31*12 -> 0 | J31: =H31 -> 0 | K31: =J31*(1+K$69) -> 0 | L31: =K31*(1+L$69) -> 0 | M31: =L31*(1+M$69) -> 0 | N31: =M31*(1+N$69) -> 0 | O31: =N31*(1+O$69) -> 0 | P31: =O31*(1+P$69) -> 0 | Q31: =P31*(1+Q$69) -> 0 | R31: =Q31*(1+R$69) -> 0 | S31: =R31*(1+S$69) -> 0 | T31: =SUM(J31:S31)+I31 -> 0
B32: 1.10.a | C32: Patch Management License for Servers (Recurring / Month) | D32: Per Device | E32: ='1C - SANParks Owned Equipment'!G13+'1D - Private Cloud Pricing'!B102 -> 164 | G32: =E32 -> 164 | H32: =E32*F32*12 -> 0 | J32: =H32 -> 0 | K32: =J32*(1+K$69) -> 0 | L32: =K32*(1+L$69) -> 0 | M32: =L32*(1+M$69) -> 0 | N32: =M32*(1+N$69) -> 0 | O32: =N32*(1+O$69) -> 0 | P32: =O32*(1+P$69) -> 0 | Q32: =P32*(1+Q$69) -> 0 | R32: =Q32*(1+R$69) -> 0 | S32: =R32*(1+S$69) -> 0 | T32: =SUM(J32:S32)+I32 -> 0
B33: 2.1.1.a. | C33: New Network Points | D33: Per Point | E33: 13.5 | G33: =E33*12 -> 162 | H33: =E33*F33*12 -> 0 | J33: =H33 -> 0 | K33: =J33*(1+K$69) -> 0 | L33: =K33*(1+L$69) -> 0 | M33: =L33*(1+M$69) -> 0 | N33: =M33*(1+N$69) -> 0 | O33: =N33*(1+O$69) -> 0 | P33: =O33*(1+P$69) -> 0 | Q33: =P33*(1+Q$69) -> 0 | R33: =Q33*(1+R$69) -> 0 | S33: =R33*(1+S$69) -> 0 | T33: =SUM(J33:S33)+I33 -> 0
B34: 2.1.1.b | C34: Maintenance of existing network points | D34: Per Point | E34: 9 | G34: =E34*12 -> 108 | H34: =E34*F34*12 -> 0 | J34: =H34 -> 0 | K34: =J34*(1+K$69) -> 0 | L34: =K34*(1+L$69) -> 0 | M34: =L34*(1+M$69) -> 0 | N34: =M34*(1+N$69) -> 0 | O34: =N34*(1+O$69) -> 0 | P34: =O34*(1+P$69) -> 0 | Q34: =P34*(1+Q$69) -> 0 | R34: =Q34*(1+R$69) -> 0 | S34: =R34*(1+S$69) -> 0 | T34: =SUM(J34:S34)+I34 -> 0
B35: 2.1.2. | C35: Expansion of LAN to other buildings via fibre and radio | D35: Per Connection | E35: 2 | G35: =E35*12 -> 24 | H35: =E35*F35*12 -> 0 | J35: =H35 -> 0 | K35: =J35*(1+K$69) -> 0 | L35: =K35*(1+L$69) -> 0 | M35: =L35*(1+M$69) -> 0 | N35: =M35*(1+N$69) -> 0 | O35: =N35*(1+O$69) -> 0 | P35: =O35*(1+P$69) -> 0 | Q35: =P35*(1+Q$69) -> 0 | R35: =Q35*(1+R$69) -> 0 | S35: =R35*(1+S$69) -> 0 | T35: =SUM(J35:S35)+I35 -> 0
B36: 3.3.2.b | C36: Development services | D36: Per Hour | E36: 250 | G36: =E36*12 -> 3000 | H36: =E36*F36*12 -> 0 | J36: =H36 -> 0 | K36: =J36*(1+K$69) -> 0 | L36: =K36*(1+L$69) -> 0 | M36: =L36*(1+M$69) -> 0 | N36: =M36*(1+N$69) -> 0 | O36: =N36*(1+O$69) -> 0 | P36: =O36*(1+P$69) -> 0 | Q36: =P36*(1+Q$69) -> 0 | R36: =Q36*(1+R$69) -> 0 | S36: =R36*(1+S$69) -> 0 | T36: =SUM(J36:S36)+I36 -> 0
B37: 4.4.1 | C37: PCI DSS Governance and Monitoring Services - Advisory | D37: Per Hour | G37: 200 | H37: =G37*F37 -> 0 | J37: =H37 -> 0 | K37: =J37*(1+K$69) -> 0 | L37: =K37*(1+L$69) -> 0 | M37: =L37*(1+M$69) -> 0 | N37: =M37*(1+N$69) -> 0 | O37: =N37*(1+O$69) -> 0 | P37: =O37*(1+P$69) -> 0 | Q37: =P37*(1+Q$69) -> 0 | R37: =Q37*(1+R$69) -> 0 | S37: =R37*(1+S$69) -> 0 | T37: =SUM(J37:S37)+I37 -> 0
B38: 4.4.2 | C38: Independent QSA Requirement | D38: Per Hour | G38: 40 | H38: =G38*F38 -> 0 | J38: =H38 -> 0 | K38: =J38*(1+K$69) -> 0 | L38: =K38*(1+L$69) -> 0 | M38: =L38*(1+M$69) -> 0 | N38: =M38*(1+N$69) -> 0 | O38: =N38*(1+O$69) -> 0 | P38: =O38*(1+P$69) -> 0 | Q38: =P38*(1+Q$69) -> 0 | R38: =Q38*(1+R$69) -> 0 | S38: =R38*(1+S$69) -> 0 | T38: =SUM(J38:S38)+I38 -> 0
B39: 5.1.c | C39: IT Strategy work (Please enter Rate / Hour) Service to be billed as and when required | D39: Per Hour | J39: 0 | K39: =J39*(1+K$69) -> 0 | L39: =K39*(1+L$69) -> 0 | M39: =L39*(1+M$69) -> 0 | N39: =M39*(1+N$69) -> 0 | O39: =N39*(1+O$69) -> 0 | P39: =O39*(1+P$69) -> 0 | Q39: =P39*(1+Q$69) -> 0 | R39: =Q39*(1+R$69) -> 0 | S39: =R39*(1+S$69) -> 0 | T39: =SUM(J39:S39)+I39 -> 0
B40: 5.2. | C40: IT Governance Scope of Work (Please enter Rate / Hour) Service to be billed as and when required | D40: Per Hour | J40: 0 | K40: =J40*(1+K$69) -> 0 | L40: =K40*(1+L$69) -> 0 | M40: =L40*(1+M$69) -> 0 | N40: =M40*(1+N$69) -> 0 | O40: =N40*(1+O$69) -> 0 | P40: =O40*(1+P$69) -> 0 | Q40: =P40*(1+Q$69) -> 0 | R40: =Q40*(1+R$69) -> 0 | S40: =R40*(1+S$69) -> 0 | T40: =SUM(J40:S40)+I40 -> 0
B41: 5.3. | C41: Enterprise Architecture Services Scope of Work (Please enter Rate / Hour) Service to be billed as and when required | D41: Per Hour | J41: 0 | K41: =J41*(1+K$69) -> 0 | L41: =K41*(1+L$69) -> 0 | M41: =L41*(1+M$69) -> 0 | N41: =M41*(1+N$69) -> 0 | O41: =N41*(1+O$69) -> 0 | P41: =O41*(1+P$69) -> 0 | Q41: =P41*(1+Q$69) -> 0 | R41: =Q41*(1+R$69) -> 0 | S41: =R41*(1+S$69) -> 0 | T41: =SUM(J41:S41)+I41 -> 0
...

Sheet 1K - Map of South African Parks
A1: Annexure 1K - Map of South African Parks

Sheet 1L - Kruger Park Camps
A1: Annexure 1M - Map of Kruger Park Camps

Sheet 1M - Backup & Recovery RTO & RP
A1: Annexure 1M - Backup and Recovery (RTO and RPO)
A3: Recovery Time Objective
A4: ICT Application/System | B4: Recovery dependencies | C4: MTO | D4: RPO | E4: RTO Hours
A5: Enterprise Content Management - requisitions and leave | B5: Network connection, Microsoft Azure Site Recovery services, active directory | C5: 24 Hours | D5: 24 Hours | E5: 4 Hours
A6: SQL Management | B6: Network connection, Microsoft Azure Site Recovery services, active directory | C6: 8 Hours | D6: 4 Hours | E6: 4 Hours
A7: SSRS (Reporting Tool) | B7: Network connection, Microsoft Azure Site Recovery services, active directory | C7: 24 Hours | D7: 24 Hours | E7: 8 Hours
A8: Business Process Management - Capturing of S&T | B8: Network connection, Microsoft Azure Site Recovery services, SQL server | C8: 24 Hours | D8: 24 Hours | E8: 4 Hours
A9: Roomseeker | B9: Network connection, Microsoft Azure Site Recovery services, SQL server, Glassfish, and active directory | C9: 4 Hours | D9: 30 Minutes | E9: 4 Hours
A10: CaseWare | B10: Network connection, Microsoft Azure Site Recovery services, active directory | C10: 4 Hours | D10: 4 Hours | E10: 4 Hours
A11: Project Online | B11: Network connection, Microsoft Azure Site Recovery services, active directory | C11: 48 Hours | D11: 4 Hours | E11: 28 Hours
A12: Website (www.sanparks.org) | B12: Network connection, Microsoft Azure Site Recovery services, My SQL database | C12: 4 Hours | D12: 4 Hours | E12: 1 Hour
A13: WEB application (e-commerce) | B13: Network connection, Microsoft Azure Site Recovery services, Room seeker and My SQL database, loyalty + Biztalk services, Call Pay, Plankton, loyalty+ | C13: 4 Hours | D13: 4 Hours | E13: 4 Hours
A14: Sage300 | B14: Network connection, Microsoft Azure Site Recovery services, active directory | C14: 4 Hours | D14: 4 Hours | E14: 4 Hours
A15: SharePoint | B15: Network connection, Microsoft Azure Site Recovery services | C15: 24 Hours | D15: 24 Hours | E15: 4 Hours
... A32: Starlight -outsourced | B32: Network connection, Microsoft Azure Site Recovery services | C32: 4 Hours | D32: 4 Hours | E32: 4 Hours
