Workbook

Sheet PARKS - NORTH
A1: SUMMARY OF VISITOR STATISTICS FOR THE TWELVE MONTHS ENDED MARCH 2024 FOR PARKS (EXCL. KNP)
B3: ACCOMMODATION (EXCL CAMPING) | J3: CAMPING | P3: CAMPING - OCCUPANCY | R3: GUESTS TO PARK/ CLUSTER | T3: WILD CARD FREE GUESTS | V3: TOTAL ACTIVITIES | X3: GAME DRIVE SEATS SOLD | Z3: PERSONS ON WILDERNESS TRAILS
B4: UNIT NIGHTS SOLD | C4: Previous year | D4: UNIT OCC | E4: Previous year | F4: BED NIGHTS SOLD | G4: Previous year | H4: BED OCC | I4: Previous year | J4: SITE NIGHTS SOLD | K4: Previous year | L4: CAMP SITE OCC | M4: Previous year | N4: PERSON NIGHTS SOLD | O4: Previous year | Q4: Previous year | S4: Previous year | U4: Previous year | W4: Previous year | Y4: Previous year | AA4: Previous year
A5: ARID | B5: =(B32-C32)/C32 -> -0.078289264 | D5: =D32-E32 -> -0.045 | F5: =(F32-G32)/G32 -> -0.076137844 | H5: =H32-I32 -> -0.03 | J5: =(J32-K32)/K32 -> 0.001220393 | L5: =L32-M32 -> 0.0018 | N5: =(N32-O32)/O32 -> -0.0343282 | P5: =P32-Q32 -> 0 | R5: =(R32-S32)/S32 -> -0.13389497 | T5: =(T32-U32)/U32 -> 0.41585938 | V5: =(V32-W32)/W32 -> 0.20609756
A6: AUGRABIES | B6: 6105 | C6: 8893 | D6: 0.278 | E6: 0.406 | F6: 13719 | G6: 18992 | H6: 0.272 | I6: 0.377 | J6: 4257 | K6: 4328 | L6: 0.2326 | M6: 0.2372 | N6: 10266 | O6: 12823 | R6: 61131 | S6: 88529 | T6: 8161 | U6: 4838 | V6: =X6+Z6 -> 256 | W6: =Y6+AA6 -> 88 | X6: 64 | Y6: 30 | Z6: 192 | AA6: 58
A7: KGALAGADI | B7: =SUM(B8:B16) -> 32575 | C7: =SUM(C8:C16) -> 33511 | D7: 0.872 | E7: 0.885 | F7: =SUM(F8:F16) -> 72648 | G7: =SUM(G8:G16) -> 75545 | H7: 0.66 | I7: 0.662 | J7: =SUM(J8:J16) -> 26433 | K7: =SUM(K8:K16) -> 26984 | L7: 0.8464 | M7: 0.8472 | N7: =SUM(N8:N16) -> 73575 | O7: =SUM(O8:O16) -> 74367 | R7: 51003 | S7: 49068 | T7: 9554 | U7: 8753 | V7: =SUM(V8:V16) -> 5937 | W7: =SUM(W8:W16) -> 4733 | X7: 5682 | Y7: 4413 | Z7: 255 | AA7: 320
A8: Bitterpan | B8: 1211 | C8: 1288 | D8: 0.867 | E8: 0.886 | F8: 2348 | G8: 2502 | H8: 0.841 | I8: 0.861
A9: Gharaghab | B9: 1291 | C9: 1375 | D9: 0.925 | E9: 0.942 | F9: 2512 | G9: 2690 | H9: 0.9 | I9: 0.921
A10: Grootkolk | B10: 1346 | C10: 1427 | D10: 0.942 | E10: 0.977 | F10: 2573 | G10: 2744 | H10: 0.9 | I10: 0.94
A11: Kalahari Tent Camp | B11: 4375 | C11: 4660 | D11: 0.824 | E11: 0.852 | F11: 9219 | G11: 9931 | H11: 0.7 | I11: 0.717
A12: Kieliekrankie | B12: 1432 | C12: 1425 | D12: 0.978 | E12: 0.976 | F12: 2737 | G12: 2751 | H12: 0.935 | I12: 0.942
A13: Mata Mata | B13: 4482 | C13: 4720 | D13: 0.85 | E13: 0.878 | F13: 11330 | G13: 12442 | H13: 0.65 | I13: 0.69 | J13: 7453 | K13: 7433 | L13: 0.8145 | M13: 0.8146 | N13: 20732 | O13: 21094 | V13: =X13+Z13 -> 1497 | W13: =Y13+AA13 -> 1173 | X13: 1497 | Y13: 1173
A14: Nossob | B14: 7402 | C14: 7592 | D14: 0.936 | E14: 0.943 | F14: 16709 | G14: 17425 | H14: 0.76 | I14: 0.769 | J14: 9727 | K14: 10383 | L14: 0.9079 | M14: 0.9101 | N14: 28434 | O14: 28912 | V14: =X14+Z14 -> 2332 | W14: =Y14+AA14 -> 2351 | X14: 2244 | Y14: 2209 | Z14: 88 | AA14: 142
A15: Twee Rivieren | B15: 9228 | C15: 9273 | D15: 0.813 | E15: 0.82 | F15: 21738 | G15: 21676 | H15: 0.512 | I15: 0.489 | J15: 9253 | K15: 9168 | L15: 0.8141 | M15: 0.8103 | N15: 24409 | O15: 24361 | V15: =X15+Z15 -> 2108 | W15: =Y15+AA15 -> 1209 | X15: 1941 | Y15: 1031 | Z15: 167 | AA15: 178
A16: Urikaruus | B16: 1808 | C16: 1751 | D16: 0.988 | E16: 0.959 | F16: 3482 | G16: 3384 | H16: 0.951 | I16: 0.927
A17: NAMAQUA | B17: 673 | C17: 828 | D17: 0.476 | E17: 0.556 | F17: 1436 | G17: 1641 | H17: 0.347 | I17: 0.367 | J17: 4888 | K17: 4620 | L17: 0.2646 | M17: 0.2522 | N17: 13165 | O17: 12581 | R17: 16609 | S17: 14334 | T17: 8428 | U17: 4937
A18: RICHTERSVELD | B18: =SUM(B19:B25) -> 1870 | C18: =SUM(C19:C25) -> 1909 | D18: 0.286 | E18: 0.293 | F18: =SUM(F19:F25) -> 3704 | G18: =SUM(G19:G25) -> 3821 | H18: 0.232 | I18: 0.238 | J18: =J19+J21+J22+J23+J24 -> 2819 | K18: =SUM(K19:K25) -> 2405 | L18: 0.1375 | M18: 0.118 | N18: =SUM(N19:N25) -> 7809 | O18: =SUM(O19:O25) -> 7788 | R18: 3872 | S18: 3569 | T18: 129 | U18: 19 | V18: =X18+Z18 -> 0 | W18: =Y18+AA18 -> 50 | X18: 0 | Z18: 0 | AA18: 50
A19: De Hoop | J19: 1259 | K19: 1124 | L19: 0.2867 | M19: 0.2566 | N19: 3971 | O19: 3727
A20: Ganakouriep | B20: 288 | C20: 280 | D20: 0.197 | E20: 0.251 | F20: 538 | G20: 529 | H20: 0.184 | I20: 0.181
A21: Kokerboomkloof | J21: 398 | K21: 489 | L21: 0.1359 | M21: 0.1675 | N21: 1190 | O21: 1397
A22: Potjiespram | J22: 696 | K22: 436 | L22: 0.1056 | M22: 0.0664 | N22: 1091 | O22: 1412
A23: Richtersberg | J23: 256 | K23: 188 | L23: 0.1166 | M23: 0.0858 | N23: 807 | O23: 614
A24: Sendelingsdrif | B24: 1273 | C24: 1380 | D24: 0.352 | E24: 0.378 | F24: 2571 | G24: 2817 | H24: 0.253 | I24: 0.276 | J24: 210 | K24: 168 | L24: 0.0478 | M24: 0.0389 | N24: 750 | O24: 638
A25: Tatasberg | B25: 309 | C25: 249 | D25: 0.211 | E25: 0.171 | F25: 595 | G25: 475 | H25: 0.203 | I25: 0.163
A26: MOKALA | B26: =SUM(B27:B31) -> 5069 | C26: 5083 | D26: 0.423 | E26: 0.432 | F26: =SUM(F27:F31) -> 11305 | G26: =SUM(G27:G31) -> 11286 | H26: 0.349 | I26: 0.347 | J26: =SUM(J27:J31) -> 1803 | K26: =SUM(K27:K31) -> 1814 | L26: 0.4478 | M26: 0.4489 | N26: =SUM(N27:N31) -> 4416 | O26: =SUM(O27:O31) -> 5555 | R26: 13063 | S26: 12699 | T26: 2082 | U26: 1479 | V26: =X26+Z26 -> 730 | W26: =Y26+AA26 -> 869 | X26: 730 | Y26: 869 | Z26: 0 | AA26: 0
A27: Haak en Steek | B27: 286 | C27: 302 | D27: 0.788 | E27: 0.618 | F27: 866 | G27: 942 | H27: 0.596 | I27: 0.645 | J27: 80 | K27: 93 | L27: 0.0437 | M27: 0.051 | N27: 228 | O27: 380
A28: Lilydale Lodge | B28: 2575 | C28: 2457 | D28: 0.541 | E28: 0.518 | F28: 6199 | G28: 5876 | H28: 0.376 | I28: 0.358
A29: Mofele Lodge
A30: Motswedi | J30: 1723 | K30: 1721 | L30: 0.7846 | M30: 0.667 | N30: 4188 | O30: 5175
A31: Mosu Lodge | B31: 2208 | C31: 2324 | D31: 0.322 | E31: 0.356 | F31: 4240 | G31: 4468 | H31: 0.294 | I31: 0.306
A32: CLUSTER TOTAL | B32: =B6+B7+B17+B18+B26 -> 46292 | C32: =C6+C7+C17+C18+C26 -> 50224 | D32: 0.584 | E32: 0.629 | F32: =F6+F7+F17+F18+F26 -> 102812 | G32: =G6+G7+G17+G18+G26 -> 111285 | H32: 0.482 | I32: 0.512 | J32: =J6+J7+J17+J18+J26 -> 40200 | K32: =K6+K7+K17+K18+K26 -> 40151 | L32: 0.4345 | M32: 0.4327 | N32: =N6+N7+N17+N18+N26 -> 109231 | O32: =O6+O7+O17+O18+O26 -> 113114 | R32: =R6+R7+R17+R18+R26 -> 145678 | S32: =S6+S7+S17+S18+S26 -> 168199 | T32: =T6+T7+T17+T18+T26 -> 28354 | U32: =U6+U7+U17+U18+U26 -> 20026 | V32: =V6+V7+V17+V18+V26 -> 6923 | W32: =W6+W7+W17+W18+W26 -> 5740 | X32: =X6+X7+X17+X18+X26 -> 6476 | Y32: =Y6+Y7+Y17+Y18+Y26 -> 5312 | ... AA32: =AA6+AA7+AA17+AA18+AA26 -> 428
A33: NORTHERN | B33: =(B48-C48)/C48 -> -0.080327259 | D33: =D48-E48 -> 0.011 | F33: =(F48-G48)/G48 -> -0.0018623213 | H33: =H48-I48 -> 0.015 | J33: =(J48-K48)/K48 -> 0.078394095 | L33: =L48-M48 -> 0.0243 | N33: =(N48-O48)/O48 -> 0.095697905 | P33: =P48-Q48 -> 0 | R33: =(R48-S48)/S48 -> 0.18543514 | T33: =(T48-U48)/U48 -> 0.89058709 | V33: =(V48-W48)/W48 -> 0.65478024
A34: GOLDEN GATE | B34: =B36+B37+B38+B35+B39 -> 9628 | C34: =C35+C36+C37+C38+C39 -> 12174 | D34: 0.296 | E34: 0.309 | F34: =F36+F37+F38+F35+F39 -> 24596 | G34: =G35+G36+G37+G38+G39 -> 24713 | H34: 0.213 | I34: 0.201 | J34: =J36+J37+J38+J35 -> 2715 | K34: =K36+K37+K38 -> 2597 | L34: 0.2473 | M34: 0.2372 | N34: =N36+N37+N38+N35 -> 7241 | O34: =O36+O37+O38 -> 6913 | R34: 45695 | S34: 45082 | T34: 4879 | U34: 2005 | V34: =X34+Z34 -> 2705 | W34: =Y34+AA34 -> 1080 | X34: 2452 | Y34: 568 | Z34: 253 | AA34: 512
A35: Basotho Cultural Village | B35: 0 | C35: 0 | D35: 0 | E35: 0 | F35: 0 | G35: 0 | H35: 0 | I35: 0
A36: Golden Gate Hotel | B36: 4918 | C36: 7611 | D36: 0.258 | E36: 0.293 | F36: 12836 | G36: 13240 | H36: 0.167 | I36: 0.156
A37: Glen Reenen | B37: 3386 | C37: 3116 | D37: 0.333 | E37: 0.303 | F37: 8256 | G37: 7682 | H37: 0.291 | I37: 0.275 | J37: 2715 | K37: 2597 | L37: 0.2473 | M37: 0.2372 | N37: 7241 | O37: 6913
A38: Highlands Retreat | B38: 1217 | C38: 1316 | D38: 0.419 | E38: 0.458 | F38: 3027 | G38: 3208 | H38: 0.347 | I38: 0.373
A39: Noord-Brabant | B39: 107 | C39: 131 | D39: 0.34 | E39: 0.482 | F39: 477 | G39: 583 | H39: 0.252 | I39: 0.357
A40: MARAKELE | B40: =B41+B42 -> 4659 | C40: =C41+C42 -> 4073 | D40: 0.51 | E40: 0.484 | F40: =SUM(F41:F42) -> 8915 | G40: =SUM(G41:G42) -> 8845 | H40: 0.375 | I40: 0.37 | J40: =J41 -> 4673 | K40: =K41 -> 4179 | L40: 0.3547 | M40: 0.318 | N40: 12155 | O40: =O41 -> 10607 | R40: 24759 | S40: 20757 | T40: 1121 | U40: 929 | V40: =X40+Z40 -> 3213 | W40: =Y40+AA40 -> 2354 | X40: 3170 | Y40: 2346 | Z40: 43 | AA40: 8
A41: Bontle | B41: 2136 | C41: 1617 | D41: 0.41 | E41: 0.364 | F41: 3276 | G41: 3218 | H41: 0.323 | I41: 0.316 | J41: 4673 | K41: 4179 | L41: 0.3547 | M41: 0.318 | N41: 12155 | O41: 10607
A42: Tlopi | B42: 2523 | C42: 2456 | D42: 0.642 | E42: 0.618 | F42: 5639 | G42: 5627 | H42: 0.415 | I42: 0.409
A43: MAPUNGUBWE | B43: =SUM(B44:B47) -> 5497 | C43: =C44+C45+C46+C47 -> 5265 | D43: 0.505 | E43: 0.478 | F43: =SUM(F44:F47) -> 11510 | G43: =SUM(G44:G47) -> 11547 | H43: 0.477 | I43: 0.438 | J43: 2255 | K43: 2166 | L43: 0.6161 | M43: 0.5934 | N43: 6022 | O43: 5678 | R43: 40383 | S43: 27660 | T43: 1793 | U43: 1188 | V43: =X43+Z43 -> 22018 | W43: =Y43+AA43 -> 13448 | X43: 22018 | Y43: 13448 | Z43: 0 | AA43: 0
A44: Leokwe | B44: 3676 | C44: 3771 | D44: 0.591 | E44: 0.594 | F44: 7953 | G44: 7991 | H44: 0.572 | I44: 0.565
A45: Limpopo Forest Tented | B45: 505 | C45: 453 | D45: 0.35 | E45: 0.178 | F45: 959 | G45: 868 | H45: 0.332 | I45: 0.171
A46: Tshugulu | B46: 347 | C46: 376 | D46: 0.474 | E46: 0.518 | F46: 1486 | G46: 1475 | H46: 0.338 | I46: 0.339
A47: Vhembe | B47: 969 | C47: 665 | D47: 0.391 | E47: 0.472 | F47: 1112 | G47: 1213 | H47: 0.382 | I47: 0.44
A48: CLUSTER TOTAL | B48: =B34+B40+B43 -> 19784 | C48: =C34+C40+C43 -> 21512 | D48: 0.377 | E48: 0.366 | F48: =F34+F40+F43 -> 45021 | G48: =G34+G40+G43 -> 45105 | H48: 0.275 | I48: 0.26 | J48: =J34+J40+J43 -> 9643 | K48: =K34+K40+K43 -> 8942 | L48: 0.3467 | M48: 0.3224 | N48: =N34+N40+N43 -> 25418 | O48: =O34+O40+O43 -> 23198 | R48: =R34+R40+R43 -> 110837 | S48: =S34+S40+S43 -> 93499 | T48: =T34+T40+T43 -> 7793 | U48: =U34+U40+U43 -> 4122 | V48: =V34+V43+V40 -> 27936 | W48: =W34+W40+W43 -> 16882 | X48: =X34+X43+X40 -> 27640 | Y48: =Y34+Y43+Y40 -> 16362 | Z48: =Z34+Z43+Z40 -> 296 | AA48: =AA34+AA43+AA40 -> 520
A49: TOTAL | B49: =B32+B48 -> 66076 | C49: =C32+C48 -> 71736 | D49: 0.52645777 | E49: 0.62758621 | F49: =F32+F48 -> 147833 | G49: =G32+G48 -> 156390 | H49: 0.3998827 | I49: 0.42822581 | J49: =J32+J48 -> 49843 | K49: =K32+K48 -> 49093 | L49: 0 | M49: 0 | N49: =N32+N48 -> 134649 | O49: =O32+O48 -> 136312 | P49: 0 | Q49: 0 | R49: =R32+R48 -> 256515 | S49: =S32+S48 -> 261698 | T49: =T32+T48 -> 36147 | U49: =U32+U48 -> 24148 | V49: =V32+V48 -> 34859 | W49: =W32+W48 -> 22622 | X49: =X32+X48 -> 34116 | Y49: =Y32+Y48 -> 21674 | ... AA49: =AA32+AA48 -> 948
A51: DIFFERENCE | B51: =(B49-C49)/C49 -> -0.078900413 | D51: =D49-E49 -> -0.10112844 | F51: =(F49-G49)/G49 -> -0.054715775 | H51: =H49-I49 -> -0.028343104 | J51: =(J49-K49)/K49 -> 0.015277127 | L51: =L49-M49 -> 0 | N51: =(N49-O49)/O49 -> -0.012199953 | P51: =P49-Q49 -> 0 | R51: =(R49-S49)/S49 -> -0.019805272 | T51: =(T49-U49)/U49 -> 0.49689415 | V51: =(V49-W49)/W49 -> 0.5409336 | X51: =(X49-Y49)/Y49 -> 0.57405186 | Z51: =(Z49-AA49)/AA49 -> -0.21624473

Sheet PARKS - SOUTH
A1: SUMMARY OF VISITOR STATISTICS FOR THE TWELVE MONTHS ENDED MARCH 2024 FOR PARKS (EXCL. KNP)
B3: ACCOMMODATION (EXCL CAMPING) | J3: CAMPING | P3: CAMPING - OCCUPANCY | R3: GUESTS TO PARK/ CLUSTER | T3: WILD CARD FREE GUESTS | V3: TOTAL ACTIVITIES | X3: GAME DRIVE SEATS SOLD | Z3: PERSONS ON WILDERNESS TRAILS
B4: UNIT NIGHTS SOLD | C4: Previous year | D4: UNIT OCC | E4: Previous year | F4: BED NIGHTS SOLD | G4: Previous year | H4: BED OCC | I4: Previous year | J4: SITE NIGHTS SOLD | K4: Previous year | L4: CAMP SITE OCC | M4: Previous year | N4: PERSON NIGHTS SOLD | O4: Previous year | Q4: Previous year | S4: Previous year | U4: Previous year | W4: Previous year | Y4: Previous year | AA4: Previous year
A5: CAPE | B5: =(B19-C19)/C19 -> -0.075046382 | D5: =D19-E19 -> -0.028 | F5: =(F19-G19)/G19 -> -0.10236447 | H5: =H19-I19 -> -0.012 | J5: =(J19-K19)/K19 -> 0.074373259 | L5: =L19-M19 -> 0.0053 | N5: =(N19-O19)/O19 -> 0.040547886 | P5: =P19-Q19 -> 0 | R5: =(R19-S19)/S19 -> 0.32333464 | T5: =(T19-U19)/U19 -> 0.10914925 | V5: =(V19-W19)/W19 -> 0.11851852
A6: AGULHAS | B6: =SUM(B7:B10) -> 2599 | C6: =SUM(C7:C10) -> 2911 | D6: 0.36 | E6: 0.408 | F6: =SUM(F7:F10) -> 6746 | G6: =SUM(G7:G10) -> 7433 | H6: 0.287 | I6: 0.313 | R6: 36350 | S6: 26506 | T6: 1476 | U6: 868
A7: Agulhas Main | B7: 2556 | C7: 2826 | D7: 0.443 | E7: 0.484 | F7: 6593 | G7: 7101 | H7: 0.381 | I7: 0.405
A8: Bergplaas | B8: 7 | C8: 32 | D8: 0.026 | E8: 0.112 | F8: 52 | G8: 192 | H8: 0.019 | I8: 0.067
A9: Rhenosterkop | B9: 36 | C9: 53 | D9: 0.031 | E9: 0.052 | F9: 101 | G9: 140 | H9: 0.029 | I9: 0.042
A10: Rietfontein
A11: BONTEBOK | B11: 1917 | C11: 1976 | D11: 0.374 | E11: 0.387 | F11: 4589 | G11: 4761 | H11: 0.273 | I11: 0.287 | J11: 2451 | K11: 2399 | L11: 0.2894 | M11: 0.2635 | N11: 6582 | O11: 6032 | R11: 16232 | S11: 16675 | T11: 3939 | U11: 2805
A12: TABLE MOUNTAIN | B12: 2171 | C12: 2493 | D12: 0.306 | E12: 0.314 | F12: 7674 | G12: 9249 | H12: 0.279 | I12: 0.291 | R12: =SUM(R13:R14) -> 2987212 | S12: =SUM(S13:S14) -> 2240788 | T12: =SUM(T13:T14) -> 30249 | U12: =SUM(U13:U14) -> 22609 | V12: =X12+Z12 -> 1469 | W12: =Y12+AA12 -> 1124 | X12: 0 | Y12: 0 | Z12: 1469 | AA12: 1124
A13: Table Mountain NP | R13: 1933240 | S13: 1441360 | T13: 30249 | U13: 22609
A14: Table Mountain Cableway | R14: 1053972 | S14: 799428 | T14: 0 | U14: 0
A15: TANKWA KAROO | B15: =SUM(B16:B17) -> 2192 | C15: =SUM(C16:C17) -> 2279 | D15: 0.36 | E15: 0.412 | F15: =SUM(F16:F17) -> 5718 | G15: =SUM(G16:G17) -> 6317 | H15: 0.223 | I15: 0.219 | J15: 1406 | K15: 1191 | L15: 0.2253 | M15: 0.2446 | N15: 2990 | O15: 3167 | R15: 4756 | S15: 4279 | T15: 641 | U15: 880
A16: Elandsberg | B16: 1579 | C16: 1767 | D16: 0.432 | E16: 0.518 | F16: 4114 | G16: 4571 | H16: 0.281 | I16: 0.313
A17: Tankwa | B17: 613 | C17: 512 | D17: 0.252 | E17: 0.234 | F17: 1604 | G17: 1746 | H17: 0.146 | I17: 0.122 | J17: 1406 | K17: 1191 | L17: 0.2253 | M17: 0.2446 | N17: 2990 | O17: 3167 | R17: .
A18: WEST COAST | B18: 1092 | C18: 1121 | D18: 0.599 | E18: 0.644 | F18: 3404 | G18: 3579 | H18: 0.389 | I18: 0.43 | R18: 190589 | S18: 156439 | T18: 23497 | U18: 26755 | V18: =X18+Z18 -> 1400 | W18: =Y18+AA18 -> 1441 | X18: 974 | Y18: 1019 | Z18: 426 | AA18: 422
A19: CLUSTER TOTAL | B19: =B6+B11+B12+B15+B18 -> 9971 | C19: =C6+C11+C12+C15+C18 -> 10780 | D19: 0.365 | E19: 0.393 | F19: =F6+F11+F12+F15+F18 -> 28131 | G19: =G6+G11+G12+G15+G18 -> 31339 | H19: 0.275 | I19: 0.287 | J19: =J6+J11+J12+J15+J18 -> 3857 | K19: =K6+K11+K12+K15+K18 -> 3590 | L19: 0.2622 | M19: 0.2569 | N19: =N6+N11+N12+N15+N18 -> 9572 | O19: =O6+O11+O12+O15+O18 -> 9199 | R19: =R6+R11+R12+R15+R18 -> 3235139 | S19: =S6+S11+S12+S15+S18 -> 2444687 | T19: =T6+T11+T12+T15+T18 -> 59802 | U19: =U6+U11+U12+U15+U18 -> 53917 | V19: =V6+V11+V12+V15+V18 -> 2869 | W19: =W6+W11+W12+W15+W18 -> 2565 | X19: =SUM(X6:X18) -> 974 | Y19: =SUM(Y6:Y18) -> 1019 | Z19: =SUM(Z6:Z18) -> 1895 | AA19: =SUM(AA6:AA18) -> 1546
A20: FRONTIER | B20: =(B33-C33)/C33 -> 0.013122797 | D20: =(D33-E33)/E33 -> 0.017673049 | F20: =(F33-G33)/G33 -> 0.018456273 | H20: =(H33-I33)/I33 -> 0.010224949 | J20: =(J33-K33)/K33 -> 0.067231289 | L20: =(L33-M33)/M33 -> 0.034858854 | N20: =(N33-O33)/O33 -> 0.036822097 | P20: =P30-Q30 -> 0 | R20: =(R33-S33)/S33 -> 0.13051259 | T20: =(T33-U33)/U33 -> 0.26186208 | V20: =(V33-W33)/W33 -> 0.31924517
A21: ADDO | B21: =SUM(B22:B29) -> 24896 | C21: =SUM(C22:C29) -> 24553 | D21: 0.726 | E21: 0.722 | F21: =SUM(F22:F29) -> 57074 | G21: =SUM(G22:G29) -> 56440 | H21: 0.593 | I21: 0.588 | J21: =SUM(J22:J27) -> 8816 | K21: =SUM(K22:K27) -> 8490 | L21: 0.45 | M21: 0.4523 | N21: =SUM(N22:N27) -> 20366 | O21: =SUM(O22:O27) -> 21856 | R21: 223812 | S21: 195474 | T21: 26768 | U21: 21632 | V21: =X21+Z21 -> 28599 | W21: =Y21+AA21 -> 20969 | X21: 28249 | Y21: 20498 | Z21: 350 | AA21: 471
A22: Addo | B22: 18719 | C22: 18055 | D22: 0.795 | E22: 0.791 | F22: 42485 | G22: 41118 | H22: 0.636 | I22: 0.63 | J22: 8797 | K22: 8402 | L22: 0.6752 | M22: 0.6971 | N22: 20206 | O22: 21325
A23: Alexandria | B23: 138 | C23: 193 | D23: 0.227 | E23: 0.283 | F23: 518 | G23: 643 | H23: 0.158 | I23: 0.181
A24: Darlington | J24: 0 | K24: 64 | L24: 0 | M24: 0.0141 | N24: 0 | O24: 400
A25: Mathyolweni | B25: 2456 | C25: 2342 | D25: 0.483 | E25: 0.466 | F25: 5063 | G25: 4809 | H25: 0.41 | I25: 0.395
A26: Mvubu | J26: 19 | K26: 24 | L26: 0.0087 | M26: 0.011 | N26: 160 | O26: 131
A27: Narina | B27: 0 | C27: 3 | D27: 0 | E27: 0.059 | F27: 0 | G27: 12 | H27: 0 | I27: 0.019
A28: Nyathi | B28: 2670 | C28: 3026 | D28: 0.786 | E28: 0.818 | F28: 7280 | G28: 8087 | H28: 0.699 | I28: 0.738
A29: Spekboom | B29: 913 | C29: 934 | D29: 0.553 | E29: 0.539 | F29: 1728 | G29: 1771 | H29: 0.521 | I29: 0.516
A30: CAMDEBOO | B30: 1079 | C30: 1513 | D30: 0.428 | E30: 0.481 | F30: 1742 | G30: 2172 | H30: 0.221 | I30: 0.259 | J30: 2294 | K30: 2117 | L30: 0.4179 | M30: 0.3867 | N30: 5296 | O30: 4787 | R30: 36716 | S30: 31208 | T30: 3424 | U30: 3606
A31: KAROO | B31: 8796 | C31: 8454 | D31: 0.641 | E31: 0.62 | F31: 21127 | G31: 20282 | H31: 0.425 | I31: 0.408 | J31: 6583 | K31: 6236 | L31: 0.5432 | M31: 0.517 | N31: 14364 | O31: 13053 | R31: 30226 | S31: 29503 | T31: 6175 | U31: 4058 | V31: =X31+Z31 -> 1173 | W31: =Y31+AA31 -> 1345 | X31: 1173 | Y31: 1345 | Z31: 0 | AA31: 0
A32: MOUNTAIN ZEBRA | B32: 7768 | C32: 7468 | D32: 0.701 | E32: 0.675 | F32: 20047 | G32: 19284 | H32: 0.426 | I32: 0.414 | J32: 4737 | K32: 4174 | L32: 0.5177 | M32: 0.4831 | N32: 11249 | O32: 9758 | R32: 25733 | S32: 23765 | T32: 5865 | U32: 4172 | V32: =X32+Z32 -> 4064 | W32: =Y32+AA32 -> 3334 | X32: 4064 | Y32: 3334 | Z32: 0 | AA32: 0
A33: CLUSTER TOTAL | B33: =B21+B31+B32+B30 -> 42539 | C33: =C21+C31+C32+C30 -> 41988 | D33: 0.691 | E33: 0.679 | F33: =F21+F31+F32+F30 -> 99990 | G33: =G21+G31+G32+G30 -> 98178 | H33: 0.494 | I33: 0.489 | J33: =J21+J31+J32+J30 -> 22430 | K33: =K21+K31+K32+K30 -> 21017 | L33: 0.4839 | M33: 0.4676 | N33: =N21+N31+N32+N30 -> 51275 | O33: =O21+O31+O32+O30 -> 49454 | R33: =R21+R31+R32+R30 -> 316487 | S33: =S21+S31+S32+S30 -> 279950 | T33: =T21+T31+T32+T30 -> 42232 | U33: =U21+U31+U32+U30 -> 33468 | V33: =V21+V31+V32+V30 -> 33836 | W33: =W21+W31+W32+W30 -> 25648 | X33: =X21+X31+X32 -> 33486 | Y33: =Y24+Y31+Y32 -> 4679 | Z33: =SUM(Z21:Z32) -> 350 | AA33: =SUM(AA24:AA32) -> 0
A34: GARDEN ROUTE | B34: =(B41-C41)/C41 -> 0.040430506 | D34: =D41-E41 -> 0.028 | F34: =(F41-G41)/G41 -> 0.045533689 | H34: =H41-I41 -> 0.021 | J34: =(J41-K41)/K41 -> 0.037945062 | L34: =L41-M41 -> 0.024 | N34: =(N41-O41)/O41 -> 0.090505864 | P34: =P40-Q40 -> 0 | R34: =(R41-S41)/S41 -> 0.19956853 | T34: =(T41-U41)/U41 -> 0.56924242 | V34: =(V41-W41)/W41 -> -0.29598902
A35: GARDEN ROUTE | B35: =B41 -> 25811 | C35: =C41 -> 24808 | D35: 0.48 | E35: 0.452 | F35: =F41 -> 59448 | G35: =G41 -> 56859 | H35: 0.397 | I35: 0.376 | J35: =J41 -> 28831 | K35: =K41 -> 27777 | L35: 0.2647 | M35: 0.2407 | N35: =N41 -> 80150 | O35: =O41 -> 73498 | R35: =R41 -> 446501 | S35: =S41 -> 372218 | V35: =V41 -> 11286 | W35: =W41 -> 16031 | X35: =X41 -> 1276 | Y35: =Y41 -> 2328 | Z35: =Z41 -> 10010 | AA35: =AA41 -> 13703
A36: Tsitsikamma Section | B36: =SUM(B37:B38) -> 17543 | C36: =SUM(C37:C38) -> 17145 | D36: 0.509 | E36: 0.493 | F36: =SUM(F37:F38) -> 39835 | G36: =SUM(G37:G38) -> 38970 | H36: 0.437 | I36: 0.425 | J36: =SUM(J37:J38) -> 13995 | K36: =SUM(K37:K38) -> 13730 | L36: 0.2413 | M36: 0.2263 | N36: =SUM(N37:N38) -> 39573 | O36: =SUM(O37:O38) -> 36656 | R36: 296787 | S36: 237113 | T36: 6350 | U36: 4715 | V36: =X36+Z36 -> 5197 | W36: =Y36+AA36 -> 8083 | X36: 1276 | Y36: 2328 | Z36: 3921 | AA36: 5755
A37: Natures Valley | B37: 1658 | C37: 1686 | D37: 0.378 | E37: 0.385 | F37: 3249 | G37: 3144 | H37: 0.342 | I37: 0.332 | J37: 3630 | K37: 3469 | L37: 0.2136 | M37: 0.2179 | N37: 10359 | O37: 8825
A38: Storms River Mouth | B38: 15885 | C38: 15459 | D38: 0.528 | E38: 0.508 | F38: 36586 | G38: 35826 | H38: 0.448 | I38: 0.436 | J38: 10365 | K38: 10261 | L38: 0.2529 | M38: 0.2309 | N38: 29214 | O38: 27831
A39: Knysna Section | B39: 470 | C39: 439 | D39: 0.214 | E39: 0.202 | F39: 1099 | G39: 1064 | H39: 0.162 | I39: 0.163 | J39: 465 | K39: 471 | L39: 0.2117 | M39: 0.2146 | N39: 1124 | O39: 1108 | R39: 41242 | S39: 40060 | T39: 5517 | U39: 3621 | V39: =X39+Z39 -> 5058 | W39: =Y39+AA39 -> 6499 | X39: 0 | Y39: 0 | Z39: 5058 | AA39: 6499
A40: Wilderness Section | B40: 7798 | C40: 7224 | D40: 0.457 | E40: 0.404 | F40: 18514 | G40: 16825 | H40: 0.358 | I40: 0.316 | J40: 14371 | K40: 13576 | L40: 0.2948 | M40: 0.2583 | N40: 39453 | O40: 35734 | R40: 108472 | S40: 95045 | T40: 17153 | U40: 10157 | V40: =X40+Z40 -> 1031 | W40: =Y40+AA40 -> 1449 | X40: 0 | Y40: 0 | Z40: 1031 | AA40: 1449
A41: CLUSTER TOTAL | B41: =B36+B40+B39 -> 25811 | C41: =C36+C40+C39 -> 24808 | D41: 0.48 | E41: 0.452 | F41: =F36+F40+F39 -> 59448 | G41: =G36+G40+G39 -> 56859 | H41: 0.397 | I41: 0.376 | J41: =J36+J40+J39 -> 28831 | K41: =K36+K40+K39 -> 27777 | L41: 0.2647 | M41: 0.2407 | N41: =N36+N40+N39 -> 80150 | O41: =O36+O40+O39 -> 73498 | R41: =R36+R40+R39 -> 446501 | S41: =S36+S40+S39 -> 372218 | T41: =T36+T40+T39 -> 29020 | U41: =U36+U40+U39 -> 18493 | V41: =V36+V40+V39 -> 11286 | W41: =W36+W40+W39 -> 16031 | X41: =X36+X40 -> 1276 | Y41: =Y36+Y40 -> 2328 | Z41: =SUM(Z36:Z40) -> 10010 | AA41: =SUM(AA36:AA40) -> 13703
A42: TOTAL PARKS | B42: =B41+B33+B19+'PARKS - NORTH'!B32+'PARKS - NORTH'!B48 -> 144397 | C42: =C41+C33+C19+'PARKS - NORTH'!C32+'PARKS - NORTH'!C48 -> 149312 | D42: 0.526 | E42: 0.528 | F42: =F41+F33+F19+'PARKS - NORTH'!F32+'PARKS - NORTH'!F48 -> 335402 | G42: =G41+G33+G19+'PARKS - NORTH'!G32+'PARKS - NORTH'!G48 -> 342766 | H42: 0.404 | I42: 0.402 | J42: =J41+J33+J19+'PARKS - NORTH'!J32+'PARKS - NORTH'!J48 -> 104961 | K42: =K41+K33+K19+'PARKS - NORTH'!K32+'PARKS - NORTH'!K48 -> 101477 | L42: 0.3615 | M42: 0.3445 | N42: =N41+N33+N19+'PARKS - NORTH'!N32+'PARKS - NORTH'!N48 -> 275646 | O42: =O41+O33+O19+'PARKS - NORTH'!O32+'PARKS - NORTH'!O48 -> 268463 | R42: =R41+R33+R19+'PARKS - NORTH'!R32+'PARKS - NORTH'!R48 -> 4254642 | S42: =S41+S33+S19+'PARKS - NORTH'!S32+'PARKS - NORTH'!S48 -> 3358553 | T42: =T41+T33+T19+'PARKS - NORTH'!T32+'PARKS - NORTH'!T48 -> 167201 | U42: =U41+U33+U19+'PARKS - NORTH'!U32+'PARKS - NORTH'!U48 -> 130026 | V42: =V41+V33+V19+'PARKS - NORTH'!V32+'PARKS - NORTH'!V48 -> 82850 | W42: =W41+W33+W19+'PARKS - NORTH'!W32+'PARKS - NORTH'!W48 -> 66866 | X42: =X41+X33+X19+'PARKS - NORTH'!X32+'PARKS - NORTH'!X48 -> 69852 | Y42: =Y41+Y33+Y19+'PARKS - NORTH'!Y32+'PARKS - NORTH'!Y48 -> 29700 | ... AA42: =AA41+AA33+AA19+'PARKS - NORTH'!AA32+'PARKS - NORTH'!AA48 -> 16197
A43: DIFFERENCE | B43: =(B42-C42)/C42 -> -0.032917649 | D43: =D42-E42 -> -0.002 | F43: =(F42-G42)/G42 -> -0.021484045 | H43: =H42-I42 -> 0.002 | J43: =(J42-K42)/K42 -> 0.034332903 | L43: =L42-M42 -> 0.017 | N43: =(N42-O42)/O42 -> 0.026756015 | R43: =(R42-S42)/S42 -> 0.26680806 | T43: =(T42-U42)/U42 -> 0.28590436 | V43: =(V42-W42)/W42 -> 0.23904525 | X43: =(X42-Y42)/Y42 -> 1.3519192 | Z43: =(Z42-AA42)/AA42 -> -0.19750571

Sheet KNP
A1: SUMMARY OF VISITOR STATISTICS FOR THE TWELVE MONTHS ENDED MARCH 2024 FOR THE KRUGER NATIONAL PARK
B3: ACCOMMODATION (EXCL CAMPING) | J3: CAMPING | P3: CAMPING - OCCUPANCY | R3: TOTAL GUEST ENTRIES INTO PARK | T3: WILD CARD FREE GUESTS | V3: TOTAL ACTIVITIES | X3: GAME DRIVE SEATS SOLD | Z3: PERSONS ON WILDERNESS TRAILS
B4: UNIT NIGHTS SOLD | C4: Previous year | D4: UNIT OCC | E4: Previous year | F4: BED NIGHTS SOLD | G4: Previous year | H4: BED OCCUPANCY | I4: Previous year | J4: SITE NIGHTS SOLD | K4: Previous year | L4: CAMP SITE OCC | M4: Previous year | N4: PERSON NIGHTS SOLD | O4: Previous year | Q4: Previous year | S4: Previous year | U4: Previous year | W4: Previous year | Y4: Previous year | AA4: Previous year
A5: KNP NXANATSENI | B5: =(B20-C20)/C20 -> 0.031092639 | D5: =D20-E20 -> 0.0182 | F5: =(F20-G20)/G20 -> 0.01755049 | H5: =H20-I20 -> 0.005 | J5: =(J20-K20)/K20 -> 0.024121322 | L5: =L20-M20 -> 0.0161 | N5: =(N20-O20)/O20 -> 0.026279023 | P5: =P20-Q20 -> 0 | V5: =(V20-W20)/W20 -> 0.099398597
A6: BALULE | B6: 2195 | C6: 2296 | D6: 0.855 | E6: 0.836 | F6: 3921 | G6: 3890 | H6: 0.595 | I6: 0.592 | J6: 4718 | K6: 4533 | L6: 0.7162 | M6: 0.69 | N6: 12103 | O6: 11742
A7: BATELEUR | B7: 1593 | C7: 1440 | D7: 0.622 | E7: 0.564 | F7: 4508 | G7: 4371 | H7: 0.406 | I7: 0.352 | V7: =X7+Z7 -> 1 | W7: =Y7+AA7 -> 48 | X7: 1 | Y7: 48
A8: BOULDERS | B8: 242 | C8: 229 | D8: 0.661 | E8: 0.641 | F8: 1977 | G8: 1857 | H8: 0.45 | I8: 0.433
A9: LETABA | B9: 27990 | C9: 27228 | D9: 0.622 | E9: 0.608 | F9: 65098 | G9: 66814 | H9: 0.473 | I9: 0.486 | J9: 15127 | K9: 14931 | L9: 0.6888 | M9: 0.6818 | N9: 41951 | O9: 40805 | V9: =X9+Z9 -> 10066 | W9: =Y9+AA9 -> 9072 | X9: 9656 | Y9: 8602 | Z9: 410 | AA9: 470
A10: MOPANI | B10: 19824 | C10: 18407 | D10: 0.526 | E10: 0.498 | F10: 59137 | G10: 56087 | H10: 0.319 | I10: 0.308 | V10: =X10+Z10 -> 5725 | W10: =Y10+AA10 -> 5106 | X10: 5582 | Y10: 4841 | Z10: 143 | AA10: 265
A11: OLIFANTS | B11: 26507 | C11: 25595 | D11: 0.668 | E11: 0.633 | F11: 58897 | G11: 57678 | H11: 0.587 | I11: 0.578 | V11: =X11+Z11 -> 13643 | W11: =Y11+AA11 -> 11804 | X11: 13388 | Y11: 11454 | Z11: 255 | AA11: 350
A12: PHALABORWA | V12: =X12+Z12 -> 3444 | W12: =Y12+AA12 -> 3926 | X12: 3327 | Y12: 3712 | Z12: 117 | AA12: 214
A13: PAFURI BORDER | B13: 629 | C13: 706 | D13: 0.582 | E13: 0.645 | F13: 2504 | G13: 2519 | H13: 0.387 | I13: 0.383
A14: PUNDA MARIA | B14: 6809 | C14: 7701 | D14: 0.609 | E14: 0.694 | F14: 15835 | G14: 16093 | H14: 0.58 | I14: 0.591 | J14: 11035 | K14: 10876 | L14: 0.5025 | M14: 0.4966 | N14: 28391 | O14: 27399 | V14: =X14+Z14 -> 1945 | W14: =Y14+AA14 -> 2077 | X14: 1773 | Y14: 1706 | Z14: 172 | AA14: 371
A15: SABLE DAM | B15: 291 | C15: 267 | D15: 0.795 | E15: 0.761 | F15: 1093 | G15: 1005 | H15: 0.332 | I15: 0.318
A16: SHIMUWINI | B16: 3602 | C16: 3738 | D16: 0.656 | E16: 0.683 | F16: 10975 | G16: 11189 | H16: 0.422 | I16: 0.432 | V16: =X16+Z16 -> 425 | W16: =Y16+AA16 -> 536 | X16: 425 | Y16: 536
A17: SHINGWEDZI | B17: 18494 | C17: 17180 | D17: 0.632 | E17: 0.588 | F17: 38808 | G17: 36483 | H17: 0.51 | I17: 0.507 | J17: 14834 | K17: 14363 | L17: 0.6235 | M17: 0.5949 | N17: 37583 | O17: 36844 | V17: =X17+Z17 -> 3872 | W17: =Y17+AA17 -> 3285 | X17: 3714 | Y17: 3025 | Z17: 158 | AA17: 260
A18: SIRHENI | B18: 3215 | C18: 3245 | D18: 0.592 | E18: 0.593 | F18: 9166 | G18: 9243 | H18: 0.317 | I18: 0.317 | V18: =X18+Z18 -> 365 | W18: =Y18+AA18 -> 62 | X18: 365 | Y18: 62
A19: TSENDZE | J19: 8716 | K19: 8445 | L19: 0.7023 | M19: 0.6821 | N19: 22477 | O19: 22066
A20: REGIONAL TOTAL | B20: =SUM(B6:B19) -> 111391 | C20: =SUM(C6:C19) -> 108032 | D20: 0.6166 | E20: 0.5984 | F20: =SUM(F6:F19) -> 271919 | G20: =SUM(G6:G19) -> 267229 | H20: 0.443 | I20: 0.438 | J20: =SUM(J6:J19) -> 54430 | K20: =SUM(K6:K19) -> 53148 | L20: 0.6277 | M20: 0.6116 | N20: =SUM(N6:N19) -> 142505 | O20: =SUM(O6:O19) -> 138856 | V20: =SUM(V6:V19) -> 39486 | W20: =SUM(W6:W19) -> 35916 | X20: =SUM(X6:X19) -> 38231 | Y20: =SUM(Y6:Y19) -> 33986 | Z20: =SUM(Z6:Z19) -> 1255 | AA20: =SUM(AA6:AA19) -> 1930
A21: KNP MARULA | B21: =(B36-C36)/C36 -> 0.043354817 | D21: =D36-E36 -> 0.0309 | F21: =(F36-G36)/G36 -> 0.03028068 | H21: =H36-I36 -> 0.0166 | J21: =(J36-K36)/K36 -> 0.034381059 | L21: =L36-M36 -> 0.0222 | N21: =(N36-O36)/O36 -> 0.049853141 | P21: =P36-Q36 -> 0 | V21: =(V36-W36)/W36 -> 0.25274526
A22: BERG-EN-DAL | B22: 29010 | C22: 28305 | D22: 0.853 | E22: 0.834 | F22: 77321 | G22: 73935 | H22: 0.597 | I22: 0.572 | J22: 22568 | K22: 22215 | L22: 0.7517 | M22: 0.7367 | N22: 63770 | O22: 59226 | V22: =X22+Z22 -> 14226 | W22: =Y22+AA22 -> 12295 | X22: 13449 | Y22: 11475 | Z22: 777 | AA22: 820
A23: BIYAMITI | B23: 4794 | C23: 4384 | D23: 0.886 | E23: 0.898 | F23: 14865 | G23: 13501 | H23: 0.589 | I23: 0.592 | V23: =X23+Z23 -> 1362 | W23: =Y23+AA23 -> 1276 | X23: 1362 | Y23: 1276
A24: CROCODILE BRIDGE | B24: 9230 | C24: 8954 | D24: 0.913 | E24: 0.858 | F24: 19412 | G24: 17734 | H24: 0.727 | I24: 0.687 | J24: 6730 | K24: 6035 | L24: 0.8893 | M24: 0.8267 | N24: 16676 | O24: 14807 | V24: =X24+Z24 -> 19266 | W24: =Y24+AA24 -> 16055 | X24: 18896 | Y24: 15493 | Z24: 370 | AA24: 562
A25: LOWER SABIE | B25: 38601 | C25: 37121 | D25: 0.918 | E25: 0.884 | F25: 82815 | G25: 79928 | H25: 0.787 | I25: 0.761 | J25: 11467 | K25: 10725 | L25: 0.8245 | M25: 0.7733 | N25: 32297 | O25: 29189 | V25: =X25+Z25 -> 18882 | W25: =Y25+AA25 -> 15108 | X25: 18882 | Y25: 15108
A26: MALELANE | B26: 1612 | C26: 1542 | D26: 0.884 | E26: 0.742 | F26: 3976 | G26: 3627 | H26: 0.574 | I26: 0.532 | J26: 3972 | K26: 3692 | L26: 0.6733 | M26: 0.6032 | N26: 9842 | O26: 8885 | V26: =X26+Z26 -> 5587 | W26: =Y26+AA26 -> 4418 | X26: 5587 | Y26: 4418
A27: MARULA | J27: 6280 | K27: 6208 | L27: 0.7149 | M27: 0.7294 | N27: 15673 | O27: 16541
A28: ORPEN | B28: 4372 | C28: 4312 | D28: 0.796 | E28: 0.79 | F28: 10183 | G28: 10111 | H28: 0.662 | I28: 0.661 | V28: =X28+Z28 -> 5666 | W28: =Y28+AA28 -> 4168 | X28: 5666 | Y28: 4168
A29: PRETORIUSKOP | B29: 27321 | C29: 26450 | D29: 0.549 | E29: 0.533 | F29: 62763 | G29: 61052 | H29: 0.476 | I29: 0.465 | J29: 8134 | K29: 8097 | L29: 0.4358 | M29: 0.435 | N29: 23627 | O29: 27236 | V29: =X29+Z29 -> 12967 | W29: =Y29+AA29 -> 8675 | X29: 12510 | Y29: 7984 | Z29: 457 | AA29: 691
A30: ROODEWAL | B30: 257 | C30: 217 | D30: 0.714 | E30: 0.596 | F30: 2709 | G30: 3001 | H30: 0.418 | I30: 0.298
A31: SATARA | B31: 49812 | C31: 47714 | D31: 0.843 | E31: 0.796 | F31: 110097 | G31: 106026 | H31: 0.743 | I31: 0.704 | J31: 31151 | K31: 30117 | L31: 0.7954 | M31: 0.7711 | N31: 81003 | O31: 74496 | V31: =X31+Z31 -> 23654 | W31: =Y31+AA31 -> 21201 | X31: 22589 | Y31: 20078 | Z31: 1065 | AA31: 1123
A32: SKUKUZA REST CAMP | B32: 63096 | C32: 60647 | D32: 0.786 | E32: 0.749 | F32: 141834 | G32: 139815 | H32: 0.64 | I32: 0.618 | J32: 23332 | K32: 22768 | L32: 0.75 | M32: 0.7339 | N32: 63435 | O32: 61397 | V32: =X32+Z32 -> 42109 | W32: =Y32+AA32 -> 31227 | X32: 42109 | Y32: 31227 | Z32: 0 | AA32: 0
A33: SKUKUZA SAFARI LODGE | B33: 12371 | C33: 11065 | D33: 0.457 | E33: 0.414 | F33: 16114 | G33: 15960 | H33: 0.287 | I33: 0.337 | V33: =X33+Z33 -> 0 | W33: =Y33+AA33 -> 0 | X33: 0 | Y33: 0 | Z33: 0 | AA33: 0
A34: TALAMATI | B34: 4104 | C34: 3962 | D34: 0.753 | E34: 0.735 | F34: 13872 | G34: 13438 | H34: 0.455 | I34: 0.446 | V34: =X34+Z34 -> 1394 | W34: =Y34+AA34 -> 1413 | X34: 1394 | Y34: 1413
A35: TAMBOTI | B35: 12656 | C35: 11874 | D35: 0.864 | E35: 0.813 | F35: 26536 | G35: 27249 | H35: 0.604 | I35: 0.622
A36: REGIONAL TOTAL | B36: =SUM(B22:B35) -> 257236 | C36: =SUM(C22:C35) -> 246547 | D36: 0.7667 | E36: 0.7358 | F36: =SUM(F22:F35) -> 582497 | G36: =SUM(G22:G35) -> 565377 | H36: 0.6147 | I36: 0.5981 | J36: =SUM(J22:J35) -> 113634 | K36: =SUM(K22:K35) -> 109857 | L36: 0.7325 | M36: 0.7103 | N36: =SUM(N22:N35) -> 306323 | O36: =SUM(O22:O35) -> 291777 | V36: =SUM(V22:V35) -> 145113 | W36: =SUM(W22:W35) -> 115836 | X36: =SUM(X22:X35) -> 142444 | Y36: =SUM(Y22:Y35) -> 112640 | Z36: =SUM(Z22:Z35) -> 2669 | AA36: =SUM(AA22:AA35) -> 3196
A37: TOTAL | B37: =SUM(B20,B36) -> 368627 | C37: =SUM(C20,C36) -> 354579 | D37: 0.714 | E37: 0.688 | F37: =SUM(F20,F36) -> 854416 | G37: =SUM(G20,G36) -> 832606 | H37: 0.547 | I37: 0.535 | J37: =SUM(J20,J36) -> 168064 | K37: =SUM(K20,K36) -> 163005 | L37: 0.695 | M37: 0.6748 | N37: =SUM(N20,N36) -> 448828 | O37: =SUM(O20,O36) -> 430633 | R37: 1815404 | S37: 1603521 | T37: 369959 | U37: 262322 | V37: =SUM(V20,V36) -> 184599 | W37: =SUM(W20,W36) -> 151752 | X37: =SUM(X20,X36) -> 180675 | Y37: =SUM(Y20,Y36) -> 146626 | Z37: =SUM(Z20,Z36) -> 3924 | AA37: =SUM(AA20,AA36) -> 5126
A39: DIFFERENCE | B39: =(B37-C37)/C37 -> 0.039618816 | D39: =D37-E37 -> 0.026 | F39: =(F37-G37)/G37 -> 0.026194863 | H39: =H37-I37 -> 0.012 | J39: =(J37-K37)/K37 -> 0.031035858 | L39: =L37-M37 -> 0.0202 | N39: =(N37-O37)/O37 -> 0.042251755 | P39: =P37-Q37 -> 0 | R39: =(R37-S37)/S37 -> 0.13213609 | T39: =(T37-U37)/U37 -> 0.41032395 | V39: =(V37-W37)/W37 -> 0.21645184 | X39: =(X37-Y37)/Y37 -> 0.23221666 | Z39: =(Z37-AA37)/AA37 -> -0.23449083

Sheet SANP
A1: SUMMARY OF VISITOR STATISTICS FOR THE TWELVE MONTHS ENDED MARCH 2024 FOR THE SOUTH AFRICAN NATIONAL PARKS
B3: ACCOMMODATION (EXCL CAMPING) | H3: CAMPING | M3: GUESTS TO PARK | N3: % CHANGE | O3: WILD CARD FREE GUESTS | P3: % CHANGE | Q3: TOTAL ACTIVITIES | R3: % CHANGE
A4: PARK | B4: UNIT NIGHTS SOLD | C4: % CHANGE | D4: UNIT OCCUPANCY | E4: BED NIGHTS SOLD | F4: % CHANGE | G4: BED OCCUPANCY | H4: SITE NIGHTS SOLD | I4: % CHANGE | J4: CAMP SITE OCC | K4: PERSON NIGHTS SOLD | L4: % CHANGE
A5: ADDO | B5: ='PARKS - SOUTH'!B21 -> 24896 | D5: ='PARKS - SOUTH'!D21 -> 0.726 | E5: ='PARKS - SOUTH'!F21 -> 57074 | G5: ='PARKS - SOUTH'!H21 -> 0.593 | H5: ='PARKS - SOUTH'!J21 -> 8816 | J5: ='PARKS - SOUTH'!L21 -> 0.45 | K5: ='PARKS - SOUTH'!N21 -> 20366 | M5: ='PARKS - SOUTH'!R21 -> 223812 | O5: ='PARKS - SOUTH'!T21 -> 26768 | Q5: ='PARKS - SOUTH'!V21 -> 28599
A6: 2022-2023 | B6: ='PARKS - SOUTH'!C21 -> 24553 | C6: =(B5-B6)/B6 -> 0.01396978 | D6: ='PARKS - SOUTH'!E21 -> 0.722 | E6: ='PARKS - SOUTH'!G21 -> 56440 | F6: =(E5-E6)/E6 -> 0.011233168 | G6: ='PARKS - SOUTH'!I21 -> 0.588 | H6: ='PARKS - SOUTH'!K21 -> 8490 | I6: =(H5-H6)/H6 -> 0.038398115 | J6: ='PARKS - SOUTH'!M21 -> 0.4523 | K6: ='PARKS - SOUTH'!O21 -> 21856 | L6: =(K5-K6)/K6 -> -0.068173499 | M6: ='PARKS - SOUTH'!S21 -> 195474 | N6: =(M5-M6)/M6 -> 0.14497069 | O6: ='PARKS - SOUTH'!U21 -> 21632 | P6: =(O5-O6)/O6 -> 0.23742604 | Q6: ='PARKS - SOUTH'!W21 -> 20969 | R6: =(Q5-Q6)/Q6 -> 0.36387048
A7: 2021-2022 | B7: 20762 | C7: 0.1825932 | D7: 0.60951766 | E7: 48266 | F7: 0.16935317 | G7: 0.49950842 | H7: 9122 | I7: -0.069283052 | J7: 0.48101666 | K7: 23744 | L7: -0.079514825 | M7: 136570 | N7: 0.43130995 | O7: 21632 | P7: 0.23742604 | Q7: 7603 | R7: 1.7579903
A8: AGULHAS | B8: ='PARKS - SOUTH'!B6 -> 2599 | D8: ='PARKS - SOUTH'!D6 -> 0.36 | E8: ='PARKS - SOUTH'!F6 -> 6746 | G8: ='PARKS - SOUTH'!H6 -> 0.287 | H8: ='PARKS - SOUTH'!J6 -> 0 | J8: ='PARKS - SOUTH'!L6 -> 0 | K8: ='PARKS - SOUTH'!N6 -> 0 | M8: ='PARKS - SOUTH'!R6 -> 36350 | O8: ='PARKS - SOUTH'!T6 -> 1476 | Q8: ='PARKS - SOUTH'!V6 -> 0
A9: 2022-2023 | B9: ='PARKS - SOUTH'!C6 -> 2911 | C9: =(B8-B9)/B9 -> -0.10717966 | D9: ='PARKS - SOUTH'!E6 -> 0.408 | E9: ='PARKS - SOUTH'!G6 -> 7433 | F9: =(E8-E9)/E9 -> -0.092425669 | G9: ='PARKS - SOUTH'!I6 -> 0.313 | H9: ='PARKS - SOUTH'!K6 -> 0 | I9: =(H8-H9)/H9 -> #DIV/0! | J9: ='PARKS - SOUTH'!M6 -> 0 | K9: ='PARKS - SOUTH'!O6 -> 0 | L9: =(K8-K9)/K9 -> #DIV/0! | M9: ='PARKS - SOUTH'!S6 -> 26506 | N9: =(M8-M9)/M9 -> 0.37138761 | O9: ='PARKS - SOUTH'!U6 -> 868 | P9: =(O8-O9)/O9 -> 0.70046083 | Q9: ='PARKS - SOUTH'!W6 -> 0 | R9: 0
A10: 2021-2022 | B10: 2910 | C10: 0.00034364261 | D10: 0.42656113 | E10: 7647 | F10: -0.027984831 | G10: 0.34062361 | H10: 0 | I10: #DIV/0! | J10: 0 | K10: 0 | L10: #DIV/0! | M10: 23331 | N10: 0.13608504 | O10: 868 | P10: 0.70046083 | Q10: 0 | R10: 0
A11: AUGRABIES | B11: ='PARKS - NORTH'!B6 -> 6105 | D11: ='PARKS - NORTH'!D6 -> 0.278 | E11: ='PARKS - NORTH'!F6 -> 13719 | G11: ='PARKS - NORTH'!H6 -> 0.272 | H11: ='PARKS - NORTH'!J6 -> 4257 | J11: ='PARKS - NORTH'!L6 -> 0.2326 | K11: ='PARKS - NORTH'!N6 -> 10266 | M11: ='PARKS - NORTH'!R6 -> 61131 | O11: ='PARKS - NORTH'!T6 -> 8161 | Q11: ='PARKS - NORTH'!V6 -> 256
A12: 2022-2023 | B12: ='PARKS - NORTH'!C6 -> 8893 | C12: =(B11-B12)/B12 -> -0.313505 | D12: ='PARKS - NORTH'!E6 -> 0.406 | E12: ='PARKS - NORTH'!G6 -> 18992 | F12: =(E11-E12)/E12 -> -0.27764322 | G12: ='PARKS - NORTH'!I6 -> 0.377 | H12: ='PARKS - NORTH'!K6 -> 4328 | I12: =(H11-H12)/H12 -> -0.016404806 | J12: ='PARKS - NORTH'!M6 -> 0.2372 | K12: ='PARKS - NORTH'!O6 -> 12823 | L12: =(K11-K12)/K12 -> -0.19940731 | M12: ='PARKS - NORTH'!S6 -> 88529 | N12: =(M11-M12)/M12 -> -0.30948051 | O12: ='PARKS - NORTH'!U6 -> 4838 | P12: =(O11-O12)/O12 -> 0.68685407 | Q12: ='PARKS - NORTH'!W6 -> 88 | R12: =(Q11-Q12)/Q12 -> 1.9090909
A13: 2021-2022 | B13: 8855 | C13: 0.0042913608 | D13: 0.4043933 | E13: 19679 | F13: -0.03491031 | G13: 0.39075096 | H13: 5659 | I13: -0.23520057 | J13: 0.31008219 | K13: 15215 | L13: -0.15721328 | M13: 101312 | N13: -0.12617459 | O13: 4838 | P13: 0.68685407 | Q13: 273 | R13: -0.67765568
A14: BONTEBOK | B14: ='PARKS - SOUTH'!B11 -> 1917 | D14: ='PARKS - SOUTH'!D11 -> 0.374 | E14: ='PARKS - SOUTH'!F11 -> 4589 | G14: ='PARKS - SOUTH'!H11 -> 0.273 | H14: ='PARKS - SOUTH'!J11 -> 2451 | J14: ='PARKS - SOUTH'!L11 -> 0.2894 | K14: ='PARKS - SOUTH'!N11 -> 6582 | M14: ='PARKS - SOUTH'!R11 -> 16232 | O14: ='PARKS - SOUTH'!T11 -> 3939 | Q14: ='PARKS - SOUTH'!V11 -> 0
A15: 2022-2023 | B15: ='PARKS - SOUTH'!C11 -> 1976 | C15: =(B14-B15)/B15 -> -0.0298583 | D15: ='PARKS - SOUTH'!E11 -> 0.387 | E15: ='PARKS - SOUTH'!G11 -> 4761 | F15: =(E14-E15)/E15 -> -0.036126864 | G15: ='PARKS - SOUTH'!I11 -> 0.287 | H15: ='PARKS - SOUTH'!K11 -> 2399 | I15: =(H14-H15)/H15 -> 0.021675698 | J15: ='PARKS - SOUTH'!M11 -> 0.2635 | K15: ='PARKS - SOUTH'!O11 -> 6032 | L15: =(K14-K15)/K15 -> 0.091180371 | M15: ='PARKS - SOUTH'!S11 -> 16675 | N15: =(M14-M15)/M15 -> -0.026566717 | O15: ='PARKS - SOUTH'!U11 -> 2805 | P15: =(O14-O15)/O15 -> 0.40427807 | Q15: ='PARKS - SOUTH'!W11 -> 0 | R15: =(Q14-Q15)/Q15 -> #DIV/0!
A16: 2021-2022 | B16: 2075 | C16: -0.047710843 | D16: 0.38087372 | E16: 4600 | F16: 0.035 | G16: 0.27411954 | H16: 2608 | I16: -0.080138037 | J16: 0.28580822 | K16: 6929 | L16: -0.12945591 | M16: 15091 | N16: 0.10496322 | O16: 2805 | P16: 0.40427807 | Q16: 0 | R16: #DIV/0!
A17: CAMDEBOO | B17: ='PARKS - SOUTH'!B30 -> 1079 | D17: ='PARKS - SOUTH'!D30 -> 0.428 | E17: ='PARKS - SOUTH'!F30 -> 1742 | G17: ='PARKS - SOUTH'!H30 -> 0.221 | H17: ='PARKS - SOUTH'!J30 -> 2294 | J17: ='PARKS - SOUTH'!L30 -> 0.4179 | K17: ='PARKS - SOUTH'!N30 -> 5296 | M17: ='PARKS - SOUTH'!R30 -> 36716 | O17: ='PARKS - SOUTH'!T30 -> 3424 | Q17: ='PARKS - SOUTH'!V30 -> 0
A18: 2022-2023 | B18: ='PARKS - SOUTH'!C30 -> 1513 | C18: =(B17-B18)/B18 -> -0.28684732 | D18: ='PARKS - SOUTH'!E30 -> 0.481 | E18: ='PARKS - SOUTH'!G30 -> 2172 | F18: =(E17-E18)/E18 -> -0.19797422 | G18: ='PARKS - SOUTH'!I30 -> 0.259 | H18: ='PARKS - SOUTH'!K30 -> 2117 | I18: =(H17-H18)/H18 -> 0.08360888 | J18: ='PARKS - SOUTH'!M30 -> 0.3867 | K18: ='PARKS - SOUTH'!O30 -> 4787 | L18: =(K17-K18)/K18 -> 0.10632964 | M18: ='PARKS - SOUTH'!S30 -> 31208 | N18: =(M17-M18)/M18 -> 0.17649321 | O18: ='PARKS - SOUTH'!U30 -> 3606 | P18: =(O17-O18)/O18 -> -0.050471436 | Q18: ='PARKS - SOUTH'!W30 -> 0 | R18: =(Q17-Q18)/Q18 -> #DIV/0!
A19: 2021-2022 | B19: 783 | C19: 0.93231162 | D19: 0.53630137 | E19: 1502 | F19: 0.4460719 | G19: 0.51438356 | H19: 2352 | I19: -0.099914966 | J19: 0.42958904 | K19: 5437 | L19: -0.11955122 | M19: 30149 | N19: 0.035125543 | O19: 3606 | P19: -0.050471436 | Q19: 0 | R19: #DIV/0!
A20: GOLDEN GATE | B20: ='PARKS - NORTH'!B34 -> 9628 | D20: ='PARKS - NORTH'!D34 -> 0.296 | E20: ='PARKS - NORTH'!F34 -> 24596 | G20: ='PARKS - NORTH'!H34 -> 0.213 | H20: ='PARKS - NORTH'!J34 -> 2715 | J20: ='PARKS - NORTH'!L34 -> 0.2473 | K20: ='PARKS - NORTH'!N34 -> 7241 | M20: ='PARKS - NORTH'!R34 -> 45695 | O20: ='PARKS - NORTH'!T34 -> 4879 | Q20: ='PARKS - NORTH'!V34 -> 2705
A21: 2022-2023 | B21: ='PARKS - NORTH'!C34 -> 12174 | C21: =(B20-B21)/B21 -> -0.20913422 | D21: ='PARKS - NORTH'!E34 -> 0.309 | E21: ='PARKS - NORTH'!G34 -> 24713 | F21: =(E20-E21)/E21 -> -0.0047343503 | G21: ='PARKS - NORTH'!I34 -> 0.201 | H21: ='PARKS - NORTH'!K34 -> 2597 | I21: =(H20-H21)/H21 -> 0.045437043 | J21: ='PARKS - NORTH'!M34 -> 0.2372 | K21: ='PARKS - NORTH'!O34 -> 6913 | L21: =(K20-K21)/K21 -> 0.047446839 | M21: ='PARKS - NORTH'!S34 -> 45082 | N21: =(M20-M21)/M21 -> 0.013597445 | O21: ='PARKS - NORTH'!U34 -> 2005 | P21: =(O20-O21)/O21 -> 1.4334165 | Q21: ='PARKS - NORTH'!W34 -> 1080 | R21: =(Q20-Q21)/Q21 -> 1.5046296
A22: 2021-2022 | B22: 10917 | C22: 0.11514152 | D22: 0.26365744 | E22: 23496 | F22: 0.05179605 | G22: 0.19683338 | H22: 2693 | I22: -0.035647976 | J22: 0.26547713 | K22: 7468 | L22: -0.074317086 | M22: 38103 | N22: 0.18316143 | O22: 2005 | P22: 1.4334165 | Q22: 1503 | R22: -0.28143713
A23: GARDEN ROUTE | B23: ='PARKS - SOUTH'!B41 -> 25811 | D23: ='PARKS - SOUTH'!D41 -> 0.48 | E23: ='PARKS - SOUTH'!F41 -> 59448 | G23: ='PARKS - SOUTH'!H41 -> 0.397 | H23: ='PARKS - SOUTH'!J41 -> 28831 | J23: ='PARKS - SOUTH'!L41 -> 0.2647 | K23: ='PARKS - SOUTH'!N41 -> 80150 | M23: ='PARKS - SOUTH'!R41 -> 446501 | O23: ='PARKS - SOUTH'!T41 -> 29020 | Q23: ='PARKS - SOUTH'!V41 -> 11286
A24: 2022-2023 | B24: ='PARKS - SOUTH'!C41 -> 24808 | C24: =(B23-B24)/B24 -> 0.040430506 | D24: ='PARKS - SOUTH'!E41 -> 0.452 | E24: ='PARKS - SOUTH'!G41 -> 56859 | F24: =(E23-E24)/E24 -> 0.045533689 | G24: ='PARKS - SOUTH'!I41 -> 0.376 | H24: ='PARKS - SOUTH'!K41 -> 27777 | I24: =(H23-H24)/H24 -> 0.037945062 | J24: ='PARKS - SOUTH'!M41 -> 0.2407 | K24: ='PARKS - SOUTH'!O41 -> 73498 | L24: =(K23-K24)/K24 -> 0.090505864 | M24: ='PARKS - SOUTH'!S41 -> 372218 | N24: =(M23-M24)/M24 -> 0.19956853 | O24: ='PARKS - SOUTH'!U41 -> 18493 | P24: =(O23-O24)/O24 -> 0.56924242 | Q24: ='PARKS - SOUTH'!W41 -> 16031 | R24: =(Q23-Q24)/Q24 -> -0.29598902
A25: 2021-2022 | B25: 21656 | C25: 0.14554858 | D25: 0.44272718 | E25: 53386 | F25: 0.065054509 | G25: 0.37544217 | H25: 28125 | I25: -0.012444444 | J25: 0.23968604 | K25: 79818 | L25: -0.079180135 | M25: 288655 | N25: 0.28949091 | O25: 18493 | P25: 0.56924242 | Q25: 12056 | R25: 0.32971135
A26: KAROO | B26: ='PARKS - SOUTH'!B31 -> 8796 | D26: ='PARKS - SOUTH'!D31 -> 0.641 | E26: ='PARKS - SOUTH'!F31 -> 21127 | G26: ='PARKS - SOUTH'!H31 -> 0.425 | H26: ='PARKS - SOUTH'!J31 -> 6583 | J26: ='PARKS - SOUTH'!L31 -> 0.5432 | K26: ='PARKS - SOUTH'!N31 -> 14364 | M26: ='PARKS - SOUTH'!R31 -> 30226 | O26: ='PARKS - SOUTH'!T31 -> 6175 | Q26: ='PARKS - SOUTH'!V31 -> 1173
A27: 2022-2023 | B27: ='PARKS - SOUTH'!C31 -> 8454 | C27: =(B26-B27)/B27 -> 0.040454223 | D27: ='PARKS - SOUTH'!E31 -> 0.62 | E27: ='PARKS - SOUTH'!G31 -> 20282 | F27: =(E26-E27)/E27 -> 0.041662558 | G27: ='PARKS - SOUTH'!I31 -> 0.408 | H27: ='PARKS - SOUTH'!K31 -> 6236 | I27: =(H26-H27)/H27 -> 0.055644644 | J27: ='PARKS - SOUTH'!M31 -> 0.517 | K27: ='PARKS - SOUTH'!O31 -> 13053 | L27: =(K26-K27)/K27 -> 0.10043668 | M27: ='PARKS - SOUTH'!S31 -> 29503 | N27: =(M26-M27)/M27 -> 0.024505982 | O27: ='PARKS - SOUTH'!U31 -> 4058 | P27: =(O26-O27)/O27 -> 0.52168556 | Q27: ='PARKS - SOUTH'!W31 -> 1345 | R27: =(Q26-Q27)/Q27 -> -0.12788104
A28: 2020-2021 | B28: 8698 | C28: -0.028052426 | D28: 0.62883169 | E28: 21576 | F28: -0.059974045 | G28: 0.4293475 | H28: 6345 | I28: -0.017178881 | J28: 0.57955791 | K28: 15077 | L28: -0.13424421 | M28: 30635 | N28: -0.0369512 | O28: 4058 | P28: 0.52168556 | Q28: 575 | R28: 1.3391304
A29: KGALAGADI | B29: ='PARKS - NORTH'!B7 -> 32575 | D29: ='PARKS - NORTH'!D7 -> 0.872 | E29: ='PARKS - NORTH'!F7 -> 72648 | G29: ='PARKS - NORTH'!H7 -> 0.66 | H29: ='PARKS - NORTH'!J7 -> 26433 | J29: ='PARKS - NORTH'!L7 -> 0.8464 | K29: ='PARKS - NORTH'!N7 -> 73575 | M29: ='PARKS - NORTH'!R7 -> 51003 | O29: ='PARKS - NORTH'!T7 -> 9554 | Q29: ='PARKS - NORTH'!V7 -> 5937
A30: 2022-2023 | B30: ='PARKS - NORTH'!C7 -> 33511 | C30: =(B29-B30)/B30 -> -0.027931127 | D30: ='PARKS - NORTH'!E7 -> 0.885 | E30: ='PARKS - NORTH'!G7 -> 75545 | F30: =(E29-E30)/E30 -> -0.038348005 | G30: ='PARKS - NORTH'!I7 -> 0.662 | H30: ='PARKS - NORTH'!K7 -> 26984 | I30: =(H29-H30)/H30 -> -0.020419508 | J30: ='PARKS - NORTH'!M7 -> 0.8472 | K30: ='PARKS - NORTH'!O7 -> 74367 | L30: =(K29-K30)/K30 -> -0.010649885 | M30: ='PARKS - NORTH'!S7 -> 49068 | N30: =(M29-M30)/M30 -> 0.03943507 | O30: ='PARKS - NORTH'!U7 -> 8753 | P30: =(O29-O30)/O30 -> 0.091511482 | Q30: ='PARKS - NORTH'!W7 -> 4733 | R30: =(Q29-Q30)/Q30 -> 0.25438411
A31: 2020-2021 | B31: 32848 | C31: 0.02048831 | D31: 0.89217231 | E31: 74010 | F31: 0.02074044 | G31: 0.68362568 | H31: 27734 | I31: -0.027042619 | J31: 0.85385302 | K31: 78329 | L31: -0.050581522 | M31: 49008 | N31: 0.0012242899 | O31: 8753 | P31: 0.091511482 | Q31: 4050 | R31: 0.16864198
A32: KRUGER | B32: =KNP!B37 -> 368627 | D32: =KNP!D37 -> 0.714 | E32: =KNP!F37 -> 854416 | G32: =KNP!H37 -> 0.547 | H32: =KNP!J37 -> 168064 | J32: =KNP!L37 -> 0.695 | K32: =KNP!N37 -> 448828 | M32: =KNP!R37 -> 1815404 | O32: =KNP!T37 -> 369959 | Q32: =KNP!V37 -> 184599
A33: 2022-2023 | B33: =KNP!C37 -> 354579 | C33: =(B32-B33)/B33 -> 0.039618816 | D33: =KNP!E37 -> 0.688 | E33: =KNP!G37 -> 832606 | F33: =(E32-E33)/E33 -> 0.026194863 | G33: =KNP!I37 -> 0.535 | H33: =KNP!K37 -> 163005 | I33: =(H32-H33)/H33 -> 0.031035858 | J33: =KNP!M37 -> 0.6748 | K33: =KNP!O37 -> 430633 | L33: =(K32-K33)/K33 -> 0.042251755 | M33: =KNP!S37 -> 1603521 | N33: =(M32-M33)/M33 -> 0.13213609 | O33: =KNP!U37 -> 262322 | P33: =(O32-O33)/O33 -> 0.41032395 | Q33: =KNP!W37 -> 151752 | R33: =(Q32-Q33)/Q33 -> 0.21645184
A34: 2020-2021 | B34: 312298 | C34: 0.13120161 | D34: 0.61045064 | E34: 747427 | F34: 0.11302107 | G34: 0.484 | H34: 173022 | I34: -0.057894372 | J34: 0.7194262 | K34: 453341 | L34: -0.050090329 | M34: 1322817 | N34: 0.21220169 | O34: 262322 | P34: 0.41032395 | Q34: 91861 | R34: 0.65197418
A35: MARAKELE | B35: ='PARKS - NORTH'!B40 -> 4659 | D35: ='PARKS - NORTH'!D40 -> 0.51 | E35: ='PARKS - NORTH'!F40 -> 8915 | G35: ='PARKS - NORTH'!H40 -> 0.375 | H35: ='PARKS - NORTH'!J40 -> 4673 | J35: ='PARKS - NORTH'!L40 -> 0.3547 | K35: ='PARKS - NORTH'!N40 -> 12155 | M35: ='PARKS - NORTH'!R40 -> 24759 | O35: ='PARKS - NORTH'!T40 -> 1121 | Q35: ='PARKS - NORTH'!V40 -> 3213
A36: 2022-2023 | B36: ='PARKS - NORTH'!C40 -> 4073 | C36: =(B35-B36)/B36 -> 0.14387429 | D36: ='PARKS - NORTH'!E40 -> 0.484 | E36: ='PARKS - NORTH'!G40 -> 8845 | F36: =(E35-E36)/E36 -> 0.0079140757 | G36: ='PARKS - NORTH'!I40 -> 0.37 | H36: ='PARKS - NORTH'!K40 -> 4179 | I36: =(H35-H36)/H36 -> 0.1182101 | J36: ='PARKS - NORTH'!M40 -> 0.318 | K36: ='PARKS - NORTH'!O40 -> 10607 | L36: =(K35-K36)/K36 -> 0.14594136 | M36: ='PARKS - NORTH'!S40 -> 20757 | N36: =(M35-M36)/M36 -> 0.19280243 | O36: ='PARKS - NORTH'!U40 -> 929 | P36: =(O35-O36)/O36 -> 0.20667384 | Q36: ='PARKS - NORTH'!W40 -> 2354 | R36: =(Q35-Q36)/Q36 -> 0.36491079
A37: 2021-2022 | B37: 3589 | C37: 0.13485651 | D37: 0.47229899 | E37: 8159 | F37: 0.084078931 | G37: 0.34092429 | H37: 4407 | I37: -0.051735875 | J37: 0.33538813 | K37: 11397 | L37: -0.069316487 | M37: 19023 | N37: 0.091152815 | O37: 929 | P37: 0.20667384 | Q37: 1560 | R37: 0.50897436
A38: MAPUNGUBWE | B38: ='PARKS - NORTH'!B43 -> 5497 | D38: ='PARKS - NORTH'!D43 -> 0.505 | E38: ='PARKS - NORTH'!F43 -> 11510 | G38: ='PARKS - NORTH'!H43 -> 0.477 | H38: ='PARKS - NORTH'!J43 -> 2255 | J38: ='PARKS - NORTH'!L43 -> 0.6161 | K38: ='PARKS - NORTH'!N43 -> 6022 | M38: ='PARKS - NORTH'!R43 -> 40383 | O38: ='PARKS - NORTH'!T43 -> 1793 | Q38: ='PARKS - NORTH'!V43 -> 22018
A39: 2022-2023 | B39: ='PARKS - NORTH'!C43 -> 5265 | C39: =(B38-B39)/B39 -> 0.044064577 | D39: ='PARKS - NORTH'!E43 -> 0.478 | E39: ='PARKS - NORTH'!G43 -> 11547 | F39: =(E38-E39)/E39 -> -0.0032042955 | G39: ='PARKS - NORTH'!I43 -> 0.438 | H39: ='PARKS - NORTH'!K43 -> 2166 | I39: =(H38-H39)/H39 -> 0.041089566 | J39: ='PARKS - NORTH'!M43 -> 0.5934 | K39: ='PARKS - NORTH'!O43 -> 5678 | L39: =(K38-K39)/K39 -> 0.060584713 | M39: ='PARKS - NORTH'!S43 -> 27660 | N39: =(M38-M39)/M39 -> 0.45997831 | O39: ='PARKS - NORTH'!U43 -> 1188 | P39: =(O38-O39)/O39 -> 0.50925926 | Q39: ='PARKS - NORTH'!W43 -> 13448 | R39: =(Q38-Q39)/Q39 -> 0.63726948
A40: 2021-2022 | B40: 4971 | C40: 0.05914303 | D40: 0.47347366 | E40: 11173 | F40: 0.033473552 | G40: 0.44026322 | H40: 2546 | I40: -0.14925373 | J40: 0.69753425 | K40: 6576 | L40: -0.13655718 | M40: 17527 | N40: 0.57813659 | O40: 1188 | P40: 0.50925926 | Q40: 4906 | R40: 1.7411333
A41: MOKALA | B41: ='PARKS - NORTH'!B26 -> 5069 | D41: ='PARKS - NORTH'!D26 -> 0.423 | E41: ='PARKS - NORTH'!F26 -> 11305 | G41: ='PARKS - NORTH'!H26 -> 0.349 | H41: ='PARKS - NORTH'!J26 -> 1803 | J41: ='PARKS - NORTH'!L26 -> 0.4478 | K41: ='PARKS - NORTH'!N26 -> 4416 | M41: ='PARKS - NORTH'!R26 -> 13063 | O41: ='PARKS - NORTH'!T26 -> 2082 | Q41: ='PARKS - NORTH'!V26 -> 730
A42: 2022-2023 | B42: ='PARKS - NORTH'!C26 -> 5083 | C42: =(B41-B42)/B42 -> -0.002754279 | D42: ='PARKS - NORTH'!E26 -> 0.432 | E42: ='PARKS - NORTH'!G26 -> 11286 | F42: =(E41-E42)/E42 -> 0.0016835017 | G42: ='PARKS - NORTH'!I26 -> 0.347 | H42: ='PARKS - NORTH'!K26 -> 1814 | I42: =(H41-H42)/H42 -> -0.0060639471 | J42: ='PARKS - NORTH'!M26 -> 0.4489 | K42: ='PARKS - NORTH'!O26 -> 5555 | L42: =(K41-K42)/K42 -> -0.2050405 | M42: ='PARKS - NORTH'!S26 -> 12699 | N42: =(M41-M42)/M42 -> 0.028663674 | O42: ='PARKS - NORTH'!U26 -> 1479 | P42: =(O41-O42)/O42 -> 0.40770791 | Q42: ='PARKS - NORTH'!W26 -> 869 | R42: =(Q41-Q42)/Q42 -> -0.15995397
A43: 2021-2022 | B43: 5952 | C43: -0.14549731 | D43: 0.49666222 | E43: 13264 | F43: -0.14912545 | G43: 0.40985076 | H43: 1901 | I43: 0.21725408 | J43: 0.47347447 | K43: 4620 | L43: 0.20238095 | M43: 13994 | N43: -0.09253966 | O43: 1479 | P43: 0.40770791 | Q43: 608 | R43: 0.42927632
A44: MOUNTAIN ZEBRA | B44: ='PARKS - SOUTH'!B32 -> 7768 | D44: ='PARKS - SOUTH'!D32 -> 0.701 | E44: ='PARKS - SOUTH'!F32 -> 20047 | G44: ='PARKS - SOUTH'!H32 -> 0.426 | H44: ='PARKS - SOUTH'!J32 -> 4737 | J44: ='PARKS - SOUTH'!L32 -> 0.5177 | K44: ='PARKS - SOUTH'!N32 -> 11249 | M44: ='PARKS - SOUTH'!R32 -> 25733 | O44: ='PARKS - SOUTH'!T32 -> 5865 | Q44: ='PARKS - SOUTH'!V32 -> 4064
A45: 2022-2023 | B45: ='PARKS - SOUTH'!C32 -> 7468 | C45: =(B44-B45)/B45 -> 0.040171398 | D45: ='PARKS - SOUTH'!E32 -> 0.675 | E45: ='PARKS - SOUTH'!G32 -> 19284 | F45: =(E44-E45)/E45 -> 0.03956648 | G45: ='PARKS - SOUTH'!I32 -> 0.414 | H45: ='PARKS - SOUTH'!K32 -> 4174 | I45: =(H44-H45)/H45 -> 0.13488261 | J45: ='PARKS - SOUTH'!M32 -> 0.4831 | K45: ='PARKS - SOUTH'!O32 -> 9758 | L45: =(K44-K45)/K45 -> 0.1527977 | M45: ='PARKS - SOUTH'!S32 -> 23765 | N45: =(M44-M45)/M45 -> 0.082810856 | O45: ='PARKS - SOUTH'!U32 -> 4172 | P45: =(O44-O45)/O45 -> 0.40580058 | Q45: ='PARKS - SOUTH'!W32 -> 3334 | R45: =(Q44-Q45)/Q45 -> 0.21895621
A46: 2021-2022 | B46: 7800 | C46: -0.042564103 | D46: 0.68953324 | E46: 20544 | F46: -0.061331776 | G46: 0.42656036 | H46: 5194 | I46: -0.19638044 | J46: 0.56920548 | K46: 12637 | L46: -0.22782306 | M46: 22168 | N46: 0.07204078 | O46: 4172 | P46: 0.40580058 | Q46: 2536 | R46: 0.31466877
A47: NAMAQUA | B47: ='PARKS - NORTH'!B17 -> 673 | D47: ='PARKS - NORTH'!D17 -> 0.476 | E47: ='PARKS - NORTH'!F17 -> 1436 | G47: ='PARKS - NORTH'!H17 -> 0.347 | H47: ='PARKS - NORTH'!J17 -> 4888 | J47: ='PARKS - NORTH'!L17 -> 0.2646 | K47: ='PARKS - NORTH'!N17 -> 13165 | M47: ='PARKS - NORTH'!R17 -> 16609 | O47: ='PARKS - NORTH'!T17 -> 8428 | Q47: ='PARKS - NORTH'!V17 -> 0
A48: 2022-2023 | B48: ='PARKS - NORTH'!C17 -> 828 | C48: =(B47-B48)/B48 -> -0.18719807 | D48: ='PARKS - NORTH'!E17 -> 0.556 | E48: ='PARKS - NORTH'!G17 -> 1641 | F48: =(E47-E48)/E48 -> -0.12492383 | G48: ='PARKS - NORTH'!I17 -> 0.367 | H48: ='PARKS - NORTH'!K17 -> 4620 | I48: =(H47-H48)/H48 -> 0.058008658 | J48: ='PARKS - NORTH'!M17 -> 0.2522 | K48: ='PARKS - NORTH'!O17 -> 12581 | L48: =(K47-K48)/K48 -> 0.046419204 | M48: ='PARKS - NORTH'!S17 -> 14334 | N48: =(M47-M48)/M48 -> 0.15871355 | O48: ='PARKS - NORTH'!U17 -> 4937 | P48: =(O47-O48)/O48 -> 0.70710958 | Q48: ='PARKS - NORTH'!W17 -> 0 | R48: =(Q47-Q48)/Q48 -> #DIV/0!
A49: 2021-2022 | B49: 877 | C49: -0.055872292 | D49: 0.48133919 | E49: 1770 | F49: -0.072881356 | G49: 0.26977595 | H49: 5976 | I49: -0.22690763 | J49: 0.33273942 | K49: 16761 | L49: -0.24938846 | M49: 20851 | N49: -0.31255096 | O49: 4937 | P49: 0.70710958 | Q49: 0 | R49: #DIV/0!
A50: RICHTERSVELD | B50: ='PARKS - NORTH'!B18 -> 1870 | D50: ='PARKS - NORTH'!D18 -> 0.286 | E50: ='PARKS - NORTH'!F18 -> 3704 | G50: ='PARKS - NORTH'!H18 -> 0.232 | H50: ='PARKS - NORTH'!J18 -> 2819 | J50: ='PARKS - NORTH'!L18 -> 0.1375 | K50: ='PARKS - NORTH'!N18 -> 7809 | M50: ='PARKS - NORTH'!R18 -> 3872 | O50: ='PARKS - NORTH'!T18 -> 129 | Q50: ='PARKS - NORTH'!V18 -> 0
A51: 2022-2023 | B51: ='PARKS - NORTH'!C18 -> 1909 | C51: =(B50-B51)/B51 -> -0.020429544 | D51: ='PARKS - NORTH'!E18 -> 0.293 | E51: ='PARKS - NORTH'!G18 -> 3821 | F51: =(E50-E51)/E51 -> -0.030620256 | G51: ='PARKS - NORTH'!I18 -> 0.238 | H51: ='PARKS - NORTH'!K18 -> 2405 | I51: =(H50-H51)/H51 -> 0.17214137 | J51: ='PARKS - NORTH'!M18 -> 0.118 | K51: ='PARKS - NORTH'!O18 -> 7788 | L51: =(K50-K51)/K51 -> 0.0026964561 | M51: ='PARKS - NORTH'!S18 -> 3569 | N51: =(M50-M51)/M51 -> 0.08489773 | O51: ='PARKS - NORTH'!U18 -> 19 | P51: =(O50-O51)/O51 -> 5.7894737 | Q51: ='PARKS - NORTH'!W18 -> 50 | R51: =(Q50-Q51)/Q51 -> -1
A52: 2021-2022 | B52: 2161 | C52: -0.047663119 | D52: 0.33276871 | E52: 4500 | F52: -0.15088889 | G52: 0.28294769 | H52: 4443 | I52: -0.49651137 | J52: 0.21736791 | K52: 14122 | L52: -0.44852004 | M52: 5394 | N52: -0.3383389 | O52: 19 | P52: 5.7894737 | Q52: 45 | R52: 0.11111111
A53: TABLE MOUNTAIN | B53: ='PARKS - SOUTH'!B12 -> 2171 | D53: ='PARKS - SOUTH'!D12 -> 0.306 | E53: ='PARKS - SOUTH'!F12 -> 7674 | G53: ='PARKS - SOUTH'!H12 -> 0.279 | H53: ='PARKS - SOUTH'!J12 -> 0 | J53: ='PARKS - SOUTH'!L12 -> 0 | K53: ='PARKS - SOUTH'!N12 -> 0 | M53: ='PARKS - SOUTH'!R12 -> 2987212 | O53: ='PARKS - SOUTH'!T12 -> 30249 | Q53: ='PARKS - SOUTH'!V12 -> 1469
A54: 2022-2023 | B54: ='PARKS - SOUTH'!C12 -> 2493 | C54: =(B53-B54)/B54 -> -0.12916165 | D54: ='PARKS - SOUTH'!E12 -> 0.314 | E54: ='PARKS - SOUTH'!G12 -> 9249 | F54: =(E53-E54)/E54 -> -0.17028868 | G54: ='PARKS - SOUTH'!I12 -> 0.291 | H54: ='PARKS - SOUTH'!K12 -> 0 | I54: =(H53-H54)/H54 -> #DIV/0! | J54: ='PARKS - SOUTH'!M12 -> 0 | K54: ='PARKS - SOUTH'!O12 -> 0 | L54: =(K53-K54)/K54 -> #DIV/0! | M54: ='PARKS - SOUTH'!S12 -> 2240788 | N54: =(M53-M54)/M54 -> 0.33310782 | O54: ='PARKS - SOUTH'!U12 -> 22609 | P54: =(O53-O54)/O54 -> 0.33791853 | Q54: ='PARKS - SOUTH'!W12 -> 1124 | R54: =(Q53-Q54)/Q54 -> 0.3069395
A55: 2021-2022 | B55: 2281 | C55: 0.092941692 | D55: 0.28476904 | E55: 8324 | F55: 0.11112446 | G55: 0.26048316 | H55: 0 | I55: #DIV/0! | J55: 0 | K55: 0 | L55: #DIV/0! | M55: 1136352 | N55: 0.97191363 | O55: 22609 | P55: 0.33791853 | Q55: 1736 | R55: -0.35253456
A56: TANKWA KAROO | B56: ='PARKS - SOUTH'!B15 -> 2192 | D56: ='PARKS - SOUTH'!D15 -> 0.36 | E56: ='PARKS - SOUTH'!F15 -> 5718 | G56: ='PARKS - SOUTH'!H15 -> 0.223 | H56: ='PARKS - SOUTH'!J15 -> 1406 | J56: ='PARKS - SOUTH'!L15 -> 0.2253 | K56: ='PARKS - SOUTH'!N15 -> 2990 | M56: ='PARKS - SOUTH'!R15 -> 4756 | O56: ='PARKS - SOUTH'!T15 -> 641 | Q56: ='PARKS - SOUTH'!V15 -> 0
A57: 2022-2023 | B57: ='PARKS - SOUTH'!C15 -> 2279 | C57: =(B56-B57)/B57 -> -0.038174638 | D57: ='PARKS - SOUTH'!E15 -> 0.412 | E57: ='PARKS - SOUTH'!G15 -> 6317 | F57: =(E56-E57)/E57 -> -0.094823492 | G57: ='PARKS - SOUTH'!I15 -> 0.219 | H57: ='PARKS - SOUTH'!K15 -> 1191 | I57: =(H56-H57)/H57 -> 0.18052057 | J57: ='PARKS - SOUTH'!M15 -> 0.2446 | K57: ='PARKS - SOUTH'!O15 -> 3167 | L57: =(K56-K57)/K57 -> -0.055888854 | M57: ='PARKS - SOUTH'!S15 -> 4279 | N57: =(M56-M57)/M57 -> 0.11147464 | O57: ='PARKS - SOUTH'!U15 -> 880 | P57: =(O56-O57)/O57 -> -0.27159091 | Q57: ='PARKS - SOUTH'!W15 -> 0 | R57: =(Q56-Q57)/Q57 -> #DIV/0!
A58: 2021-2022 | B58: 2594 | C58: -0.073245952 | D58: 0.52680747 | E58: 7054 | F58: -0.10447973 | G58: 0.31683435 | H58: 1647 | I58: -0.27686703 | J58: 0.32523697 | K58: 4216 | L58: -0.24881404 | M58: 6139 | N58: -0.30298094 | O58: 880 | P58: -0.27159091 | Q58: 0 | R58: #DIV/0!
A59: WEST COAST | B59: ='PARKS - SOUTH'!B18 -> 1092 | D59: ='PARKS - SOUTH'!D18 -> 0.599 | E59: ='PARKS - SOUTH'!F18 -> 3404 | G59: ='PARKS - SOUTH'!H18 -> 0.389 | H59: ='PARKS - SOUTH'!J18 -> 0 | J59: ='PARKS - SOUTH'!L18 -> 0 | K59: ='PARKS - SOUTH'!N18 -> 0 | M59: ='PARKS - SOUTH'!R18 -> 190589 | O59: ='PARKS - SOUTH'!T18 -> 23497 | Q59: ='PARKS - SOUTH'!V18 -> 1400
A60: 2022-2023 | B60: ='PARKS - SOUTH'!C18 -> 1121 | C60: =(B59-B60)/B60 -> -0.025869759 | D60: ='PARKS - SOUTH'!E18 -> 0.644 | E60: ='PARKS - SOUTH'!G18 -> 3579 | F60: =(E59-E60)/E60 -> -0.04889634 | G60: ='PARKS - SOUTH'!I18 -> 0.43 | H60: ='PARKS - SOUTH'!K18 -> 0 | I60: =(H59-H60)/H60 -> #DIV/0! | J60: ='PARKS - SOUTH'!M18 -> 0 | K60: ='PARKS - SOUTH'!O18 -> 0 | L60: =(K59-K60)/K60 -> #DIV/0! | M60: ='PARKS - SOUTH'!S18 -> 156439 | N60: =(M59-M60)/M60 -> 0.21829595 | O60: ='PARKS - SOUTH'!U18 -> 26755 | P60: =(O59-O60)/O60 -> -0.12177163 | Q60: ='PARKS - SOUTH'!W18 -> 1441 | R60: =(Q59-Q60)/Q60 -> -0.028452464
A61: 2021-2022 | B61: 1111 | C61: 0.0090009001 | D61: 0.64781341 | E61: 3703 | F61: -0.033486362 | G61: 0.454914 | H61: 0 | I61: #DIV/0! | J61: 0 | K61: 0 | L61: #DIV/0! | M61: 205395 | N61: -0.2383505 | O61: 26755 | P61: -0.12177163 | Q61: 1540 | R61: -0.064285714
A62: TOTAL 2023/24 | B62: =B5+B8+B11+B14+B20+B26+B29+B32+B35+B38+B44+B47+B50+B53+B56+B23+B41+B59+B17 -> 513024 | D62: 0.649 | E62: =E5+E8+E11+E14+E20+E26+E29+E32+E35+E38+E44+E47+E50+E53+E56+E23+E41+E59+E17 -> 1189818 | G62: 0.498 | H62: =H5+H8+H11+H14+H20+H26+H29+H32+H35+H38+H44+H47+H50+H53+H56+H23+H41+H59+H17 -> 273025 | J62: 0.5131 | K62: =K5+K8+K11+K14+K20+K26+K29+K32+K35+K38+K44+K47+K50+K53+K56+K23+K41+K59+K17 -> 724474 | M62: =M5+M8+M11+M14+M20+M26+M29+M32+M35+M38+M44+M47+M50+M53+M56+M23+M41+M59+M17 -> 6070046 | O62: =O5+O8+O11+O14+O20+O26+O29+O32+O35+O38+O44+O47+O50+O53+O56+O23+O41+O59+O17 -> 537160 | Q62: =Q5+Q8+Q11+Q14+Q20+Q26+Q29+Q32+Q35+Q38+Q44+Q47+Q50+Q53+Q56+Q23+Q41+Q59+Q17 -> 267449
A63: TOTAL 2022/23 | B63: =B6+B9+B12+B15+B21+B27+B30+B33+B36+B39+B45+B48+B51+B54+B57+B24+B42+B60+B18 -> 503891 | C63: =(B62-B63)/B63 -> 0.018124952 | D63: 0.63 | E63: =E6+E9+E12+E15+E21+E27+E30+E33+E36+E39+E45+E48+E51+E54+E57+E24+E42+E60+E18 -> 1175372 | F63: =(E62-E63)/E63 -> 0.012290577 | G63: 0.488 | H63: =H6+H9+H12+H15+H21+H27+H30+H33+H36+H39+H45+H48+H51+H54+H57+H24+H42+H60+H18 -> 264482 | I63: =(H62-H63)/H63 -> 0.032300875 | J63: 0.493 | K63: =K6+K9+K12+K15+K21+K27+K30+K33+K36+K39+K45+K48+K51+K54+K57+K24+K42+K60+K18 -> 699096 | L63: =(K62-K63)/K63 -> 0.036301166 | M63: =M6+M9+M12+M15+M21+M27+M30+M33+M36+M39+M45+M48+M51+M54+M57+M24+M42+M60+M18 -> 4962074 | N63: =(M62-M63)/M63 -> 0.22328808 | O63: =O6+O9+O12+O15+O21+O27+O30+O33+O36+O39+O45+O48+O51+O54+O57+O24+O42+O60+O18 -> 392348 | P63: =(O62-O63)/O63 -> 0.36909071 | Q63: =Q6+Q9+Q12+Q15+Q21+Q27+Q30+Q33+Q36+Q39+Q45+Q48+Q51+Q54+Q57+Q24+Q42+Q60+Q18 -> 218618 | R63: =(Q62-Q63)/Q63 -> 0.22336221
A64: TOTAL 2021/22 | B64: 453138 | C64: 0.10975244 | D64: 0.576 | E64: 1080080 | F64: 0.087574994 | G64: 0.456 | H64: 283774 | I64: -0.06682078 | J64: 0.529 | K64: 755687 | L64: -0.074886825 | M64: 3482514 | N64: 0.424854 | O64: 392348 | P64: 0.36909071 | Q64: 130852 | R64: 0.67072723
