Workbook
Name aaa: #REF!
Name aaa: #REF!
Name aaa: #REF!
Name AASS: #REF!
Name AASS: #REF!
Name AASS: #REF!
Name bbb: #REF!
Name bbb: #REF!
Name bbb: #REF!
Name Items_01: #REF!
Name Items_01: #REF!
Name Items_01: #REF!
Name qqq: #REF!
Name qqq: #REF!
Name qqq: #REF!
Name qweeew: #REF!
Name qweeew: #REF!
Name qweeew: #REF!
Name qwert: #REF!
Name qwert: #REF!
Name qwert: #REF!
Name xxx: #REF!
Name xxx: #REF!
Name xxx: #REF!
Name XYZ: #REF!
Name XYZ: #REF!
Name XYZ: #REF!

Sheet 80-20
B13: NB!! THE FOLLOWING IS COMPULSORY AND MUST BE ADHERED TO. ONLY COMPANIES REGISTERED ON THE NATIONAL TREASURY CENTRAL SUPPLIER DATABASE (CSD) MAY BE APPROACHED FOR QUOTATIONS. QUOTATIONS ARE INVALID IF THE COMPANY IS NOT REGISTERED. ENSURE COMMODITIES REGISTERED ARE CORRECT AND INLINE WITH THE SERVICES OR GOODS REQUIRED. CSD REPORTS TO BE ATTACHED WITH THIS EVALUATION MEMORANDUM. ENSURE THAT ALL COMPANIES ARE TAX COMPLIANT PRIOR TO REQUESTING A QUOTATION.
B16: TO | C16: Marius Reinhardt
B19: FROM | C19: Francois Marais
B22: DATE | C22: 44102
B25: SCOPE OF WORK | C25: Supply, installation and commissioning of two new 1.2 kW Sewer Pumps with Control Switch Gear, Valves and a Flow Meter for the Veterinary Wildlife Services Unit, Kimberley (VWS).
B28: PURPOSE | C28: To pump the sewer generated on site from the lowest point to the Municipal Sewer Network.
B32: BACKGROUND | C32: The VWS Site does not have a sewer system that is linked to the Municipal Sewer Network. The septic tank system needs to be emptied on a regular basis which amounts to a costly exercise. The municipality does not always respond on a timeous basis on which the use of certain facilities on site needs to be stopped in order to prevent over flow of sewer and related contamination of the surrounding area. The installation of the new sewer system will address these problems.
B39: No | C39: Company | E39: Tendered price (VAT excl.) | F39: VAT | G39: Total price (VAT incl.) | H39: Points: Ps (Price) | I39: Points: Preference | J39: TOTAL POINTS | K39: Position according to Points | L39: Comments
B40: 1 | C40: ='1. Summary of Quotes recieved '!F8 -> SERVICE PROVIDER A | E40: =SUM('1. Summary of Quotes recieved '!F9) -> 0 | F40: =E40*15% -> 0 | G40: =SUM(E40:F40) -> 0 | H40: =80*(1-(G40-$G$47)/$G$47) -> #DIV/0! | I40: =F52 -> 12 | J40: =H40+I40 -> #DIV/0! | K40: 3
B41: 2 | C41: ='1. Summary of Quotes recieved '!G8 -> SERVICE PROVIDER B | E41: =SUM('1. Summary of Quotes recieved '!G10) -> 0 | F41: =E41*15% -> 0 | G41: =SUM(E41:F41) -> 0 | H41: =80*(1-(G41-$G$47)/$G$47) -> #DIV/0! | I41: =F53 -> 18 | J41: =H41+I41 -> #DIV/0! | K41: 1 | L41: Recommended
B42: 3 | C42: ='1. Summary of Quotes recieved '!H8 -> SERVICE PROVIDER C | E42: =SUM('1. Summary of Quotes recieved '!H10) -> 0 | F42: =E42*15% -> 0 | G42: =SUM(E42:F42) -> 0 | H42: =80*(1-(G42-$G$47)/$G$47) -> #DIV/0! | I42: =F54 -> 18 | J42: =H42+I42 -> #DIV/0! | K42: 2
B43: 4 | C43: ='1. Summary of Quotes recieved '!I8 -> SERVICE PROVIDER D | E43: =SUM('1. Summary of Quotes recieved '!H11) -> 0 | F43: =E43*15% -> 0 | G43: =SUM(E43:F43) -> 0 | H43: =80*(1-(G43-$G$47)/$G$47) -> #DIV/0! | I43: =F55 -> 18 | J43: =H43+I43 -> #DIV/0! | K43: 3
B44: 5 | C44: ='1. Summary of Quotes recieved '!J8 -> SERVICE PROVIDER E | E44: =SUM('1. Summary of Quotes recieved '!H12) -> 0 | F44: =E44*15% -> 0 | G44: =SUM(E44:F44) -> 0 | H44: =80*(1-(G44-$G$47)/$G$47) -> #DIV/0! | I44: =F56 -> 20 | J44: =H44+I44 -> #DIV/0! | K44: 4
B47: RAND VALUE OF LOWEST ACCEPTABLE BID | G47: =SUM(G41) -> 0
B50: No | C50: Company | E50: B-BBEE Status Level | F50: Points awarded | G50: Bidders other than EME's | I50: Bidders who qualify as EME's | O50: Expiry date of certificates submitted
G51: SANAS BVA Number | H51: IRBA Number | I51: Accounting officer Practice Number | J51: SANAS BVA Number | K51: Registered Auditors Practice Number | L51: Sworn Affidavit (Yes) | M51: Total black shareholding (%) | N51: Total black female shareholding (%)
B52: =B40 -> 1 | C52: =$C$40 -> SERVICE PROVIDER A | E52: 4 | F52: =IF(E52=1,$H$63,IF(E52=2,$H$64,IF(E52=3,$H$65,IF(E52=4,$H$66,IF(E52=5,$H$67,IF(E52=6,$H$68,IF(E52=7,$H$69,IF(E52=8,$H$70,0)))))))) -> 12 | J52: BVA 195 | M52: 100 | N52: 0 | O52: 44145
B53: =B41 -> 2 | C53: =$C$41 -> SERVICE PROVIDER B | E53: 2 | F53: =IF(E53=1,$H$63,IF(E53=2,$H$64,IF(E53=3,$H$65,IF(E53=4,$H$66,IF(E53=5,$H$67,IF(E53=6,$H$68,IF(E53=7,$H$69,IF(E53=8,$H$70,0)))))))) -> 18 | L53: Yes | M53: 51 | N53: 0 | O53: 44267
B54: =B42 -> 3 | C54: =$C$42 -> SERVICE PROVIDER C | E54: 2 | F54: =IF(E54=1,$H$63,IF(E54=2,$H$64,IF(E54=3,$H$65,IF(E54=4,$H$66,IF(E54=5,$H$67,IF(E54=6,$H$68,IF(E54=7,$H$69,IF(E54=8,$H$70,0)))))))) -> 18 | L54: Yes | M54: 51 | N54: 0 | O54: 44396
B55: 4 | C55: =$C$43 -> SERVICE PROVIDER D | E55: 2 | F55: =IF(E55=1,$H$63,IF(E55=2,$H$64,IF(E55=3,$H$65,IF(E55=4,$H$66,IF(E55=5,$H$67,IF(E55=6,$H$68,IF(E55=7,$H$69,IF(E55=8,$H$70,0)))))))) -> 18
B56: 5 | C56: =$C$44 -> SERVICE PROVIDER E | E56: 1 | F56: =IF(E56=1,$H$63,IF(E56=2,$H$64,IF(E56=3,$H$65,IF(E56=4,$H$66,IF(E56=5,$H$67,IF(E56=6,$H$68,IF(E56=7,$H$69,IF(E56=8,$H$70,0)))))))) -> 20
B59: TAX COMPLIANT | G59: PREFERENCE POINTS
B62: No | C62: Company | E62: Tax Compliant (Y/N) | G62: B-BBEE Status Level of Contributor | H62: Number of points (80/20 system)
B63: =B40 -> 1 | C63: =$C$40 -> SERVICE PROVIDER A | E63: Yes [08/04/22] | G63: 1 | H63: 20
B64: =B41 -> 2 | C64: =$C$41 -> SERVICE PROVIDER B | E64: Yes [11/05/22] | G64: 2 | H64: 18
B65: =B42 -> 3 | C65: =$C$42 -> SERVICE PROVIDER C | E65: Yes [22/04/22] | G65: 3 | H65: 14
B66: 4 | C66: =$C$43 -> SERVICE PROVIDER D | E66: Yes [11/12/2021] | G66: 4 | H66: 12
B67: 5 | C67: =$C$44 -> SERVICE PROVIDER E | E67: No Certificate | G67: 5 | H67: 8
G68: 6 | H68: 6
G69: 7 | H69: 4
G70: 8 | H70: 2
G71: Non-compliant contributor | H71: 0
B73: MOTIVATION | D73: This RfQ is part of the Provisional Sum Item (B7.1 and B7.3) of tender No. CI-KY-0005/1. The appointed contractor, Revamp Handyman, sent out the RfQ and four (4) quotes was received. Only three (3) quotes are complete and acceptable - SAW Africa [4th quote] did not price all the items specified.
B78: RECOMMENDATION | D78: It is recommended that Fockens Engineering be awarded the works.
B84: Evaluator | G84: Recommended | M84: Approval:
B85: ……………………………………………… | G85: …………………….………………………… | M85: ………………………………………………
B86: Signature | G86: Signature | M86: Signature
B87: Name: ………………………………………. | G87: Name ……………………………………….. | M87: Name ……………………………………….
B88: Date …………………………………….….. | G88: Date ……..………………………………….. | M88: Date ………………………………………..

Sheet 1. Summary of Quotes recieved 
B2: ='RfQ for Fence - VWS'!A2 -> RfQ No: SANParks-0042-11-21
B3: VETERINARY WILDLIFE SERVICES
B4: KIMBERLEY
B5: SUMMARY OF QUOTES FOR PROJECT No: XXXXX
B6: ='RfQ for Fence - VWS'!A3 -> NEW ALLVIEW FENCE FOR VETERINARY WILDLIFE SERVICES, KIMBERLEY
B7: ITEM No. | C7: DESCRIPTION | F7: SERVICE PROVIDERS
F8: ='Quote evaluation - VWS'!H1 -> SERVICE PROVIDER A | G8: ='Quote evaluation - VWS'!J1 -> SERVICE PROVIDER B | H8: ='Quote evaluation - VWS'!L1 -> SERVICE PROVIDER C | I8: ='Quote evaluation - VWS'!N1 -> SERVICE PROVIDER D | J8: ='Quote evaluation - VWS'!P1 -> SERVICE PROVIDER E
B9: 1 | C9: Supply and install a 2.45m high Fence, consisting of 3.050m wide x 2.0m high galvanized ALLVIEW 3510 mesh panels with 3 V-Bends, 4mm Ø (Vert) x 3mm Ø (Hor) tensile wires and 76mm x 12.7mm appetures, fixed to IPE 76mm x 44mm x 3m high posts at 3m centres, with 730mm Ø razor wire BTC Coils above mesh panels fixed to 2 x 3.15/NR10, Full Galvanized wire strands. | F9: =SUM('Quote evaluation - VWS'!I59) -> 0 | G9: =SUM('Quote evaluation - VWS'!K59) -> 0 | H9: =SUM('Quote evaluation - VWS'!M59) -> 0 | I9: =SUM('Quote evaluation - VWS'!O59) -> 0 | J9: =SUM('Quote evaluation - VWS'!Q59) -> 0
E10: SUB-TOTAL : | F10: =SUM(F9:F9) -> 0 | G10: =SUM(G9:G9) -> 0 | H10: =SUM(H9:H9) -> 0 | I10: =SUM(I9:I9) -> 0 | J10: =SUM(J9:J9) -> 0
E11: 15% VAT : | F11: =SUM(F10*15%) -> 0 | G11: =SUM(G10*15%) -> 0 | H11: =SUM(H10*15%) -> 0 | I11: =SUM(I10*15%) -> 0 | J11: =SUM(J10*15%) -> 0
E12: TOTAL : | F12: =SUM(F10:F11) -> 0 | G12: =SUM(G10:G11) -> 0 | H12: =SUM(H10:H11) -> 0 | I12: =SUM(I10:I11) -> 0 | J12: =SUM(J10:J11) -> 0
D14: Addendum A: | E14: B-BBEE Certificate: | F14: Level 2 [23/08/21] | G14: Level 2 [19/07/21] | H14: Level 2 [19/07/21] | I14: Level 2 [19/07/21] | J14: Level 2 [19/07/21]
D15: Addendum B: | E15: Tax Clearance Certificate & Tax Compliant: | F15: Yes [08/04/22] | G15: Yes [14/05/21] | H15: Yes [14/05/21] | I15: Yes [14/05/21] | J15: Yes [14/05/21]
D16: Signed Acknowledgement of OHS Spec: | F16: Yes | G16: Yes | H16: Yes | I16: Yes | J16: Yes
D17: CIDB Registered: | F17: 7ME | G17: 2ME / 2CE | H17: 2ME / 2CE | I17: 2ME / 2CE | J17: 2ME / 2CE
D18: Registered with CSD: | F18: MAAA0492443 | G18: MAAA0101567 | H18: MAAA0101568 | I18: MAAA0101569 | J18: MAAA0101570
E20: QUOTE ACCEPTABLE FOR EVALUATION: | F20: YES / NO | G20: YES / NO | H20: YES / NO | I20: YES / NO | J20: YES / NO
B22: Recommended Service Provider : | E22: =IF(E23=F12,F8,IF(E23=G12,G8,IF(E23=I12,I8,IF(E23=H12,H8,)))) -> SERVICE PROVIDER A
B23: Cost of Project (Incl. 15% VAT) : | E23: =MIN(F12:H12) -> 0
B25: Signature : | I25: Date : | J25: 44102
D27: F Marais
D28: Civil Technician
C35: Supply and install a 2.45m high Fence, consisting of 3.050m wide x 2.0m high galvanized ALLVIEW 3510 mesh panels with 3 V-Bends, 4mm Ø (Vert) x 3mm Ø (Hor) tensile wires and 76mm x 12.7mm appetures, fixed to IPE 76mm x 44mm x 3m high posts at 3m centres, with 730mm Ø razor wire BTC Coils above mesh panels fixed to 2 x 3.15/NR10, Full Galvanized wire strands.

Sheet RfQ for Fence - VWS
A1: APPENDIX - A
A2: RfQ No: SANParks-0042-11-21 | F2: Page 1
A3: NEW ALLVIEW FENCE FOR VETERINARY WILDLIFE SERVICES, KIMBERLEY
A4: ITEM No. | B4: DESCRIPTION | C4: UNIT | D4: QTY | E4: RATE | F4: TOTAL
A6: A. | B6: PRELIMANARY & GENERAL
A8: A.1 | B8: Prelimanary & General for Establishment on and De-establishment off site by Sub-Contractor or Fencing Specialist | C8: Sum | D8: 1 | F8: R
B10: Above item A.1 to include all cost and provisions for -
B11: ● Other fixed-charge obligations (all inclusive)
B12: ● Provision for OHS requirements including COVID-19 Regulations
A14: B. | B14: EARTHWORKS
B16: Excavate in all materials, backfill, compact and dispose "offsite" of all surplus / unsuitable material for:
B17: ● Holes for Support/Corner Post = 0.55m x 0.55m x 0.7m
B18: ● Holes for Normal IPE Post = 0.45m x 0.45m x 0.6m
A20: B.1 | B20: Holes - Support / Corner Posts (x5) | C20: m³ | D20: 1 | F20: R | H20: 5 | I20: =0.55*0.55*0.7 -> 0.21175 | J20: =H20*I20 -> 1.05875
A22: B.2 | B22: Holes - Section 1 (x25) [Sewer Sump Gate to Corner] | C22: m³ | D22: 3.5 | F22: R | H22: 25 | I22: =0.45*0.45*0.6 -> 0.1215 | J22: =H22*I22 -> 3.0375
A24: B.3 | B24: Holes - Section 2 (x20) [Corner to Boma] | C24: m³ | D24: 2.5 | F24: R | H24: 20 | I24: =0.45*0.45*0.6 -> 0.1215 | J24: =H24*I24 -> 2.43
A27: C. | B27: CONCRETE WORKS
B29: Supply of 20/19 MPa concrete
A31: C.1 | B31: Support / Corner Posts (x5) | C31: m³ | D31: 1 | F31: R
A33: C.2 | B33: Section 1 ( x 25) [Sewer Sump Gate to Corner] | C33: m³ | D33: 3.5 | F33: R
A35: C.3 | B35: Section 2 ( x 20) [Corner to Boma] | C35: m³ | D35: 2.5 | F35: R
A38: D. | B38: FENCE
B40: Supply and install a 2.73m high Fence, consisting of 3.0m wide x 2.0m high galvanized ALLVIEW 3510 or Similar mesh panels with 3 V-Bends, 4mm Ø (Vert) x 3mm Ø (Hor) tensile wires and 76mm x 12.7mm appetures, fixed to IPE 76mm x 44mm x 3m high posts at 3m centres, with 730mm Ø razor wire BTC Coils above mesh panels fixed to 2 x 3.15/NR10, Full Galvanized wire strands.
A42: D.1 | B42: Section 1 - Sewer Pump Gate to Corner | C42: m | D42: 90 | F42: R
A44: D.2 | B44: Section 2 - Corner to Boma | C44: m | D44: 75 | F44: R
A47: E. | B47: CORNER POSTS
B49: Supply and install in concrete footing, a Galvanized Steel 100mm x 100mm x 3mm square tubing post with sealed top, with 76mm x 38mm x 3m Channel (economy) fixed to sides of square tubing (to fit application), complete with holes for fixing panels:
A51: E.1 | B51: 3.0m Support Post - straigt (2 x channels) | C51: No. | D51: 3 | F51: R
A53: E.2 | B53: 3.0m Support Post - Corner Option (2 x channels) | C53: No. | D53: 1 | F53: R
A55: E.3 | B55: 3.0m Support Post - T-Option (3 x channels) | C55: No. | D55: 1 | F55: R
B57: Note:
B58: Rate of items E.1 to E.3 above needs to provide for all "long bolts" to accommodate clamps for fixing of 3m panel.
E60: SUB-TOTAL: | F60: R
E61: 15% VAT:
E62: TOTAL CARRIED TO RFQ (p4): | F62: R

Sheet Quote evaluation - VWS
A1: ='RfQ for Fence - VWS'!A2 -> RfQ No: SANParks-0042-11-21 | F1: Page 1 | H1: SERVICE PROVIDER A | J1: SERVICE PROVIDER B | L1: SERVICE PROVIDER C | N1: SERVICE PROVIDER D | P1: SERVICE PROVIDER E
A2: ='RfQ for Fence - VWS'!A3 -> NEW ALLVIEW FENCE FOR VETERINARY WILDLIFE SERVICES, KIMBERLEY
A3: ITEM No. | B3: DESCRIPTION | C3: UNIT | D3: QTY | E3: RATE | F3: TOTAL | H3: RATE | I3: TOTAL | J3: RATE | K3: TOTAL | L3: RATE | M3: TOTAL | N3: RATE | O3: TOTAL | P3: RATE | Q3: TOTAL
A5: A. | B5: PRELIMANARY & GENERAL
A7: A.1 | B7: Prelimanary & General for Establishment on and De-establishment off site by Sub-Contractor or Fencing Specialist | C7: Sum | D7: 1 | F7: R | H7: 0 | I7: =SUM($D7*H7) -> 0 | J7: 0 | K7: =SUM($D7*J7) -> 0 | L7: 0 | M7: =SUM($D7*L7) -> 0 | N7: 0 | O7: =SUM($D7*N7) -> 0 | P7: 0 | Q7: =SUM($D7*P7) -> 0
B9: Above item A.1 to include all cost and provisions for -
B10: ● Other fixed-charge obligations (all inclusive)
B11: ● Provision for OHS requirements including COVID-19 Regulations
A13: B. | B13: EARTHWORKS
B15: Excavate in all materials, backfill, compact and dispose "offsite" of all surplus / unsuitable material for:
B16: ● Holes for Support/Corner Post = 0.55m x 0.55m x 0.7m
B17: ● Holes for Normal IPE Post = 0.45m x 0.45m x 0.6m
A19: B.1 | B19: Holes - Support / Corner Posts (x5) | C19: m³ | D19: 1 | F19: R | H19: 0 | I19: =SUM($D19*H19) -> 0 | J19: 0 | K19: =SUM($D19*J19) -> 0 | L19: 0 | M19: =SUM($D19*L19) -> 0 | N19: 0 | O19: =SUM($D19*N19) -> 0 | P19: 0 | Q19: =SUM($D19*P19) -> 0
A21: B.2 | B21: Holes - Section 1 (x25) [Sewer Sump Gate to Corner] | C21: m³ | D21: 3.5 | F21: R | H21: 0 | I21: =SUM($D21*H21) -> 0 | J21: 0 | K21: =SUM($D21*J21) -> 0 | L21: 0 | M21: =SUM($D21*L21) -> 0 | N21: 0 | O21: =SUM($D21*N21) -> 0 | P21: 0 | Q21: =SUM($D21*P21) -> 0
A23: B.3 | B23: Holes - Section 2 (x20) [Corner to Boma] | C23: m³ | D23: 2.5 | F23: R | H23: 0 | I23: =SUM($D23*H23) -> 0 | J23: 0 | K23: =SUM($D23*J23) -> 0 | L23: 0 | M23: =SUM($D23*L23) -> 0 | N23: 0 | O23: =SUM($D23*N23) -> 0 | P23: 0 | Q23: =SUM($D23*P23) -> 0
A26: C. | B26: CONCRETE WORKS
B28: Supply of 20/19 MPa concrete
A30: C.1 | B30: Support / Corner Posts (x5) | C30: m³ | D30: 1 | F30: R | H30: 0 | I30: =SUM($D30*H30) -> 0 | J30: 0 | K30: =SUM($D30*J30) -> 0 | L30: 0 | M30: =SUM($D30*L30) -> 0 | N30: 0 | O30: =SUM($D30*N30) -> 0 | P30: 0 | Q30: =SUM($D30*P30) -> 0
A32: C.2 | B32: Section 1 (x25) [Sewer Sump Gate to Corner] | C32: m³ | D32: 3.5 | F32: R | H32: 0 | I32: =SUM($D32*H32) -> 0 | J32: 0 | K32: =SUM($D32*J32) -> 0 | L32: 0 | M32: =SUM($D32*L32) -> 0 | N32: 0 | O32: =SUM($D32*N32) -> 0 | P32: 0 | Q32: =SUM($D32*P32) -> 0
A34: C.3 | B34: Section 2 (x20) [Corner to Boma] | C34: m³ | D34: 2.5 | F34: R | H34: 0 | I34: =SUM($D34*H34) -> 0 | J34: 0 | K34: =SUM($D34*J34) -> 0 | L34: 0 | M34: =SUM($D34*L34) -> 0 | N34: 0 | O34: =SUM($D34*N34) -> 0 | P34: 0 | Q34: =SUM($D34*P34) -> 0
A37: D. | B37: FENCE
B39: Supply and install a 2.73m high Fence, consisting of 3.0m wide x 2.0m high galvanized ALLVIEW 3510 mesh panels with 3 V-Bends, 4mm Ø (Vert) x 3mm Ø (Hor) tensile wires and 76mm x 12.7mm appetures, fixed to IPE 76mm x 44mm x 3m high posts at 3m centres, with 730mm Ø razor wire BTC Coils above mesh panels fixed to 2 x 3.15/NR10, Full Galvanized wire strands.
A41: D.1 | B41: Section 1 - Sewer Pump Gate to Corner | C41: m | D41: 87 | F41: R | H41: 0 | I41: =SUM($D41*H41) -> 0 | J41: 0 | K41: =SUM($D41*J41) -> 0 | L41: 0 | M41: =SUM($D41*L41) -> 0 | N41: 0 | O41: =SUM($D41*N41) -> 0 | P41: 0 | Q41: =SUM($D41*P41) -> 0
A43: D.2 | B43: Section 2 - Corner to Boma | C43: m | D43: 75 | F43: R | H43: 0 | I43: =SUM($D43*H43) -> 0 | J43: 0 | K43: =SUM($D43*J43) -> 0 | L43: 0 | M43: =SUM($D43*L43) -> 0 | N43: 0 | O43: =SUM($D43*N43) -> 0 | P43: 0 | Q43: =SUM($D43*P43) -> 0
A46: E. | B46: SUPPORT POSTS
B48: Supply and install in concrete footing, a Galvanized Steel 100mm x 100mm x 3mm square tubing post with sealed top, with 76mm x 38mm x 3m Channel (economy) fixed to sides of square tubing (to fit application), complete with holes for fixing panels:
A50: E.1 | B50: 3.0m Support Post - straigt (2 x channels) | C50: No. | D50: 3 | F50: R | H50: 0 | I50: =SUM($D50*H50) -> 0 | J50: 0 | K50: =SUM($D50*J50) -> 0 | L50: 0 | M50: =SUM($D50*L50) -> 0 | N50: 0 | O50: =SUM($D50*N50) -> 0 | P50: 0 | Q50: =SUM($D50*P50) -> 0
A52: E.2 | B52: 3.0m Support Post - Corner Option (2 x channels) | C52: No. | D52: 1 | F52: R | H52: 0 | I52: =SUM($D52*H52) -> 0 | J52: 0 | K52: =SUM($D52*J52) -> 0 | L52: 0 | M52: =SUM($D52*L52) -> 0 | N52: 0 | O52: =SUM($D52*N52) -> 0 | P52: 0 | Q52: =SUM($D52*P52) -> 0
A54: E.3 | B54: 3.0m Support Post - T-Option (3 x channels) | C54: No. | D54: 1 | F54: R | H54: 0 | I54: =SUM($D54*H54) -> 0 | J54: 0 | K54: =SUM($D54*J54) -> 0 | L54: 0 | M54: =SUM($D54*L54) -> 0 | N54: 0 | O54: =SUM($D54*N54) -> 0 | P54: 0 | Q54: =SUM($D54*P54) -> 0
B56: Note:
B57: Rate of items E.1 to E.3 above needs to provide for all "long bolts" to accommodate clamps for fixing of 3m panel.
D59: SUB-TOTAL: | E59: SUB-TOTAL: | F59: R | I59: R | K59: R | M59: R | O59: R | Q59: R
D60: 15% VAT: | E60: 15% VAT:
D61: TOTAL CARRIED TO RFQ (p4): | E61: TOTAL CARRIED TO RFQ (p4): | F61: R | I61: R | K61: R | M61: R | O61: R | Q61: R
